


BEGIN:VCALENDAR
VERSION:2.0
PRODID:-//MC-CHOICE - ECPv6.15.12.2//NONSGML v1.0//EN
CALSCALE:GREGORIAN
METHOD:PUBLISH
X-WR-CALNAME:MC-CHOICE
X-ORIGINAL-URL:https://mc-choice.countyofmonterey.gov
X-WR-CALDESC:Events for MC-CHOICE
REFRESH-INTERVAL;VALUE=DURATION:PT1H
X-Robots-Tag:noindex
X-PUBLISHED-TTL:PT1H
BEGIN:VTIMEZONE
TZID:America/Los_Angeles
BEGIN:DAYLIGHT
TZOFFSETFROM:-0800
TZOFFSETTO:-0700
TZNAME:PDT
DTSTART:20260308T100000
END:DAYLIGHT
BEGIN:STANDARD
TZOFFSETFROM:-0700
TZOFFSETTO:-0800
TZNAME:PST
DTSTART:20261101T090000
END:STANDARD
BEGIN:DAYLIGHT
TZOFFSETFROM:-0800
TZOFFSETTO:-0700
TZNAME:PDT
DTSTART:20270314T100000
END:DAYLIGHT
BEGIN:STANDARD
TZOFFSETFROM:-0700
TZOFFSETTO:-0800
TZNAME:PST
DTSTART:20271107T090000
END:STANDARD
BEGIN:DAYLIGHT
TZOFFSETFROM:-0800
TZOFFSETTO:-0700
TZNAME:PDT
DTSTART:20280312T100000
END:DAYLIGHT
BEGIN:STANDARD
TZOFFSETFROM:-0700
TZOFFSETTO:-0800
TZNAME:PST
DTSTART:20281105T090000
END:STANDARD
END:VTIMEZONE
BEGIN:VEVENT
DTSTART;TZID=America/Los_Angeles:20270525T090000
DTEND;TZID=America/Los_Angeles:20270525T160000
DTSTAMP:20260420T193410
CREATED:20251215T230629Z
LAST-MODIFIED:20260316T175115Z
UID:10001127-1811235600-1811260800@mc-choice.countyofmonterey.gov
SUMMARY:MC-CHOICE Unit
DESCRIPTION:
URL:https://mc-choice.countyofmonterey.gov/event/mc-choice-unit-every-tuesday/2027-05-25/
LOCATION:MC-CHOICE Unit\, Soledad WIC 355 Gabilan Dr\, Soledad\, CA\, 93960
CATEGORIES:Outreach
END:VEVENT
BEGIN:VEVENT
DTSTART;TZID=America/Los_Angeles:20270520T090000
DTEND;TZID=America/Los_Angeles:20270520T160000
DTSTAMP:20260420T193410
CREATED:20260203T194318Z
LAST-MODIFIED:20260316T184846Z
UID:10000865-1810803600-1810828800@mc-choice.countyofmonterey.gov
SUMMARY:MC-CHOICE Unit
DESCRIPTION:
URL:https://mc-choice.countyofmonterey.gov/event/mc-choice-unit/2027-05-20/
LOCATION:La Manzana Community Resource Center\, 521 Main St Suite Y\, Watsonville\, CA\, 95076
END:VEVENT
BEGIN:VEVENT
DTSTART;TZID=America/Los_Angeles:20270519T090000
DTEND;TZID=America/Los_Angeles:20270519T160000
DTSTAMP:20260420T193410
CREATED:20251215T230936Z
LAST-MODIFIED:20260316T175014Z
UID:10000604-1810717200-1810742400@mc-choice.countyofmonterey.gov
SUMMARY:MC-CHOICE Unit
DESCRIPTION:
URL:https://mc-choice.countyofmonterey.gov/event/mc-choice-unit-every-wednesday/2027-05-19/
LOCATION:MC-CHOICE Unit\, WIC Office 632 E. Alisal St\, Salinas\, CA\, 93905
CATEGORIES:Outreach
END:VEVENT
BEGIN:VEVENT
DTSTART;TZID=America/Los_Angeles:20270518T090000
DTEND;TZID=America/Los_Angeles:20270518T160000
DTSTAMP:20260420T193410
CREATED:20251215T230629Z
LAST-MODIFIED:20260316T175115Z
UID:10001126-1810630800-1810656000@mc-choice.countyofmonterey.gov
SUMMARY:MC-CHOICE Unit
DESCRIPTION:
URL:https://mc-choice.countyofmonterey.gov/event/mc-choice-unit-every-tuesday/2027-05-18/
LOCATION:MC-CHOICE Unit\, Soledad WIC 355 Gabilan Dr\, Soledad\, CA\, 93960
CATEGORIES:Outreach
END:VEVENT
BEGIN:VEVENT
DTSTART;TZID=America/Los_Angeles:20270513T090000
DTEND;TZID=America/Los_Angeles:20270513T160000
DTSTAMP:20260420T193410
CREATED:20260203T194318Z
LAST-MODIFIED:20260316T184846Z
UID:10000864-1810198800-1810224000@mc-choice.countyofmonterey.gov
SUMMARY:MC-CHOICE Unit
DESCRIPTION:
URL:https://mc-choice.countyofmonterey.gov/event/mc-choice-unit/2027-05-13/
LOCATION:La Manzana Community Resource Center\, 521 Main St Suite Y\, Watsonville\, CA\, 95076
END:VEVENT
BEGIN:VEVENT
DTSTART;TZID=America/Los_Angeles:20270512T090000
DTEND;TZID=America/Los_Angeles:20270512T160000
DTSTAMP:20260420T193410
CREATED:20251215T230936Z
LAST-MODIFIED:20260316T175014Z
UID:10000603-1810112400-1810137600@mc-choice.countyofmonterey.gov
SUMMARY:MC-CHOICE Unit
DESCRIPTION:
URL:https://mc-choice.countyofmonterey.gov/event/mc-choice-unit-every-wednesday/2027-05-12/
LOCATION:MC-CHOICE Unit\, WIC Office 632 E. Alisal St\, Salinas\, CA\, 93905
CATEGORIES:Outreach
END:VEVENT
BEGIN:VEVENT
DTSTART;TZID=America/Los_Angeles:20270511T090000
DTEND;TZID=America/Los_Angeles:20270511T160000
DTSTAMP:20260420T193410
CREATED:20251215T230629Z
LAST-MODIFIED:20260316T175115Z
UID:10001125-1810026000-1810051200@mc-choice.countyofmonterey.gov
SUMMARY:MC-CHOICE Unit
DESCRIPTION:
URL:https://mc-choice.countyofmonterey.gov/event/mc-choice-unit-every-tuesday/2027-05-11/
LOCATION:MC-CHOICE Unit\, Soledad WIC 355 Gabilan Dr\, Soledad\, CA\, 93960
CATEGORIES:Outreach
END:VEVENT
BEGIN:VEVENT
DTSTART;TZID=America/Los_Angeles:20270506T090000
DTEND;TZID=America/Los_Angeles:20270506T160000
DTSTAMP:20260420T193410
CREATED:20260203T194318Z
LAST-MODIFIED:20260316T184846Z
UID:10000863-1809594000-1809619200@mc-choice.countyofmonterey.gov
SUMMARY:MC-CHOICE Unit
DESCRIPTION:
URL:https://mc-choice.countyofmonterey.gov/event/mc-choice-unit/2027-05-06/
LOCATION:La Manzana Community Resource Center\, 521 Main St Suite Y\, Watsonville\, CA\, 95076
END:VEVENT
BEGIN:VEVENT
DTSTART;TZID=America/Los_Angeles:20270505T090000
DTEND;TZID=America/Los_Angeles:20270505T160000
DTSTAMP:20260420T193410
CREATED:20251215T230936Z
LAST-MODIFIED:20260316T175014Z
UID:10000602-1809507600-1809532800@mc-choice.countyofmonterey.gov
SUMMARY:MC-CHOICE Unit
DESCRIPTION:
URL:https://mc-choice.countyofmonterey.gov/event/mc-choice-unit-every-wednesday/2027-05-05/
LOCATION:MC-CHOICE Unit\, WIC Office 632 E. Alisal St\, Salinas\, CA\, 93905
CATEGORIES:Outreach
END:VEVENT
BEGIN:VEVENT
DTSTART;TZID=America/Los_Angeles:20270504T090000
DTEND;TZID=America/Los_Angeles:20270504T160000
DTSTAMP:20260420T193410
CREATED:20251215T230629Z
LAST-MODIFIED:20260316T175115Z
UID:10001124-1809421200-1809446400@mc-choice.countyofmonterey.gov
SUMMARY:MC-CHOICE Unit
DESCRIPTION:
URL:https://mc-choice.countyofmonterey.gov/event/mc-choice-unit-every-tuesday/2027-05-04/
LOCATION:MC-CHOICE Unit\, Soledad WIC 355 Gabilan Dr\, Soledad\, CA\, 93960
CATEGORIES:Outreach
END:VEVENT
BEGIN:VEVENT
DTSTART;TZID=America/Los_Angeles:20270429T090000
DTEND;TZID=America/Los_Angeles:20270429T160000
DTSTAMP:20260420T193410
CREATED:20260203T194318Z
LAST-MODIFIED:20260316T184846Z
UID:10000862-1808989200-1809014400@mc-choice.countyofmonterey.gov
SUMMARY:MC-CHOICE Unit
DESCRIPTION:
URL:https://mc-choice.countyofmonterey.gov/event/mc-choice-unit/2027-04-29/
LOCATION:La Manzana Community Resource Center\, 521 Main St Suite Y\, Watsonville\, CA\, 95076
END:VEVENT
BEGIN:VEVENT
DTSTART;TZID=America/Los_Angeles:20270428T090000
DTEND;TZID=America/Los_Angeles:20270428T160000
DTSTAMP:20260420T193410
CREATED:20251215T230936Z
LAST-MODIFIED:20260316T175014Z
UID:10000601-1808902800-1808928000@mc-choice.countyofmonterey.gov
SUMMARY:MC-CHOICE Unit
DESCRIPTION:
URL:https://mc-choice.countyofmonterey.gov/event/mc-choice-unit-every-wednesday/2027-04-28/
LOCATION:MC-CHOICE Unit\, WIC Office 632 E. Alisal St\, Salinas\, CA\, 93905
CATEGORIES:Outreach
END:VEVENT
BEGIN:VEVENT
DTSTART;TZID=America/Los_Angeles:20270427T090000
DTEND;TZID=America/Los_Angeles:20270427T160000
DTSTAMP:20260420T193410
CREATED:20251215T230629Z
LAST-MODIFIED:20260316T175115Z
UID:10001123-1808816400-1808841600@mc-choice.countyofmonterey.gov
SUMMARY:MC-CHOICE Unit
DESCRIPTION:
URL:https://mc-choice.countyofmonterey.gov/event/mc-choice-unit-every-tuesday/2027-04-27/
LOCATION:MC-CHOICE Unit\, Soledad WIC 355 Gabilan Dr\, Soledad\, CA\, 93960
CATEGORIES:Outreach
END:VEVENT
BEGIN:VEVENT
DTSTART;TZID=America/Los_Angeles:20270422T090000
DTEND;TZID=America/Los_Angeles:20270422T160000
DTSTAMP:20260420T193410
CREATED:20260203T194318Z
LAST-MODIFIED:20260316T184846Z
UID:10000861-1808384400-1808409600@mc-choice.countyofmonterey.gov
SUMMARY:MC-CHOICE Unit
DESCRIPTION:
URL:https://mc-choice.countyofmonterey.gov/event/mc-choice-unit/2027-04-22/
LOCATION:La Manzana Community Resource Center\, 521 Main St Suite Y\, Watsonville\, CA\, 95076
END:VEVENT
BEGIN:VEVENT
DTSTART;TZID=America/Los_Angeles:20270421T090000
DTEND;TZID=America/Los_Angeles:20270421T160000
DTSTAMP:20260420T193410
CREATED:20251215T230936Z
LAST-MODIFIED:20260316T175014Z
UID:10000600-1808298000-1808323200@mc-choice.countyofmonterey.gov
SUMMARY:MC-CHOICE Unit
DESCRIPTION:
URL:https://mc-choice.countyofmonterey.gov/event/mc-choice-unit-every-wednesday/2027-04-21/
LOCATION:MC-CHOICE Unit\, WIC Office 632 E. Alisal St\, Salinas\, CA\, 93905
CATEGORIES:Outreach
END:VEVENT
BEGIN:VEVENT
DTSTART;TZID=America/Los_Angeles:20270420T090000
DTEND;TZID=America/Los_Angeles:20270420T160000
DTSTAMP:20260420T193410
CREATED:20251215T230629Z
LAST-MODIFIED:20260316T175115Z
UID:10001122-1808211600-1808236800@mc-choice.countyofmonterey.gov
SUMMARY:MC-CHOICE Unit
DESCRIPTION:
URL:https://mc-choice.countyofmonterey.gov/event/mc-choice-unit-every-tuesday/2027-04-20/
LOCATION:MC-CHOICE Unit\, Soledad WIC 355 Gabilan Dr\, Soledad\, CA\, 93960
CATEGORIES:Outreach
END:VEVENT
BEGIN:VEVENT
DTSTART;TZID=America/Los_Angeles:20270415T090000
DTEND;TZID=America/Los_Angeles:20270415T160000
DTSTAMP:20260420T193410
CREATED:20260203T194318Z
LAST-MODIFIED:20260316T184846Z
UID:10000860-1807779600-1807804800@mc-choice.countyofmonterey.gov
SUMMARY:MC-CHOICE Unit
DESCRIPTION:
URL:https://mc-choice.countyofmonterey.gov/event/mc-choice-unit/2027-04-15/
LOCATION:La Manzana Community Resource Center\, 521 Main St Suite Y\, Watsonville\, CA\, 95076
END:VEVENT
BEGIN:VEVENT
DTSTART;TZID=America/Los_Angeles:20270414T090000
DTEND;TZID=America/Los_Angeles:20270414T160000
DTSTAMP:20260420T193410
CREATED:20251215T230936Z
LAST-MODIFIED:20260316T175014Z
UID:10000599-1807693200-1807718400@mc-choice.countyofmonterey.gov
SUMMARY:MC-CHOICE Unit
DESCRIPTION:
URL:https://mc-choice.countyofmonterey.gov/event/mc-choice-unit-every-wednesday/2027-04-14/
LOCATION:MC-CHOICE Unit\, WIC Office 632 E. Alisal St\, Salinas\, CA\, 93905
CATEGORIES:Outreach
END:VEVENT
BEGIN:VEVENT
DTSTART;TZID=America/Los_Angeles:20270413T090000
DTEND;TZID=America/Los_Angeles:20270413T160000
DTSTAMP:20260420T193410
CREATED:20251215T230629Z
LAST-MODIFIED:20260316T175115Z
UID:10001121-1807606800-1807632000@mc-choice.countyofmonterey.gov
SUMMARY:MC-CHOICE Unit
DESCRIPTION:
URL:https://mc-choice.countyofmonterey.gov/event/mc-choice-unit-every-tuesday/2027-04-13/
LOCATION:MC-CHOICE Unit\, Soledad WIC 355 Gabilan Dr\, Soledad\, CA\, 93960
CATEGORIES:Outreach
END:VEVENT
BEGIN:VEVENT
DTSTART;TZID=America/Los_Angeles:20270408T090000
DTEND;TZID=America/Los_Angeles:20270408T160000
DTSTAMP:20260420T193410
CREATED:20260203T194318Z
LAST-MODIFIED:20260316T184846Z
UID:10000859-1807174800-1807200000@mc-choice.countyofmonterey.gov
SUMMARY:MC-CHOICE Unit
DESCRIPTION:
URL:https://mc-choice.countyofmonterey.gov/event/mc-choice-unit/2027-04-08/
LOCATION:La Manzana Community Resource Center\, 521 Main St Suite Y\, Watsonville\, CA\, 95076
END:VEVENT
BEGIN:VEVENT
DTSTART;TZID=America/Los_Angeles:20270407T090000
DTEND;TZID=America/Los_Angeles:20270407T160000
DTSTAMP:20260420T193410
CREATED:20251215T230936Z
LAST-MODIFIED:20260316T175014Z
UID:10000598-1807088400-1807113600@mc-choice.countyofmonterey.gov
SUMMARY:MC-CHOICE Unit
DESCRIPTION:
URL:https://mc-choice.countyofmonterey.gov/event/mc-choice-unit-every-wednesday/2027-04-07/
LOCATION:MC-CHOICE Unit\, WIC Office 632 E. Alisal St\, Salinas\, CA\, 93905
CATEGORIES:Outreach
END:VEVENT
BEGIN:VEVENT
DTSTART;TZID=America/Los_Angeles:20270406T090000
DTEND;TZID=America/Los_Angeles:20270406T160000
DTSTAMP:20260420T193410
CREATED:20251215T230629Z
LAST-MODIFIED:20260316T175115Z
UID:10001120-1807002000-1807027200@mc-choice.countyofmonterey.gov
SUMMARY:MC-CHOICE Unit
DESCRIPTION:
URL:https://mc-choice.countyofmonterey.gov/event/mc-choice-unit-every-tuesday/2027-04-06/
LOCATION:MC-CHOICE Unit\, Soledad WIC 355 Gabilan Dr\, Soledad\, CA\, 93960
CATEGORIES:Outreach
END:VEVENT
BEGIN:VEVENT
DTSTART;TZID=America/Los_Angeles:20270401T090000
DTEND;TZID=America/Los_Angeles:20270401T160000
DTSTAMP:20260420T193410
CREATED:20260203T194318Z
LAST-MODIFIED:20260316T184846Z
UID:10000858-1806570000-1806595200@mc-choice.countyofmonterey.gov
SUMMARY:MC-CHOICE Unit
DESCRIPTION:
URL:https://mc-choice.countyofmonterey.gov/event/mc-choice-unit/2027-04-01/
LOCATION:La Manzana Community Resource Center\, 521 Main St Suite Y\, Watsonville\, CA\, 95076
END:VEVENT
BEGIN:VEVENT
DTSTART;TZID=America/Los_Angeles:20270331T090000
DTEND;TZID=America/Los_Angeles:20270331T160000
DTSTAMP:20260420T193410
CREATED:20251215T230936Z
LAST-MODIFIED:20260316T175014Z
UID:10000597-1806483600-1806508800@mc-choice.countyofmonterey.gov
SUMMARY:MC-CHOICE Unit
DESCRIPTION:
URL:https://mc-choice.countyofmonterey.gov/event/mc-choice-unit-every-wednesday/2027-03-31/
LOCATION:MC-CHOICE Unit\, WIC Office 632 E. Alisal St\, Salinas\, CA\, 93905
CATEGORIES:Outreach
END:VEVENT
BEGIN:VEVENT
DTSTART;TZID=America/Los_Angeles:20270330T090000
DTEND;TZID=America/Los_Angeles:20270330T160000
DTSTAMP:20260420T193410
CREATED:20251215T230629Z
LAST-MODIFIED:20260316T175115Z
UID:10001119-1806397200-1806422400@mc-choice.countyofmonterey.gov
SUMMARY:MC-CHOICE Unit
DESCRIPTION:
URL:https://mc-choice.countyofmonterey.gov/event/mc-choice-unit-every-tuesday/2027-03-30/
LOCATION:MC-CHOICE Unit\, Soledad WIC 355 Gabilan Dr\, Soledad\, CA\, 93960
CATEGORIES:Outreach
END:VEVENT
BEGIN:VEVENT
DTSTART;TZID=America/Los_Angeles:20270325T090000
DTEND;TZID=America/Los_Angeles:20270325T160000
DTSTAMP:20260420T193410
CREATED:20260203T194318Z
LAST-MODIFIED:20260316T184846Z
UID:10000857-1805965200-1805990400@mc-choice.countyofmonterey.gov
SUMMARY:MC-CHOICE Unit
DESCRIPTION:
URL:https://mc-choice.countyofmonterey.gov/event/mc-choice-unit/2027-03-25/
LOCATION:La Manzana Community Resource Center\, 521 Main St Suite Y\, Watsonville\, CA\, 95076
END:VEVENT
BEGIN:VEVENT
DTSTART;TZID=America/Los_Angeles:20270324T090000
DTEND;TZID=America/Los_Angeles:20270324T160000
DTSTAMP:20260420T193410
CREATED:20251215T230936Z
LAST-MODIFIED:20260316T175014Z
UID:10000596-1805878800-1805904000@mc-choice.countyofmonterey.gov
SUMMARY:MC-CHOICE Unit
DESCRIPTION:
URL:https://mc-choice.countyofmonterey.gov/event/mc-choice-unit-every-wednesday/2027-03-24/
LOCATION:MC-CHOICE Unit\, WIC Office 632 E. Alisal St\, Salinas\, CA\, 93905
CATEGORIES:Outreach
END:VEVENT
BEGIN:VEVENT
DTSTART;TZID=America/Los_Angeles:20270323T090000
DTEND;TZID=America/Los_Angeles:20270323T160000
DTSTAMP:20260420T193410
CREATED:20251215T230629Z
LAST-MODIFIED:20260316T175115Z
UID:10001118-1805792400-1805817600@mc-choice.countyofmonterey.gov
SUMMARY:MC-CHOICE Unit
DESCRIPTION:
URL:https://mc-choice.countyofmonterey.gov/event/mc-choice-unit-every-tuesday/2027-03-23/
LOCATION:MC-CHOICE Unit\, Soledad WIC 355 Gabilan Dr\, Soledad\, CA\, 93960
CATEGORIES:Outreach
END:VEVENT
BEGIN:VEVENT
DTSTART;TZID=America/Los_Angeles:20270318T090000
DTEND;TZID=America/Los_Angeles:20270318T160000
DTSTAMP:20260420T193410
CREATED:20260203T194318Z
LAST-MODIFIED:20260316T184846Z
UID:10000856-1805360400-1805385600@mc-choice.countyofmonterey.gov
SUMMARY:MC-CHOICE Unit
DESCRIPTION:
URL:https://mc-choice.countyofmonterey.gov/event/mc-choice-unit/2027-03-18/
LOCATION:La Manzana Community Resource Center\, 521 Main St Suite Y\, Watsonville\, CA\, 95076
END:VEVENT
BEGIN:VEVENT
DTSTART;TZID=America/Los_Angeles:20270317T090000
DTEND;TZID=America/Los_Angeles:20270317T160000
DTSTAMP:20260420T193410
CREATED:20251215T230936Z
LAST-MODIFIED:20260316T175014Z
UID:10000595-1805274000-1805299200@mc-choice.countyofmonterey.gov
SUMMARY:MC-CHOICE Unit
DESCRIPTION:
URL:https://mc-choice.countyofmonterey.gov/event/mc-choice-unit-every-wednesday/2027-03-17/
LOCATION:MC-CHOICE Unit\, WIC Office 632 E. Alisal St\, Salinas\, CA\, 93905
CATEGORIES:Outreach
END:VEVENT
END:VCALENDAR