


BEGIN:VCALENDAR
VERSION:2.0
PRODID:-//MC-CHOICE - ECPv6.15.12.2//NONSGML v1.0//EN
CALSCALE:GREGORIAN
METHOD:PUBLISH
X-WR-CALNAME:MC-CHOICE
X-ORIGINAL-URL:https://mc-choice.countyofmonterey.gov
X-WR-CALDESC:Events for MC-CHOICE
REFRESH-INTERVAL;VALUE=DURATION:PT1H
X-Robots-Tag:noindex
X-PUBLISHED-TTL:PT1H
BEGIN:VTIMEZONE
TZID:America/Los_Angeles
BEGIN:DAYLIGHT
TZOFFSETFROM:-0800
TZOFFSETTO:-0700
TZNAME:PDT
DTSTART:20250309T100000
END:DAYLIGHT
BEGIN:STANDARD
TZOFFSETFROM:-0700
TZOFFSETTO:-0800
TZNAME:PST
DTSTART:20251102T090000
END:STANDARD
BEGIN:DAYLIGHT
TZOFFSETFROM:-0800
TZOFFSETTO:-0700
TZNAME:PDT
DTSTART:20260308T100000
END:DAYLIGHT
BEGIN:STANDARD
TZOFFSETFROM:-0700
TZOFFSETTO:-0800
TZNAME:PST
DTSTART:20261101T090000
END:STANDARD
BEGIN:DAYLIGHT
TZOFFSETFROM:-0800
TZOFFSETTO:-0700
TZNAME:PDT
DTSTART:20270314T100000
END:DAYLIGHT
BEGIN:STANDARD
TZOFFSETFROM:-0700
TZOFFSETTO:-0800
TZNAME:PST
DTSTART:20271107T090000
END:STANDARD
BEGIN:DAYLIGHT
TZOFFSETFROM:-0800
TZOFFSETTO:-0700
TZNAME:PDT
DTSTART:20280312T100000
END:DAYLIGHT
BEGIN:STANDARD
TZOFFSETFROM:-0700
TZOFFSETTO:-0800
TZNAME:PST
DTSTART:20281105T090000
END:STANDARD
END:VTIMEZONE
BEGIN:VEVENT
DTSTART;TZID=America/Los_Angeles:20270225T090000
DTEND;TZID=America/Los_Angeles:20270225T160000
DTSTAMP:20260420T212350
CREATED:20260203T194318Z
LAST-MODIFIED:20260316T184846Z
UID:10000853-1803546000-1803571200@mc-choice.countyofmonterey.gov
SUMMARY:MC-CHOICE Unit
DESCRIPTION:
URL:https://mc-choice.countyofmonterey.gov/event/mc-choice-unit/2027-02-25/
LOCATION:La Manzana Community Resource Center\, 521 Main St Suite Y\, Watsonville\, CA\, 95076
END:VEVENT
BEGIN:VEVENT
DTSTART;TZID=America/Los_Angeles:20270224T090000
DTEND;TZID=America/Los_Angeles:20270224T160000
DTSTAMP:20260420T212350
CREATED:20251215T230936Z
LAST-MODIFIED:20260316T175014Z
UID:10000592-1803459600-1803484800@mc-choice.countyofmonterey.gov
SUMMARY:MC-CHOICE Unit
DESCRIPTION:
URL:https://mc-choice.countyofmonterey.gov/event/mc-choice-unit-every-wednesday/2027-02-24/
LOCATION:MC-CHOICE Unit\, WIC Office 632 E. Alisal St\, Salinas\, CA\, 93905
CATEGORIES:Outreach
END:VEVENT
BEGIN:VEVENT
DTSTART;TZID=America/Los_Angeles:20270223T090000
DTEND;TZID=America/Los_Angeles:20270223T160000
DTSTAMP:20260420T212350
CREATED:20251215T230629Z
LAST-MODIFIED:20260316T175115Z
UID:10001114-1803373200-1803398400@mc-choice.countyofmonterey.gov
SUMMARY:MC-CHOICE Unit
DESCRIPTION:
URL:https://mc-choice.countyofmonterey.gov/event/mc-choice-unit-every-tuesday/2027-02-23/
LOCATION:MC-CHOICE Unit\, Soledad WIC 355 Gabilan Dr\, Soledad\, CA\, 93960
CATEGORIES:Outreach
END:VEVENT
BEGIN:VEVENT
DTSTART;TZID=America/Los_Angeles:20270218T090000
DTEND;TZID=America/Los_Angeles:20270218T160000
DTSTAMP:20260420T212350
CREATED:20260203T194318Z
LAST-MODIFIED:20260316T184846Z
UID:10000852-1802941200-1802966400@mc-choice.countyofmonterey.gov
SUMMARY:MC-CHOICE Unit
DESCRIPTION:
URL:https://mc-choice.countyofmonterey.gov/event/mc-choice-unit/2027-02-18/
LOCATION:La Manzana Community Resource Center\, 521 Main St Suite Y\, Watsonville\, CA\, 95076
END:VEVENT
BEGIN:VEVENT
DTSTART;TZID=America/Los_Angeles:20270217T090000
DTEND;TZID=America/Los_Angeles:20270217T160000
DTSTAMP:20260420T212350
CREATED:20251215T230936Z
LAST-MODIFIED:20260316T175014Z
UID:10000591-1802854800-1802880000@mc-choice.countyofmonterey.gov
SUMMARY:MC-CHOICE Unit
DESCRIPTION:
URL:https://mc-choice.countyofmonterey.gov/event/mc-choice-unit-every-wednesday/2027-02-17/
LOCATION:MC-CHOICE Unit\, WIC Office 632 E. Alisal St\, Salinas\, CA\, 93905
CATEGORIES:Outreach
END:VEVENT
BEGIN:VEVENT
DTSTART;TZID=America/Los_Angeles:20270216T090000
DTEND;TZID=America/Los_Angeles:20270216T160000
DTSTAMP:20260420T212350
CREATED:20251215T230629Z
LAST-MODIFIED:20260316T175115Z
UID:10001113-1802768400-1802793600@mc-choice.countyofmonterey.gov
SUMMARY:MC-CHOICE Unit
DESCRIPTION:
URL:https://mc-choice.countyofmonterey.gov/event/mc-choice-unit-every-tuesday/2027-02-16/
LOCATION:MC-CHOICE Unit\, Soledad WIC 355 Gabilan Dr\, Soledad\, CA\, 93960
CATEGORIES:Outreach
END:VEVENT
BEGIN:VEVENT
DTSTART;TZID=America/Los_Angeles:20270211T090000
DTEND;TZID=America/Los_Angeles:20270211T160000
DTSTAMP:20260420T212350
CREATED:20260203T194318Z
LAST-MODIFIED:20260316T184846Z
UID:10000851-1802336400-1802361600@mc-choice.countyofmonterey.gov
SUMMARY:MC-CHOICE Unit
DESCRIPTION:
URL:https://mc-choice.countyofmonterey.gov/event/mc-choice-unit/2027-02-11/
LOCATION:La Manzana Community Resource Center\, 521 Main St Suite Y\, Watsonville\, CA\, 95076
END:VEVENT
BEGIN:VEVENT
DTSTART;TZID=America/Los_Angeles:20270210T090000
DTEND;TZID=America/Los_Angeles:20270210T160000
DTSTAMP:20260420T212350
CREATED:20251215T230936Z
LAST-MODIFIED:20260316T175014Z
UID:10000590-1802250000-1802275200@mc-choice.countyofmonterey.gov
SUMMARY:MC-CHOICE Unit
DESCRIPTION:
URL:https://mc-choice.countyofmonterey.gov/event/mc-choice-unit-every-wednesday/2027-02-10/
LOCATION:MC-CHOICE Unit\, WIC Office 632 E. Alisal St\, Salinas\, CA\, 93905
CATEGORIES:Outreach
END:VEVENT
BEGIN:VEVENT
DTSTART;TZID=America/Los_Angeles:20270209T090000
DTEND;TZID=America/Los_Angeles:20270209T160000
DTSTAMP:20260420T212350
CREATED:20251215T230629Z
LAST-MODIFIED:20260316T175115Z
UID:10001112-1802163600-1802188800@mc-choice.countyofmonterey.gov
SUMMARY:MC-CHOICE Unit
DESCRIPTION:
URL:https://mc-choice.countyofmonterey.gov/event/mc-choice-unit-every-tuesday/2027-02-09/
LOCATION:MC-CHOICE Unit\, Soledad WIC 355 Gabilan Dr\, Soledad\, CA\, 93960
CATEGORIES:Outreach
END:VEVENT
BEGIN:VEVENT
DTSTART;TZID=America/Los_Angeles:20270204T090000
DTEND;TZID=America/Los_Angeles:20270204T160000
DTSTAMP:20260420T212350
CREATED:20260203T194318Z
LAST-MODIFIED:20260316T184846Z
UID:10000850-1801731600-1801756800@mc-choice.countyofmonterey.gov
SUMMARY:MC-CHOICE Unit
DESCRIPTION:
URL:https://mc-choice.countyofmonterey.gov/event/mc-choice-unit/2027-02-04/
LOCATION:La Manzana Community Resource Center\, 521 Main St Suite Y\, Watsonville\, CA\, 95076
END:VEVENT
BEGIN:VEVENT
DTSTART;TZID=America/Los_Angeles:20270203T090000
DTEND;TZID=America/Los_Angeles:20270203T160000
DTSTAMP:20260420T212350
CREATED:20251215T230936Z
LAST-MODIFIED:20260316T175014Z
UID:10000589-1801645200-1801670400@mc-choice.countyofmonterey.gov
SUMMARY:MC-CHOICE Unit
DESCRIPTION:
URL:https://mc-choice.countyofmonterey.gov/event/mc-choice-unit-every-wednesday/2027-02-03/
LOCATION:MC-CHOICE Unit\, WIC Office 632 E. Alisal St\, Salinas\, CA\, 93905
CATEGORIES:Outreach
END:VEVENT
BEGIN:VEVENT
DTSTART;TZID=America/Los_Angeles:20270202T090000
DTEND;TZID=America/Los_Angeles:20270202T160000
DTSTAMP:20260420T212350
CREATED:20251215T230629Z
LAST-MODIFIED:20260316T175115Z
UID:10001111-1801558800-1801584000@mc-choice.countyofmonterey.gov
SUMMARY:MC-CHOICE Unit
DESCRIPTION:
URL:https://mc-choice.countyofmonterey.gov/event/mc-choice-unit-every-tuesday/2027-02-02/
LOCATION:MC-CHOICE Unit\, Soledad WIC 355 Gabilan Dr\, Soledad\, CA\, 93960
CATEGORIES:Outreach
END:VEVENT
BEGIN:VEVENT
DTSTART;TZID=America/Los_Angeles:20270128T090000
DTEND;TZID=America/Los_Angeles:20270128T160000
DTSTAMP:20260420T212350
CREATED:20260203T194318Z
LAST-MODIFIED:20260316T184846Z
UID:10000849-1801126800-1801152000@mc-choice.countyofmonterey.gov
SUMMARY:MC-CHOICE Unit
DESCRIPTION:
URL:https://mc-choice.countyofmonterey.gov/event/mc-choice-unit/2027-01-28/
LOCATION:La Manzana Community Resource Center\, 521 Main St Suite Y\, Watsonville\, CA\, 95076
END:VEVENT
BEGIN:VEVENT
DTSTART;TZID=America/Los_Angeles:20270127T090000
DTEND;TZID=America/Los_Angeles:20270127T160000
DTSTAMP:20260420T212350
CREATED:20251215T230936Z
LAST-MODIFIED:20260316T175014Z
UID:10000588-1801040400-1801065600@mc-choice.countyofmonterey.gov
SUMMARY:MC-CHOICE Unit
DESCRIPTION:
URL:https://mc-choice.countyofmonterey.gov/event/mc-choice-unit-every-wednesday/2027-01-27/
LOCATION:MC-CHOICE Unit\, WIC Office 632 E. Alisal St\, Salinas\, CA\, 93905
CATEGORIES:Outreach
END:VEVENT
BEGIN:VEVENT
DTSTART;TZID=America/Los_Angeles:20270126T090000
DTEND;TZID=America/Los_Angeles:20270126T160000
DTSTAMP:20260420T212350
CREATED:20251215T230629Z
LAST-MODIFIED:20260316T175115Z
UID:10001110-1800954000-1800979200@mc-choice.countyofmonterey.gov
SUMMARY:MC-CHOICE Unit
DESCRIPTION:
URL:https://mc-choice.countyofmonterey.gov/event/mc-choice-unit-every-tuesday/2027-01-26/
LOCATION:MC-CHOICE Unit\, Soledad WIC 355 Gabilan Dr\, Soledad\, CA\, 93960
CATEGORIES:Outreach
END:VEVENT
BEGIN:VEVENT
DTSTART;TZID=America/Los_Angeles:20270121T090000
DTEND;TZID=America/Los_Angeles:20270121T160000
DTSTAMP:20260420T212350
CREATED:20260203T194318Z
LAST-MODIFIED:20260316T184846Z
UID:10000848-1800522000-1800547200@mc-choice.countyofmonterey.gov
SUMMARY:MC-CHOICE Unit
DESCRIPTION:
URL:https://mc-choice.countyofmonterey.gov/event/mc-choice-unit/2027-01-21/
LOCATION:La Manzana Community Resource Center\, 521 Main St Suite Y\, Watsonville\, CA\, 95076
END:VEVENT
BEGIN:VEVENT
DTSTART;TZID=America/Los_Angeles:20270120T090000
DTEND;TZID=America/Los_Angeles:20270120T160000
DTSTAMP:20260420T212350
CREATED:20251215T230936Z
LAST-MODIFIED:20260316T175014Z
UID:10000587-1800435600-1800460800@mc-choice.countyofmonterey.gov
SUMMARY:MC-CHOICE Unit
DESCRIPTION:
URL:https://mc-choice.countyofmonterey.gov/event/mc-choice-unit-every-wednesday/2027-01-20/
LOCATION:MC-CHOICE Unit\, WIC Office 632 E. Alisal St\, Salinas\, CA\, 93905
CATEGORIES:Outreach
END:VEVENT
BEGIN:VEVENT
DTSTART;TZID=America/Los_Angeles:20270119T090000
DTEND;TZID=America/Los_Angeles:20270119T160000
DTSTAMP:20260420T212350
CREATED:20251215T230629Z
LAST-MODIFIED:20260316T175115Z
UID:10001109-1800349200-1800374400@mc-choice.countyofmonterey.gov
SUMMARY:MC-CHOICE Unit
DESCRIPTION:
URL:https://mc-choice.countyofmonterey.gov/event/mc-choice-unit-every-tuesday/2027-01-19/
LOCATION:MC-CHOICE Unit\, Soledad WIC 355 Gabilan Dr\, Soledad\, CA\, 93960
CATEGORIES:Outreach
END:VEVENT
BEGIN:VEVENT
DTSTART;TZID=America/Los_Angeles:20270114T090000
DTEND;TZID=America/Los_Angeles:20270114T160000
DTSTAMP:20260420T212350
CREATED:20260203T194318Z
LAST-MODIFIED:20260316T184846Z
UID:10000847-1799917200-1799942400@mc-choice.countyofmonterey.gov
SUMMARY:MC-CHOICE Unit
DESCRIPTION:
URL:https://mc-choice.countyofmonterey.gov/event/mc-choice-unit/2027-01-14/
LOCATION:La Manzana Community Resource Center\, 521 Main St Suite Y\, Watsonville\, CA\, 95076
END:VEVENT
BEGIN:VEVENT
DTSTART;TZID=America/Los_Angeles:20270113T090000
DTEND;TZID=America/Los_Angeles:20270113T160000
DTSTAMP:20260420T212350
CREATED:20251215T230936Z
LAST-MODIFIED:20260316T175014Z
UID:10000586-1799830800-1799856000@mc-choice.countyofmonterey.gov
SUMMARY:MC-CHOICE Unit
DESCRIPTION:
URL:https://mc-choice.countyofmonterey.gov/event/mc-choice-unit-every-wednesday/2027-01-13/
LOCATION:MC-CHOICE Unit\, WIC Office 632 E. Alisal St\, Salinas\, CA\, 93905
CATEGORIES:Outreach
END:VEVENT
BEGIN:VEVENT
DTSTART;TZID=America/Los_Angeles:20270112T090000
DTEND;TZID=America/Los_Angeles:20270112T160000
DTSTAMP:20260420T212350
CREATED:20251215T230629Z
LAST-MODIFIED:20260316T175115Z
UID:10001108-1799744400-1799769600@mc-choice.countyofmonterey.gov
SUMMARY:MC-CHOICE Unit
DESCRIPTION:
URL:https://mc-choice.countyofmonterey.gov/event/mc-choice-unit-every-tuesday/2027-01-12/
LOCATION:MC-CHOICE Unit\, Soledad WIC 355 Gabilan Dr\, Soledad\, CA\, 93960
CATEGORIES:Outreach
END:VEVENT
BEGIN:VEVENT
DTSTART;TZID=America/Los_Angeles:20270107T090000
DTEND;TZID=America/Los_Angeles:20270107T160000
DTSTAMP:20260420T212350
CREATED:20260203T194318Z
LAST-MODIFIED:20260316T184846Z
UID:10000846-1799312400-1799337600@mc-choice.countyofmonterey.gov
SUMMARY:MC-CHOICE Unit
DESCRIPTION:
URL:https://mc-choice.countyofmonterey.gov/event/mc-choice-unit/2027-01-07/
LOCATION:La Manzana Community Resource Center\, 521 Main St Suite Y\, Watsonville\, CA\, 95076
END:VEVENT
BEGIN:VEVENT
DTSTART;TZID=America/Los_Angeles:20270106T090000
DTEND;TZID=America/Los_Angeles:20270106T160000
DTSTAMP:20260420T212350
CREATED:20251215T230936Z
LAST-MODIFIED:20260316T175014Z
UID:10000585-1799226000-1799251200@mc-choice.countyofmonterey.gov
SUMMARY:MC-CHOICE Unit
DESCRIPTION:
URL:https://mc-choice.countyofmonterey.gov/event/mc-choice-unit-every-wednesday/2027-01-06/
LOCATION:MC-CHOICE Unit\, WIC Office 632 E. Alisal St\, Salinas\, CA\, 93905
CATEGORIES:Outreach
END:VEVENT
BEGIN:VEVENT
DTSTART;TZID=America/Los_Angeles:20270105T090000
DTEND;TZID=America/Los_Angeles:20270105T160000
DTSTAMP:20260420T212350
CREATED:20251215T230629Z
LAST-MODIFIED:20260316T175115Z
UID:10001107-1799139600-1799164800@mc-choice.countyofmonterey.gov
SUMMARY:MC-CHOICE Unit
DESCRIPTION:
URL:https://mc-choice.countyofmonterey.gov/event/mc-choice-unit-every-tuesday/2027-01-05/
LOCATION:MC-CHOICE Unit\, Soledad WIC 355 Gabilan Dr\, Soledad\, CA\, 93960
CATEGORIES:Outreach
END:VEVENT
BEGIN:VEVENT
DTSTART;TZID=America/Los_Angeles:20261231T090000
DTEND;TZID=America/Los_Angeles:20261231T160000
DTSTAMP:20260420T212350
CREATED:20260203T194318Z
LAST-MODIFIED:20260316T184846Z
UID:10000845-1798707600-1798732800@mc-choice.countyofmonterey.gov
SUMMARY:MC-CHOICE Unit
DESCRIPTION:
URL:https://mc-choice.countyofmonterey.gov/event/mc-choice-unit/2026-12-31/
LOCATION:La Manzana Community Resource Center\, 521 Main St Suite Y\, Watsonville\, CA\, 95076
END:VEVENT
BEGIN:VEVENT
DTSTART;TZID=America/Los_Angeles:20261230T090000
DTEND;TZID=America/Los_Angeles:20261230T160000
DTSTAMP:20260420T212350
CREATED:20251215T230936Z
LAST-MODIFIED:20260316T175014Z
UID:10000584-1798621200-1798646400@mc-choice.countyofmonterey.gov
SUMMARY:MC-CHOICE Unit
DESCRIPTION:
URL:https://mc-choice.countyofmonterey.gov/event/mc-choice-unit-every-wednesday/2026-12-30/
LOCATION:MC-CHOICE Unit\, WIC Office 632 E. Alisal St\, Salinas\, CA\, 93905
CATEGORIES:Outreach
END:VEVENT
BEGIN:VEVENT
DTSTART;TZID=America/Los_Angeles:20261229T090000
DTEND;TZID=America/Los_Angeles:20261229T160000
DTSTAMP:20260420T212350
CREATED:20251215T230629Z
LAST-MODIFIED:20260316T175115Z
UID:10001106-1798534800-1798560000@mc-choice.countyofmonterey.gov
SUMMARY:MC-CHOICE Unit
DESCRIPTION:
URL:https://mc-choice.countyofmonterey.gov/event/mc-choice-unit-every-tuesday/2026-12-29/
LOCATION:MC-CHOICE Unit\, Soledad WIC 355 Gabilan Dr\, Soledad\, CA\, 93960
CATEGORIES:Outreach
END:VEVENT
BEGIN:VEVENT
DTSTART;TZID=America/Los_Angeles:20261224T090000
DTEND;TZID=America/Los_Angeles:20261224T160000
DTSTAMP:20260420T212350
CREATED:20260203T194318Z
LAST-MODIFIED:20260316T184846Z
UID:10000844-1798102800-1798128000@mc-choice.countyofmonterey.gov
SUMMARY:MC-CHOICE Unit
DESCRIPTION:
URL:https://mc-choice.countyofmonterey.gov/event/mc-choice-unit/2026-12-24/
LOCATION:La Manzana Community Resource Center\, 521 Main St Suite Y\, Watsonville\, CA\, 95076
END:VEVENT
BEGIN:VEVENT
DTSTART;TZID=America/Los_Angeles:20261223T090000
DTEND;TZID=America/Los_Angeles:20261223T160000
DTSTAMP:20260420T212350
CREATED:20251215T230936Z
LAST-MODIFIED:20260316T175014Z
UID:10000583-1798016400-1798041600@mc-choice.countyofmonterey.gov
SUMMARY:MC-CHOICE Unit
DESCRIPTION:
URL:https://mc-choice.countyofmonterey.gov/event/mc-choice-unit-every-wednesday/2026-12-23/
LOCATION:MC-CHOICE Unit\, WIC Office 632 E. Alisal St\, Salinas\, CA\, 93905
CATEGORIES:Outreach
END:VEVENT
BEGIN:VEVENT
DTSTART;TZID=America/Los_Angeles:20261222T090000
DTEND;TZID=America/Los_Angeles:20261222T160000
DTSTAMP:20260420T212350
CREATED:20251215T230629Z
LAST-MODIFIED:20260316T175115Z
UID:10001105-1797930000-1797955200@mc-choice.countyofmonterey.gov
SUMMARY:MC-CHOICE Unit
DESCRIPTION:
URL:https://mc-choice.countyofmonterey.gov/event/mc-choice-unit-every-tuesday/2026-12-22/
LOCATION:MC-CHOICE Unit\, Soledad WIC 355 Gabilan Dr\, Soledad\, CA\, 93960
CATEGORIES:Outreach
END:VEVENT
END:VCALENDAR