


BEGIN:VCALENDAR
VERSION:2.0
PRODID:-//MC-CHOICE - ECPv6.15.12.2//NONSGML v1.0//EN
CALSCALE:GREGORIAN
METHOD:PUBLISH
X-WR-CALNAME:MC-CHOICE
X-ORIGINAL-URL:https://mc-choice.countyofmonterey.gov
X-WR-CALDESC:Events for MC-CHOICE
REFRESH-INTERVAL;VALUE=DURATION:PT1H
X-Robots-Tag:noindex
X-PUBLISHED-TTL:PT1H
BEGIN:VTIMEZONE
TZID:America/Los_Angeles
BEGIN:DAYLIGHT
TZOFFSETFROM:-0800
TZOFFSETTO:-0700
TZNAME:PDT
DTSTART:20300310T100000
END:DAYLIGHT
BEGIN:STANDARD
TZOFFSETFROM:-0700
TZOFFSETTO:-0800
TZNAME:PST
DTSTART:20301103T090000
END:STANDARD
BEGIN:DAYLIGHT
TZOFFSETFROM:-0800
TZOFFSETTO:-0700
TZNAME:PDT
DTSTART:20310309T100000
END:DAYLIGHT
BEGIN:STANDARD
TZOFFSETFROM:-0700
TZOFFSETTO:-0800
TZNAME:PST
DTSTART:20311102T090000
END:STANDARD
BEGIN:DAYLIGHT
TZOFFSETFROM:-0800
TZOFFSETTO:-0700
TZNAME:PDT
DTSTART:20320314T100000
END:DAYLIGHT
BEGIN:STANDARD
TZOFFSETFROM:-0700
TZOFFSETTO:-0800
TZNAME:PST
DTSTART:20321107T090000
END:STANDARD
END:VTIMEZONE
BEGIN:VEVENT
DTSTART;TZID=America/Los_Angeles:20310204T090000
DTEND;TZID=America/Los_Angeles:20310204T160000
DTSTAMP:20260422T155749
CREATED:20251215T230629Z
LAST-MODIFIED:20260316T175115Z
UID:10001326-1927962000-1927987200@mc-choice.countyofmonterey.gov
SUMMARY:MC-CHOICE Unit
DESCRIPTION:
URL:https://mc-choice.countyofmonterey.gov/event/mc-choice-unit-every-tuesday/2031-02-04/
LOCATION:MC-CHOICE Unit\, Soledad WIC 355 Gabilan Dr\, Soledad\, CA\, 93960
CATEGORIES:Outreach
END:VEVENT
BEGIN:VEVENT
DTSTART;TZID=America/Los_Angeles:20310205T090000
DTEND;TZID=America/Los_Angeles:20310205T160000
DTSTAMP:20260422T155749
CREATED:20251215T230936Z
LAST-MODIFIED:20260316T175014Z
UID:10001320-1928048400-1928073600@mc-choice.countyofmonterey.gov
SUMMARY:MC-CHOICE Unit
DESCRIPTION:
URL:https://mc-choice.countyofmonterey.gov/event/mc-choice-unit-every-wednesday/2031-02-05/
LOCATION:MC-CHOICE Unit\, WIC Office 632 E. Alisal St\, Salinas\, CA\, 93905
CATEGORIES:Outreach
END:VEVENT
BEGIN:VEVENT
DTSTART;TZID=America/Los_Angeles:20310206T090000
DTEND;TZID=America/Los_Angeles:20310206T160000
DTSTAMP:20260422T155749
CREATED:20260203T194318Z
LAST-MODIFIED:20260316T184846Z
UID:10001332-1928134800-1928160000@mc-choice.countyofmonterey.gov
SUMMARY:MC-CHOICE Unit
DESCRIPTION:
URL:https://mc-choice.countyofmonterey.gov/event/mc-choice-unit/2031-02-06/
LOCATION:La Manzana Community Resource Center\, 521 Main St Suite Y\, Watsonville\, CA\, 95076
END:VEVENT
BEGIN:VEVENT
DTSTART;TZID=America/Los_Angeles:20310211T090000
DTEND;TZID=America/Los_Angeles:20310211T160000
DTSTAMP:20260422T155749
CREATED:20251215T230629Z
LAST-MODIFIED:20260316T175115Z
UID:10001327-1928566800-1928592000@mc-choice.countyofmonterey.gov
SUMMARY:MC-CHOICE Unit
DESCRIPTION:
URL:https://mc-choice.countyofmonterey.gov/event/mc-choice-unit-every-tuesday/2031-02-11/
LOCATION:MC-CHOICE Unit\, Soledad WIC 355 Gabilan Dr\, Soledad\, CA\, 93960
CATEGORIES:Outreach
END:VEVENT
BEGIN:VEVENT
DTSTART;TZID=America/Los_Angeles:20310212T090000
DTEND;TZID=America/Los_Angeles:20310212T160000
DTSTAMP:20260422T155749
CREATED:20251215T230936Z
LAST-MODIFIED:20260316T175014Z
UID:10001321-1928653200-1928678400@mc-choice.countyofmonterey.gov
SUMMARY:MC-CHOICE Unit
DESCRIPTION:
URL:https://mc-choice.countyofmonterey.gov/event/mc-choice-unit-every-wednesday/2031-02-12/
LOCATION:MC-CHOICE Unit\, WIC Office 632 E. Alisal St\, Salinas\, CA\, 93905
CATEGORIES:Outreach
END:VEVENT
BEGIN:VEVENT
DTSTART;TZID=America/Los_Angeles:20310213T090000
DTEND;TZID=America/Los_Angeles:20310213T160000
DTSTAMP:20260422T155749
CREATED:20260203T194318Z
LAST-MODIFIED:20260316T184846Z
UID:10001333-1928739600-1928764800@mc-choice.countyofmonterey.gov
SUMMARY:MC-CHOICE Unit
DESCRIPTION:
URL:https://mc-choice.countyofmonterey.gov/event/mc-choice-unit/2031-02-13/
LOCATION:La Manzana Community Resource Center\, 521 Main St Suite Y\, Watsonville\, CA\, 95076
END:VEVENT
BEGIN:VEVENT
DTSTART;TZID=America/Los_Angeles:20310218T090000
DTEND;TZID=America/Los_Angeles:20310218T160000
DTSTAMP:20260422T155749
CREATED:20251215T230629Z
LAST-MODIFIED:20260316T175115Z
UID:10001328-1929171600-1929196800@mc-choice.countyofmonterey.gov
SUMMARY:MC-CHOICE Unit
DESCRIPTION:
URL:https://mc-choice.countyofmonterey.gov/event/mc-choice-unit-every-tuesday/2031-02-18/
LOCATION:MC-CHOICE Unit\, Soledad WIC 355 Gabilan Dr\, Soledad\, CA\, 93960
CATEGORIES:Outreach
END:VEVENT
BEGIN:VEVENT
DTSTART;TZID=America/Los_Angeles:20310219T090000
DTEND;TZID=America/Los_Angeles:20310219T160000
DTSTAMP:20260422T155749
CREATED:20251215T230936Z
LAST-MODIFIED:20260316T175014Z
UID:10001322-1929258000-1929283200@mc-choice.countyofmonterey.gov
SUMMARY:MC-CHOICE Unit
DESCRIPTION:
URL:https://mc-choice.countyofmonterey.gov/event/mc-choice-unit-every-wednesday/2031-02-19/
LOCATION:MC-CHOICE Unit\, WIC Office 632 E. Alisal St\, Salinas\, CA\, 93905
CATEGORIES:Outreach
END:VEVENT
BEGIN:VEVENT
DTSTART;TZID=America/Los_Angeles:20310220T090000
DTEND;TZID=America/Los_Angeles:20310220T160000
DTSTAMP:20260422T155749
CREATED:20260203T194318Z
LAST-MODIFIED:20260316T184846Z
UID:10001334-1929344400-1929369600@mc-choice.countyofmonterey.gov
SUMMARY:MC-CHOICE Unit
DESCRIPTION:
URL:https://mc-choice.countyofmonterey.gov/event/mc-choice-unit/2031-02-20/
LOCATION:La Manzana Community Resource Center\, 521 Main St Suite Y\, Watsonville\, CA\, 95076
END:VEVENT
BEGIN:VEVENT
DTSTART;TZID=America/Los_Angeles:20310225T090000
DTEND;TZID=America/Los_Angeles:20310225T160000
DTSTAMP:20260422T155749
CREATED:20251215T230629Z
LAST-MODIFIED:20260316T175115Z
UID:10001329-1929776400-1929801600@mc-choice.countyofmonterey.gov
SUMMARY:MC-CHOICE Unit
DESCRIPTION:
URL:https://mc-choice.countyofmonterey.gov/event/mc-choice-unit-every-tuesday/2031-02-25/
LOCATION:MC-CHOICE Unit\, Soledad WIC 355 Gabilan Dr\, Soledad\, CA\, 93960
CATEGORIES:Outreach
END:VEVENT
BEGIN:VEVENT
DTSTART;TZID=America/Los_Angeles:20310226T090000
DTEND;TZID=America/Los_Angeles:20310226T160000
DTSTAMP:20260422T155749
CREATED:20251215T230936Z
LAST-MODIFIED:20260316T175014Z
UID:10001323-1929862800-1929888000@mc-choice.countyofmonterey.gov
SUMMARY:MC-CHOICE Unit
DESCRIPTION:
URL:https://mc-choice.countyofmonterey.gov/event/mc-choice-unit-every-wednesday/2031-02-26/
LOCATION:MC-CHOICE Unit\, WIC Office 632 E. Alisal St\, Salinas\, CA\, 93905
CATEGORIES:Outreach
END:VEVENT
BEGIN:VEVENT
DTSTART;TZID=America/Los_Angeles:20310227T090000
DTEND;TZID=America/Los_Angeles:20310227T160000
DTSTAMP:20260422T155749
CREATED:20260203T194318Z
LAST-MODIFIED:20260316T184846Z
UID:10001335-1929949200-1929974400@mc-choice.countyofmonterey.gov
SUMMARY:MC-CHOICE Unit
DESCRIPTION:
URL:https://mc-choice.countyofmonterey.gov/event/mc-choice-unit/2031-02-27/
LOCATION:La Manzana Community Resource Center\, 521 Main St Suite Y\, Watsonville\, CA\, 95076
END:VEVENT
BEGIN:VEVENT
DTSTART;TZID=America/Los_Angeles:20310304T090000
DTEND;TZID=America/Los_Angeles:20310304T160000
DTSTAMP:20260422T155749
CREATED:20251215T230629Z
LAST-MODIFIED:20260316T175115Z
UID:10001330-1930381200-1930406400@mc-choice.countyofmonterey.gov
SUMMARY:MC-CHOICE Unit
DESCRIPTION:
URL:https://mc-choice.countyofmonterey.gov/event/mc-choice-unit-every-tuesday/2031-03-04/
LOCATION:MC-CHOICE Unit\, Soledad WIC 355 Gabilan Dr\, Soledad\, CA\, 93960
CATEGORIES:Outreach
END:VEVENT
BEGIN:VEVENT
DTSTART;TZID=America/Los_Angeles:20310305T090000
DTEND;TZID=America/Los_Angeles:20310305T160000
DTSTAMP:20260422T155749
CREATED:20251215T230936Z
LAST-MODIFIED:20260316T175014Z
UID:10001324-1930467600-1930492800@mc-choice.countyofmonterey.gov
SUMMARY:MC-CHOICE Unit
DESCRIPTION:
URL:https://mc-choice.countyofmonterey.gov/event/mc-choice-unit-every-wednesday/2031-03-05/
LOCATION:MC-CHOICE Unit\, WIC Office 632 E. Alisal St\, Salinas\, CA\, 93905
CATEGORIES:Outreach
END:VEVENT
BEGIN:VEVENT
DTSTART;TZID=America/Los_Angeles:20310306T090000
DTEND;TZID=America/Los_Angeles:20310306T160000
DTSTAMP:20260422T155749
CREATED:20260203T194318Z
LAST-MODIFIED:20260316T184846Z
UID:10001336-1930554000-1930579200@mc-choice.countyofmonterey.gov
SUMMARY:MC-CHOICE Unit
DESCRIPTION:
URL:https://mc-choice.countyofmonterey.gov/event/mc-choice-unit/2031-03-06/
LOCATION:La Manzana Community Resource Center\, 521 Main St Suite Y\, Watsonville\, CA\, 95076
END:VEVENT
BEGIN:VEVENT
DTSTART;TZID=America/Los_Angeles:20310311T090000
DTEND;TZID=America/Los_Angeles:20310311T160000
DTSTAMP:20260422T155749
CREATED:20251215T230629Z
LAST-MODIFIED:20260316T175115Z
UID:10001331-1930986000-1931011200@mc-choice.countyofmonterey.gov
SUMMARY:MC-CHOICE Unit
DESCRIPTION:
URL:https://mc-choice.countyofmonterey.gov/event/mc-choice-unit-every-tuesday/2031-03-11/
LOCATION:MC-CHOICE Unit\, Soledad WIC 355 Gabilan Dr\, Soledad\, CA\, 93960
CATEGORIES:Outreach
END:VEVENT
BEGIN:VEVENT
DTSTART;TZID=America/Los_Angeles:20310312T090000
DTEND;TZID=America/Los_Angeles:20310312T160000
DTSTAMP:20260422T155749
CREATED:20251215T230936Z
LAST-MODIFIED:20260316T175014Z
UID:10001325-1931072400-1931097600@mc-choice.countyofmonterey.gov
SUMMARY:MC-CHOICE Unit
DESCRIPTION:
URL:https://mc-choice.countyofmonterey.gov/event/mc-choice-unit-every-wednesday/2031-03-12/
LOCATION:MC-CHOICE Unit\, WIC Office 632 E. Alisal St\, Salinas\, CA\, 93905
CATEGORIES:Outreach
END:VEVENT
BEGIN:VEVENT
DTSTART;TZID=America/Los_Angeles:20310313T090000
DTEND;TZID=America/Los_Angeles:20310313T160000
DTSTAMP:20260422T155749
CREATED:20260203T194318Z
LAST-MODIFIED:20260316T184846Z
UID:10001337-1931158800-1931184000@mc-choice.countyofmonterey.gov
SUMMARY:MC-CHOICE Unit
DESCRIPTION:
URL:https://mc-choice.countyofmonterey.gov/event/mc-choice-unit/2031-03-13/
LOCATION:La Manzana Community Resource Center\, 521 Main St Suite Y\, Watsonville\, CA\, 95076
END:VEVENT
END:VCALENDAR