


BEGIN:VCALENDAR
VERSION:2.0
PRODID:-//MC-CHOICE - ECPv6.15.12.2//NONSGML v1.0//EN
CALSCALE:GREGORIAN
METHOD:PUBLISH
X-ORIGINAL-URL:https://mc-choice.countyofmonterey.gov
X-WR-CALDESC:Events for MC-CHOICE
REFRESH-INTERVAL;VALUE=DURATION:PT1H
X-Robots-Tag:noindex
X-PUBLISHED-TTL:PT1H
BEGIN:VTIMEZONE
TZID:America/Los_Angeles
BEGIN:DAYLIGHT
TZOFFSETFROM:-0800
TZOFFSETTO:-0700
TZNAME:PDT
DTSTART:20280312T100000
END:DAYLIGHT
BEGIN:STANDARD
TZOFFSETFROM:-0700
TZOFFSETTO:-0800
TZNAME:PST
DTSTART:20281105T090000
END:STANDARD
BEGIN:DAYLIGHT
TZOFFSETFROM:-0800
TZOFFSETTO:-0700
TZNAME:PDT
DTSTART:20290311T100000
END:DAYLIGHT
BEGIN:STANDARD
TZOFFSETFROM:-0700
TZOFFSETTO:-0800
TZNAME:PST
DTSTART:20291104T090000
END:STANDARD
BEGIN:DAYLIGHT
TZOFFSETFROM:-0800
TZOFFSETTO:-0700
TZNAME:PDT
DTSTART:20300310T100000
END:DAYLIGHT
BEGIN:STANDARD
TZOFFSETFROM:-0700
TZOFFSETTO:-0800
TZNAME:PST
DTSTART:20301103T090000
END:STANDARD
BEGIN:DAYLIGHT
TZOFFSETFROM:-0800
TZOFFSETTO:-0700
TZNAME:PDT
DTSTART:20310309T100000
END:DAYLIGHT
BEGIN:STANDARD
TZOFFSETFROM:-0700
TZOFFSETTO:-0800
TZNAME:PST
DTSTART:20311102T090000
END:STANDARD
END:VTIMEZONE
BEGIN:VEVENT
DTSTART;TZID=America/Los_Angeles:20291204T090000
DTEND;TZID=America/Los_Angeles:20291204T160000
DTSTAMP:20260421T132852
CREATED:20251215T230629Z
LAST-MODIFIED:20260316T175115Z
UID:10001259-1891069200-1891094400@mc-choice.countyofmonterey.gov
SUMMARY:MC-CHOICE Unit
DESCRIPTION:
URL:https://mc-choice.countyofmonterey.gov/event/mc-choice-unit-every-tuesday/2029-12-04/
LOCATION:MC-CHOICE Unit\, Soledad WIC 355 Gabilan Dr\, Soledad\, CA\, 93960
CATEGORIES:Outreach
END:VEVENT
BEGIN:VEVENT
DTSTART;TZID=America/Los_Angeles:20291205T090000
DTEND;TZID=America/Los_Angeles:20291205T160000
DTSTAMP:20260421T132852
CREATED:20251215T230936Z
LAST-MODIFIED:20260316T175014Z
UID:10000737-1891155600-1891180800@mc-choice.countyofmonterey.gov
SUMMARY:MC-CHOICE Unit
DESCRIPTION:
URL:https://mc-choice.countyofmonterey.gov/event/mc-choice-unit-every-wednesday/2029-12-05/
LOCATION:MC-CHOICE Unit\, WIC Office 632 E. Alisal St\, Salinas\, CA\, 93905
CATEGORIES:Outreach
END:VEVENT
BEGIN:VEVENT
DTSTART;TZID=America/Los_Angeles:20291206T090000
DTEND;TZID=America/Los_Angeles:20291206T160000
DTSTAMP:20260421T132852
CREATED:20260203T194318Z
LAST-MODIFIED:20260316T184846Z
UID:10000998-1891242000-1891267200@mc-choice.countyofmonterey.gov
SUMMARY:MC-CHOICE Unit
DESCRIPTION:
URL:https://mc-choice.countyofmonterey.gov/event/mc-choice-unit/2029-12-06/
LOCATION:La Manzana Community Resource Center\, 521 Main St Suite Y\, Watsonville\, CA\, 95076
END:VEVENT
BEGIN:VEVENT
DTSTART;TZID=America/Los_Angeles:20291211T090000
DTEND;TZID=America/Los_Angeles:20291211T160000
DTSTAMP:20260421T132852
CREATED:20251215T230629Z
LAST-MODIFIED:20260316T175115Z
UID:10001260-1891674000-1891699200@mc-choice.countyofmonterey.gov
SUMMARY:MC-CHOICE Unit
DESCRIPTION:
URL:https://mc-choice.countyofmonterey.gov/event/mc-choice-unit-every-tuesday/2029-12-11/
LOCATION:MC-CHOICE Unit\, Soledad WIC 355 Gabilan Dr\, Soledad\, CA\, 93960
CATEGORIES:Outreach
END:VEVENT
BEGIN:VEVENT
DTSTART;TZID=America/Los_Angeles:20291212T090000
DTEND;TZID=America/Los_Angeles:20291212T160000
DTSTAMP:20260421T132852
CREATED:20251215T230936Z
LAST-MODIFIED:20260316T175014Z
UID:10000738-1891760400-1891785600@mc-choice.countyofmonterey.gov
SUMMARY:MC-CHOICE Unit
DESCRIPTION:
URL:https://mc-choice.countyofmonterey.gov/event/mc-choice-unit-every-wednesday/2029-12-12/
LOCATION:MC-CHOICE Unit\, WIC Office 632 E. Alisal St\, Salinas\, CA\, 93905
CATEGORIES:Outreach
END:VEVENT
BEGIN:VEVENT
DTSTART;TZID=America/Los_Angeles:20291213T090000
DTEND;TZID=America/Los_Angeles:20291213T160000
DTSTAMP:20260421T132852
CREATED:20260203T194318Z
LAST-MODIFIED:20260316T184846Z
UID:10000999-1891846800-1891872000@mc-choice.countyofmonterey.gov
SUMMARY:MC-CHOICE Unit
DESCRIPTION:
URL:https://mc-choice.countyofmonterey.gov/event/mc-choice-unit/2029-12-13/
LOCATION:La Manzana Community Resource Center\, 521 Main St Suite Y\, Watsonville\, CA\, 95076
END:VEVENT
BEGIN:VEVENT
DTSTART;TZID=America/Los_Angeles:20291218T090000
DTEND;TZID=America/Los_Angeles:20291218T160000
DTSTAMP:20260421T132852
CREATED:20251215T230629Z
LAST-MODIFIED:20260316T175115Z
UID:10001261-1892278800-1892304000@mc-choice.countyofmonterey.gov
SUMMARY:MC-CHOICE Unit
DESCRIPTION:
URL:https://mc-choice.countyofmonterey.gov/event/mc-choice-unit-every-tuesday/2029-12-18/
LOCATION:MC-CHOICE Unit\, Soledad WIC 355 Gabilan Dr\, Soledad\, CA\, 93960
CATEGORIES:Outreach
END:VEVENT
BEGIN:VEVENT
DTSTART;TZID=America/Los_Angeles:20291219T090000
DTEND;TZID=America/Los_Angeles:20291219T160000
DTSTAMP:20260421T132852
CREATED:20251215T230936Z
LAST-MODIFIED:20260316T175014Z
UID:10000739-1892365200-1892390400@mc-choice.countyofmonterey.gov
SUMMARY:MC-CHOICE Unit
DESCRIPTION:
URL:https://mc-choice.countyofmonterey.gov/event/mc-choice-unit-every-wednesday/2029-12-19/
LOCATION:MC-CHOICE Unit\, WIC Office 632 E. Alisal St\, Salinas\, CA\, 93905
CATEGORIES:Outreach
END:VEVENT
BEGIN:VEVENT
DTSTART;TZID=America/Los_Angeles:20291220T090000
DTEND;TZID=America/Los_Angeles:20291220T160000
DTSTAMP:20260421T132852
CREATED:20260203T194318Z
LAST-MODIFIED:20260316T184846Z
UID:10001000-1892451600-1892476800@mc-choice.countyofmonterey.gov
SUMMARY:MC-CHOICE Unit
DESCRIPTION:
URL:https://mc-choice.countyofmonterey.gov/event/mc-choice-unit/2029-12-20/
LOCATION:La Manzana Community Resource Center\, 521 Main St Suite Y\, Watsonville\, CA\, 95076
END:VEVENT
BEGIN:VEVENT
DTSTART;TZID=America/Los_Angeles:20291225T090000
DTEND;TZID=America/Los_Angeles:20291225T160000
DTSTAMP:20260421T132852
CREATED:20251215T230629Z
LAST-MODIFIED:20260316T175115Z
UID:10001262-1892883600-1892908800@mc-choice.countyofmonterey.gov
SUMMARY:MC-CHOICE Unit
DESCRIPTION:
URL:https://mc-choice.countyofmonterey.gov/event/mc-choice-unit-every-tuesday/2029-12-25/
LOCATION:MC-CHOICE Unit\, Soledad WIC 355 Gabilan Dr\, Soledad\, CA\, 93960
CATEGORIES:Outreach
END:VEVENT
BEGIN:VEVENT
DTSTART;TZID=America/Los_Angeles:20291226T090000
DTEND;TZID=America/Los_Angeles:20291226T160000
DTSTAMP:20260421T132852
CREATED:20251215T230936Z
LAST-MODIFIED:20260316T175014Z
UID:10000740-1892970000-1892995200@mc-choice.countyofmonterey.gov
SUMMARY:MC-CHOICE Unit
DESCRIPTION:
URL:https://mc-choice.countyofmonterey.gov/event/mc-choice-unit-every-wednesday/2029-12-26/
LOCATION:MC-CHOICE Unit\, WIC Office 632 E. Alisal St\, Salinas\, CA\, 93905
CATEGORIES:Outreach
END:VEVENT
BEGIN:VEVENT
DTSTART;TZID=America/Los_Angeles:20291227T090000
DTEND;TZID=America/Los_Angeles:20291227T160000
DTSTAMP:20260421T132852
CREATED:20260203T194318Z
LAST-MODIFIED:20260316T184846Z
UID:10001001-1893056400-1893081600@mc-choice.countyofmonterey.gov
SUMMARY:MC-CHOICE Unit
DESCRIPTION:
URL:https://mc-choice.countyofmonterey.gov/event/mc-choice-unit/2029-12-27/
LOCATION:La Manzana Community Resource Center\, 521 Main St Suite Y\, Watsonville\, CA\, 95076
END:VEVENT
BEGIN:VEVENT
DTSTART;TZID=America/Los_Angeles:20300101T090000
DTEND;TZID=America/Los_Angeles:20300101T160000
DTSTAMP:20260421T132852
CREATED:20251215T230629Z
LAST-MODIFIED:20260316T175115Z
UID:10001263-1893488400-1893513600@mc-choice.countyofmonterey.gov
SUMMARY:MC-CHOICE Unit
DESCRIPTION:
URL:https://mc-choice.countyofmonterey.gov/event/mc-choice-unit-every-tuesday/2030-01-01/
LOCATION:MC-CHOICE Unit\, Soledad WIC 355 Gabilan Dr\, Soledad\, CA\, 93960
CATEGORIES:Outreach
END:VEVENT
BEGIN:VEVENT
DTSTART;TZID=America/Los_Angeles:20300102T090000
DTEND;TZID=America/Los_Angeles:20300102T160000
DTSTAMP:20260421T132852
CREATED:20251215T230936Z
LAST-MODIFIED:20260316T175014Z
UID:10000741-1893574800-1893600000@mc-choice.countyofmonterey.gov
SUMMARY:MC-CHOICE Unit
DESCRIPTION:
URL:https://mc-choice.countyofmonterey.gov/event/mc-choice-unit-every-wednesday/2030-01-02/
LOCATION:MC-CHOICE Unit\, WIC Office 632 E. Alisal St\, Salinas\, CA\, 93905
CATEGORIES:Outreach
END:VEVENT
BEGIN:VEVENT
DTSTART;TZID=America/Los_Angeles:20300103T090000
DTEND;TZID=America/Los_Angeles:20300103T160000
DTSTAMP:20260421T132852
CREATED:20260203T194318Z
LAST-MODIFIED:20260316T184846Z
UID:10001002-1893661200-1893686400@mc-choice.countyofmonterey.gov
SUMMARY:MC-CHOICE Unit
DESCRIPTION:
URL:https://mc-choice.countyofmonterey.gov/event/mc-choice-unit/2030-01-03/
LOCATION:La Manzana Community Resource Center\, 521 Main St Suite Y\, Watsonville\, CA\, 95076
END:VEVENT
BEGIN:VEVENT
DTSTART;TZID=America/Los_Angeles:20300108T090000
DTEND;TZID=America/Los_Angeles:20300108T160000
DTSTAMP:20260421T132852
CREATED:20251215T230629Z
LAST-MODIFIED:20260316T175115Z
UID:10001264-1894093200-1894118400@mc-choice.countyofmonterey.gov
SUMMARY:MC-CHOICE Unit
DESCRIPTION:
URL:https://mc-choice.countyofmonterey.gov/event/mc-choice-unit-every-tuesday/2030-01-08/
LOCATION:MC-CHOICE Unit\, Soledad WIC 355 Gabilan Dr\, Soledad\, CA\, 93960
CATEGORIES:Outreach
END:VEVENT
BEGIN:VEVENT
DTSTART;TZID=America/Los_Angeles:20300109T090000
DTEND;TZID=America/Los_Angeles:20300109T160000
DTSTAMP:20260421T132852
CREATED:20251215T230936Z
LAST-MODIFIED:20260316T175014Z
UID:10000742-1894179600-1894204800@mc-choice.countyofmonterey.gov
SUMMARY:MC-CHOICE Unit
DESCRIPTION:
URL:https://mc-choice.countyofmonterey.gov/event/mc-choice-unit-every-wednesday/2030-01-09/
LOCATION:MC-CHOICE Unit\, WIC Office 632 E. Alisal St\, Salinas\, CA\, 93905
CATEGORIES:Outreach
END:VEVENT
BEGIN:VEVENT
DTSTART;TZID=America/Los_Angeles:20300110T090000
DTEND;TZID=America/Los_Angeles:20300110T160000
DTSTAMP:20260421T132853
CREATED:20260203T194318Z
LAST-MODIFIED:20260316T184846Z
UID:10001003-1894266000-1894291200@mc-choice.countyofmonterey.gov
SUMMARY:MC-CHOICE Unit
DESCRIPTION:
URL:https://mc-choice.countyofmonterey.gov/event/mc-choice-unit/2030-01-10/
LOCATION:La Manzana Community Resource Center\, 521 Main St Suite Y\, Watsonville\, CA\, 95076
END:VEVENT
BEGIN:VEVENT
DTSTART;TZID=America/Los_Angeles:20300115T090000
DTEND;TZID=America/Los_Angeles:20300115T160000
DTSTAMP:20260421T132853
CREATED:20251215T230629Z
LAST-MODIFIED:20260316T175115Z
UID:10001265-1894698000-1894723200@mc-choice.countyofmonterey.gov
SUMMARY:MC-CHOICE Unit
DESCRIPTION:
URL:https://mc-choice.countyofmonterey.gov/event/mc-choice-unit-every-tuesday/2030-01-15/
LOCATION:MC-CHOICE Unit\, Soledad WIC 355 Gabilan Dr\, Soledad\, CA\, 93960
CATEGORIES:Outreach
END:VEVENT
BEGIN:VEVENT
DTSTART;TZID=America/Los_Angeles:20300116T090000
DTEND;TZID=America/Los_Angeles:20300116T160000
DTSTAMP:20260421T132853
CREATED:20251215T230936Z
LAST-MODIFIED:20260316T175014Z
UID:10000743-1894784400-1894809600@mc-choice.countyofmonterey.gov
SUMMARY:MC-CHOICE Unit
DESCRIPTION:
URL:https://mc-choice.countyofmonterey.gov/event/mc-choice-unit-every-wednesday/2030-01-16/
LOCATION:MC-CHOICE Unit\, WIC Office 632 E. Alisal St\, Salinas\, CA\, 93905
CATEGORIES:Outreach
END:VEVENT
BEGIN:VEVENT
DTSTART;TZID=America/Los_Angeles:20300117T090000
DTEND;TZID=America/Los_Angeles:20300117T160000
DTSTAMP:20260421T132853
CREATED:20260203T194318Z
LAST-MODIFIED:20260316T184846Z
UID:10001004-1894870800-1894896000@mc-choice.countyofmonterey.gov
SUMMARY:MC-CHOICE Unit
DESCRIPTION:
URL:https://mc-choice.countyofmonterey.gov/event/mc-choice-unit/2030-01-17/
LOCATION:La Manzana Community Resource Center\, 521 Main St Suite Y\, Watsonville\, CA\, 95076
END:VEVENT
BEGIN:VEVENT
DTSTART;TZID=America/Los_Angeles:20300122T090000
DTEND;TZID=America/Los_Angeles:20300122T160000
DTSTAMP:20260421T132853
CREATED:20251215T230629Z
LAST-MODIFIED:20260316T175115Z
UID:10001266-1895302800-1895328000@mc-choice.countyofmonterey.gov
SUMMARY:MC-CHOICE Unit
DESCRIPTION:
URL:https://mc-choice.countyofmonterey.gov/event/mc-choice-unit-every-tuesday/2030-01-22/
LOCATION:MC-CHOICE Unit\, Soledad WIC 355 Gabilan Dr\, Soledad\, CA\, 93960
CATEGORIES:Outreach
END:VEVENT
BEGIN:VEVENT
DTSTART;TZID=America/Los_Angeles:20300123T090000
DTEND;TZID=America/Los_Angeles:20300123T160000
DTSTAMP:20260421T132853
CREATED:20251215T230936Z
LAST-MODIFIED:20260316T175014Z
UID:10000744-1895389200-1895414400@mc-choice.countyofmonterey.gov
SUMMARY:MC-CHOICE Unit
DESCRIPTION:
URL:https://mc-choice.countyofmonterey.gov/event/mc-choice-unit-every-wednesday/2030-01-23/
LOCATION:MC-CHOICE Unit\, WIC Office 632 E. Alisal St\, Salinas\, CA\, 93905
CATEGORIES:Outreach
END:VEVENT
BEGIN:VEVENT
DTSTART;TZID=America/Los_Angeles:20300124T090000
DTEND;TZID=America/Los_Angeles:20300124T160000
DTSTAMP:20260421T132853
CREATED:20260203T194318Z
LAST-MODIFIED:20260316T184846Z
UID:10001005-1895475600-1895500800@mc-choice.countyofmonterey.gov
SUMMARY:MC-CHOICE Unit
DESCRIPTION:
URL:https://mc-choice.countyofmonterey.gov/event/mc-choice-unit/2030-01-24/
LOCATION:La Manzana Community Resource Center\, 521 Main St Suite Y\, Watsonville\, CA\, 95076
END:VEVENT
BEGIN:VEVENT
DTSTART;TZID=America/Los_Angeles:20300129T090000
DTEND;TZID=America/Los_Angeles:20300129T160000
DTSTAMP:20260421T132853
CREATED:20251215T230629Z
LAST-MODIFIED:20260316T175115Z
UID:10001267-1895907600-1895932800@mc-choice.countyofmonterey.gov
SUMMARY:MC-CHOICE Unit
DESCRIPTION:
URL:https://mc-choice.countyofmonterey.gov/event/mc-choice-unit-every-tuesday/2030-01-29/
LOCATION:MC-CHOICE Unit\, Soledad WIC 355 Gabilan Dr\, Soledad\, CA\, 93960
CATEGORIES:Outreach
END:VEVENT
BEGIN:VEVENT
DTSTART;TZID=America/Los_Angeles:20300130T090000
DTEND;TZID=America/Los_Angeles:20300130T160000
DTSTAMP:20260421T132853
CREATED:20251215T230936Z
LAST-MODIFIED:20260316T175014Z
UID:10000745-1895994000-1896019200@mc-choice.countyofmonterey.gov
SUMMARY:MC-CHOICE Unit
DESCRIPTION:
URL:https://mc-choice.countyofmonterey.gov/event/mc-choice-unit-every-wednesday/2030-01-30/
LOCATION:MC-CHOICE Unit\, WIC Office 632 E. Alisal St\, Salinas\, CA\, 93905
CATEGORIES:Outreach
END:VEVENT
BEGIN:VEVENT
DTSTART;TZID=America/Los_Angeles:20300131T090000
DTEND;TZID=America/Los_Angeles:20300131T160000
DTSTAMP:20260421T132853
CREATED:20260203T194318Z
LAST-MODIFIED:20260316T184846Z
UID:10001006-1896080400-1896105600@mc-choice.countyofmonterey.gov
SUMMARY:MC-CHOICE Unit
DESCRIPTION:
URL:https://mc-choice.countyofmonterey.gov/event/mc-choice-unit/2030-01-31/
LOCATION:La Manzana Community Resource Center\, 521 Main St Suite Y\, Watsonville\, CA\, 95076
END:VEVENT
BEGIN:VEVENT
DTSTART;TZID=America/Los_Angeles:20300205T090000
DTEND;TZID=America/Los_Angeles:20300205T160000
DTSTAMP:20260421T132853
CREATED:20251215T230629Z
LAST-MODIFIED:20260316T175115Z
UID:10001268-1896512400-1896537600@mc-choice.countyofmonterey.gov
SUMMARY:MC-CHOICE Unit
DESCRIPTION:
URL:https://mc-choice.countyofmonterey.gov/event/mc-choice-unit-every-tuesday/2030-02-05/
LOCATION:MC-CHOICE Unit\, Soledad WIC 355 Gabilan Dr\, Soledad\, CA\, 93960
CATEGORIES:Outreach
END:VEVENT
BEGIN:VEVENT
DTSTART;TZID=America/Los_Angeles:20300206T090000
DTEND;TZID=America/Los_Angeles:20300206T160000
DTSTAMP:20260421T132853
CREATED:20251215T230936Z
LAST-MODIFIED:20260316T175014Z
UID:10000746-1896598800-1896624000@mc-choice.countyofmonterey.gov
SUMMARY:MC-CHOICE Unit
DESCRIPTION:
URL:https://mc-choice.countyofmonterey.gov/event/mc-choice-unit-every-wednesday/2030-02-06/
LOCATION:MC-CHOICE Unit\, WIC Office 632 E. Alisal St\, Salinas\, CA\, 93905
CATEGORIES:Outreach
END:VEVENT
BEGIN:VEVENT
DTSTART;TZID=America/Los_Angeles:20300207T090000
DTEND;TZID=America/Los_Angeles:20300207T160000
DTSTAMP:20260421T132853
CREATED:20260203T194318Z
LAST-MODIFIED:20260316T184846Z
UID:10001007-1896685200-1896710400@mc-choice.countyofmonterey.gov
SUMMARY:MC-CHOICE Unit
DESCRIPTION:
URL:https://mc-choice.countyofmonterey.gov/event/mc-choice-unit/2030-02-07/
LOCATION:La Manzana Community Resource Center\, 521 Main St Suite Y\, Watsonville\, CA\, 95076
END:VEVENT
END:VCALENDAR