


BEGIN:VCALENDAR
VERSION:2.0
PRODID:-//MC-CHOICE - ECPv6.15.12.2//NONSGML v1.0//EN
CALSCALE:GREGORIAN
METHOD:PUBLISH
X-WR-CALNAME:MC-CHOICE
X-ORIGINAL-URL:https://mc-choice.countyofmonterey.gov
X-WR-CALDESC:Events for MC-CHOICE
REFRESH-INTERVAL;VALUE=DURATION:PT1H
X-Robots-Tag:noindex
X-PUBLISHED-TTL:PT1H
BEGIN:VTIMEZONE
TZID:America/Los_Angeles
BEGIN:DAYLIGHT
TZOFFSETFROM:-0800
TZOFFSETTO:-0700
TZNAME:PDT
DTSTART:20290311T100000
END:DAYLIGHT
BEGIN:STANDARD
TZOFFSETFROM:-0700
TZOFFSETTO:-0800
TZNAME:PST
DTSTART:20291104T090000
END:STANDARD
BEGIN:DAYLIGHT
TZOFFSETFROM:-0800
TZOFFSETTO:-0700
TZNAME:PDT
DTSTART:20300310T100000
END:DAYLIGHT
BEGIN:STANDARD
TZOFFSETFROM:-0700
TZOFFSETTO:-0800
TZNAME:PST
DTSTART:20301103T090000
END:STANDARD
BEGIN:DAYLIGHT
TZOFFSETFROM:-0800
TZOFFSETTO:-0700
TZNAME:PDT
DTSTART:20310309T100000
END:DAYLIGHT
BEGIN:STANDARD
TZOFFSETFROM:-0700
TZOFFSETTO:-0800
TZNAME:PST
DTSTART:20311102T090000
END:STANDARD
END:VTIMEZONE
BEGIN:VEVENT
DTSTART;TZID=America/Los_Angeles:20300829T090000
DTEND;TZID=America/Los_Angeles:20300829T160000
DTSTAMP:20260422T153543
CREATED:20260203T194318Z
LAST-MODIFIED:20260316T184846Z
UID:10001036-1914224400-1914249600@mc-choice.countyofmonterey.gov
SUMMARY:MC-CHOICE Unit
DESCRIPTION:
URL:https://mc-choice.countyofmonterey.gov/event/mc-choice-unit/2030-08-29/
LOCATION:La Manzana Community Resource Center\, 521 Main St Suite Y\, Watsonville\, CA\, 95076
END:VEVENT
BEGIN:VEVENT
DTSTART;TZID=America/Los_Angeles:20300828T090000
DTEND;TZID=America/Los_Angeles:20300828T160000
DTSTAMP:20260422T153544
CREATED:20251215T230936Z
LAST-MODIFIED:20260316T175014Z
UID:10000775-1914138000-1914163200@mc-choice.countyofmonterey.gov
SUMMARY:MC-CHOICE Unit
DESCRIPTION:
URL:https://mc-choice.countyofmonterey.gov/event/mc-choice-unit-every-wednesday/2030-08-28/
LOCATION:MC-CHOICE Unit\, WIC Office 632 E. Alisal St\, Salinas\, CA\, 93905
CATEGORIES:Outreach
END:VEVENT
BEGIN:VEVENT
DTSTART;TZID=America/Los_Angeles:20300827T090000
DTEND;TZID=America/Los_Angeles:20300827T160000
DTSTAMP:20260422T153544
CREATED:20251215T230629Z
LAST-MODIFIED:20260316T175115Z
UID:10001297-1914051600-1914076800@mc-choice.countyofmonterey.gov
SUMMARY:MC-CHOICE Unit
DESCRIPTION:
URL:https://mc-choice.countyofmonterey.gov/event/mc-choice-unit-every-tuesday/2030-08-27/
LOCATION:MC-CHOICE Unit\, Soledad WIC 355 Gabilan Dr\, Soledad\, CA\, 93960
CATEGORIES:Outreach
END:VEVENT
BEGIN:VEVENT
DTSTART;TZID=America/Los_Angeles:20300822T090000
DTEND;TZID=America/Los_Angeles:20300822T160000
DTSTAMP:20260422T153544
CREATED:20260203T194318Z
LAST-MODIFIED:20260316T184846Z
UID:10001035-1913619600-1913644800@mc-choice.countyofmonterey.gov
SUMMARY:MC-CHOICE Unit
DESCRIPTION:
URL:https://mc-choice.countyofmonterey.gov/event/mc-choice-unit/2030-08-22/
LOCATION:La Manzana Community Resource Center\, 521 Main St Suite Y\, Watsonville\, CA\, 95076
END:VEVENT
BEGIN:VEVENT
DTSTART;TZID=America/Los_Angeles:20300821T090000
DTEND;TZID=America/Los_Angeles:20300821T160000
DTSTAMP:20260422T153544
CREATED:20251215T230936Z
LAST-MODIFIED:20260316T175014Z
UID:10000774-1913533200-1913558400@mc-choice.countyofmonterey.gov
SUMMARY:MC-CHOICE Unit
DESCRIPTION:
URL:https://mc-choice.countyofmonterey.gov/event/mc-choice-unit-every-wednesday/2030-08-21/
LOCATION:MC-CHOICE Unit\, WIC Office 632 E. Alisal St\, Salinas\, CA\, 93905
CATEGORIES:Outreach
END:VEVENT
BEGIN:VEVENT
DTSTART;TZID=America/Los_Angeles:20300820T090000
DTEND;TZID=America/Los_Angeles:20300820T160000
DTSTAMP:20260422T153544
CREATED:20251215T230629Z
LAST-MODIFIED:20260316T175115Z
UID:10001296-1913446800-1913472000@mc-choice.countyofmonterey.gov
SUMMARY:MC-CHOICE Unit
DESCRIPTION:
URL:https://mc-choice.countyofmonterey.gov/event/mc-choice-unit-every-tuesday/2030-08-20/
LOCATION:MC-CHOICE Unit\, Soledad WIC 355 Gabilan Dr\, Soledad\, CA\, 93960
CATEGORIES:Outreach
END:VEVENT
BEGIN:VEVENT
DTSTART;TZID=America/Los_Angeles:20300815T090000
DTEND;TZID=America/Los_Angeles:20300815T160000
DTSTAMP:20260422T153544
CREATED:20260203T194318Z
LAST-MODIFIED:20260316T184846Z
UID:10001034-1913014800-1913040000@mc-choice.countyofmonterey.gov
SUMMARY:MC-CHOICE Unit
DESCRIPTION:
URL:https://mc-choice.countyofmonterey.gov/event/mc-choice-unit/2030-08-15/
LOCATION:La Manzana Community Resource Center\, 521 Main St Suite Y\, Watsonville\, CA\, 95076
END:VEVENT
BEGIN:VEVENT
DTSTART;TZID=America/Los_Angeles:20300814T090000
DTEND;TZID=America/Los_Angeles:20300814T160000
DTSTAMP:20260422T153544
CREATED:20251215T230936Z
LAST-MODIFIED:20260316T175014Z
UID:10000773-1912928400-1912953600@mc-choice.countyofmonterey.gov
SUMMARY:MC-CHOICE Unit
DESCRIPTION:
URL:https://mc-choice.countyofmonterey.gov/event/mc-choice-unit-every-wednesday/2030-08-14/
LOCATION:MC-CHOICE Unit\, WIC Office 632 E. Alisal St\, Salinas\, CA\, 93905
CATEGORIES:Outreach
END:VEVENT
BEGIN:VEVENT
DTSTART;TZID=America/Los_Angeles:20300813T090000
DTEND;TZID=America/Los_Angeles:20300813T160000
DTSTAMP:20260422T153544
CREATED:20251215T230629Z
LAST-MODIFIED:20260316T175115Z
UID:10001295-1912842000-1912867200@mc-choice.countyofmonterey.gov
SUMMARY:MC-CHOICE Unit
DESCRIPTION:
URL:https://mc-choice.countyofmonterey.gov/event/mc-choice-unit-every-tuesday/2030-08-13/
LOCATION:MC-CHOICE Unit\, Soledad WIC 355 Gabilan Dr\, Soledad\, CA\, 93960
CATEGORIES:Outreach
END:VEVENT
BEGIN:VEVENT
DTSTART;TZID=America/Los_Angeles:20300808T090000
DTEND;TZID=America/Los_Angeles:20300808T160000
DTSTAMP:20260422T153544
CREATED:20260203T194318Z
LAST-MODIFIED:20260316T184846Z
UID:10001033-1912410000-1912435200@mc-choice.countyofmonterey.gov
SUMMARY:MC-CHOICE Unit
DESCRIPTION:
URL:https://mc-choice.countyofmonterey.gov/event/mc-choice-unit/2030-08-08/
LOCATION:La Manzana Community Resource Center\, 521 Main St Suite Y\, Watsonville\, CA\, 95076
END:VEVENT
BEGIN:VEVENT
DTSTART;TZID=America/Los_Angeles:20300807T090000
DTEND;TZID=America/Los_Angeles:20300807T160000
DTSTAMP:20260422T153544
CREATED:20251215T230936Z
LAST-MODIFIED:20260316T175014Z
UID:10000772-1912323600-1912348800@mc-choice.countyofmonterey.gov
SUMMARY:MC-CHOICE Unit
DESCRIPTION:
URL:https://mc-choice.countyofmonterey.gov/event/mc-choice-unit-every-wednesday/2030-08-07/
LOCATION:MC-CHOICE Unit\, WIC Office 632 E. Alisal St\, Salinas\, CA\, 93905
CATEGORIES:Outreach
END:VEVENT
BEGIN:VEVENT
DTSTART;TZID=America/Los_Angeles:20300806T090000
DTEND;TZID=America/Los_Angeles:20300806T160000
DTSTAMP:20260422T153544
CREATED:20251215T230629Z
LAST-MODIFIED:20260316T175115Z
UID:10001294-1912237200-1912262400@mc-choice.countyofmonterey.gov
SUMMARY:MC-CHOICE Unit
DESCRIPTION:
URL:https://mc-choice.countyofmonterey.gov/event/mc-choice-unit-every-tuesday/2030-08-06/
LOCATION:MC-CHOICE Unit\, Soledad WIC 355 Gabilan Dr\, Soledad\, CA\, 93960
CATEGORIES:Outreach
END:VEVENT
BEGIN:VEVENT
DTSTART;TZID=America/Los_Angeles:20300801T090000
DTEND;TZID=America/Los_Angeles:20300801T160000
DTSTAMP:20260422T153544
CREATED:20260203T194318Z
LAST-MODIFIED:20260316T184846Z
UID:10001032-1911805200-1911830400@mc-choice.countyofmonterey.gov
SUMMARY:MC-CHOICE Unit
DESCRIPTION:
URL:https://mc-choice.countyofmonterey.gov/event/mc-choice-unit/2030-08-01/
LOCATION:La Manzana Community Resource Center\, 521 Main St Suite Y\, Watsonville\, CA\, 95076
END:VEVENT
BEGIN:VEVENT
DTSTART;TZID=America/Los_Angeles:20300731T090000
DTEND;TZID=America/Los_Angeles:20300731T160000
DTSTAMP:20260422T153544
CREATED:20251215T230936Z
LAST-MODIFIED:20260316T175014Z
UID:10000771-1911718800-1911744000@mc-choice.countyofmonterey.gov
SUMMARY:MC-CHOICE Unit
DESCRIPTION:
URL:https://mc-choice.countyofmonterey.gov/event/mc-choice-unit-every-wednesday/2030-07-31/
LOCATION:MC-CHOICE Unit\, WIC Office 632 E. Alisal St\, Salinas\, CA\, 93905
CATEGORIES:Outreach
END:VEVENT
BEGIN:VEVENT
DTSTART;TZID=America/Los_Angeles:20300730T090000
DTEND;TZID=America/Los_Angeles:20300730T160000
DTSTAMP:20260422T153544
CREATED:20251215T230629Z
LAST-MODIFIED:20260316T175115Z
UID:10001293-1911632400-1911657600@mc-choice.countyofmonterey.gov
SUMMARY:MC-CHOICE Unit
DESCRIPTION:
URL:https://mc-choice.countyofmonterey.gov/event/mc-choice-unit-every-tuesday/2030-07-30/
LOCATION:MC-CHOICE Unit\, Soledad WIC 355 Gabilan Dr\, Soledad\, CA\, 93960
CATEGORIES:Outreach
END:VEVENT
BEGIN:VEVENT
DTSTART;TZID=America/Los_Angeles:20300725T090000
DTEND;TZID=America/Los_Angeles:20300725T160000
DTSTAMP:20260422T153544
CREATED:20260203T194318Z
LAST-MODIFIED:20260316T184846Z
UID:10001031-1911200400-1911225600@mc-choice.countyofmonterey.gov
SUMMARY:MC-CHOICE Unit
DESCRIPTION:
URL:https://mc-choice.countyofmonterey.gov/event/mc-choice-unit/2030-07-25/
LOCATION:La Manzana Community Resource Center\, 521 Main St Suite Y\, Watsonville\, CA\, 95076
END:VEVENT
BEGIN:VEVENT
DTSTART;TZID=America/Los_Angeles:20300724T090000
DTEND;TZID=America/Los_Angeles:20300724T160000
DTSTAMP:20260422T153544
CREATED:20251215T230936Z
LAST-MODIFIED:20260316T175014Z
UID:10000770-1911114000-1911139200@mc-choice.countyofmonterey.gov
SUMMARY:MC-CHOICE Unit
DESCRIPTION:
URL:https://mc-choice.countyofmonterey.gov/event/mc-choice-unit-every-wednesday/2030-07-24/
LOCATION:MC-CHOICE Unit\, WIC Office 632 E. Alisal St\, Salinas\, CA\, 93905
CATEGORIES:Outreach
END:VEVENT
BEGIN:VEVENT
DTSTART;TZID=America/Los_Angeles:20300723T090000
DTEND;TZID=America/Los_Angeles:20300723T160000
DTSTAMP:20260422T153544
CREATED:20251215T230629Z
LAST-MODIFIED:20260316T175115Z
UID:10001292-1911027600-1911052800@mc-choice.countyofmonterey.gov
SUMMARY:MC-CHOICE Unit
DESCRIPTION:
URL:https://mc-choice.countyofmonterey.gov/event/mc-choice-unit-every-tuesday/2030-07-23/
LOCATION:MC-CHOICE Unit\, Soledad WIC 355 Gabilan Dr\, Soledad\, CA\, 93960
CATEGORIES:Outreach
END:VEVENT
BEGIN:VEVENT
DTSTART;TZID=America/Los_Angeles:20300718T090000
DTEND;TZID=America/Los_Angeles:20300718T160000
DTSTAMP:20260422T153544
CREATED:20260203T194318Z
LAST-MODIFIED:20260316T184846Z
UID:10001030-1910595600-1910620800@mc-choice.countyofmonterey.gov
SUMMARY:MC-CHOICE Unit
DESCRIPTION:
URL:https://mc-choice.countyofmonterey.gov/event/mc-choice-unit/2030-07-18/
LOCATION:La Manzana Community Resource Center\, 521 Main St Suite Y\, Watsonville\, CA\, 95076
END:VEVENT
BEGIN:VEVENT
DTSTART;TZID=America/Los_Angeles:20300717T090000
DTEND;TZID=America/Los_Angeles:20300717T160000
DTSTAMP:20260422T153544
CREATED:20251215T230936Z
LAST-MODIFIED:20260316T175014Z
UID:10000769-1910509200-1910534400@mc-choice.countyofmonterey.gov
SUMMARY:MC-CHOICE Unit
DESCRIPTION:
URL:https://mc-choice.countyofmonterey.gov/event/mc-choice-unit-every-wednesday/2030-07-17/
LOCATION:MC-CHOICE Unit\, WIC Office 632 E. Alisal St\, Salinas\, CA\, 93905
CATEGORIES:Outreach
END:VEVENT
BEGIN:VEVENT
DTSTART;TZID=America/Los_Angeles:20300716T090000
DTEND;TZID=America/Los_Angeles:20300716T160000
DTSTAMP:20260422T153544
CREATED:20251215T230629Z
LAST-MODIFIED:20260316T175115Z
UID:10001291-1910422800-1910448000@mc-choice.countyofmonterey.gov
SUMMARY:MC-CHOICE Unit
DESCRIPTION:
URL:https://mc-choice.countyofmonterey.gov/event/mc-choice-unit-every-tuesday/2030-07-16/
LOCATION:MC-CHOICE Unit\, Soledad WIC 355 Gabilan Dr\, Soledad\, CA\, 93960
CATEGORIES:Outreach
END:VEVENT
BEGIN:VEVENT
DTSTART;TZID=America/Los_Angeles:20300711T090000
DTEND;TZID=America/Los_Angeles:20300711T160000
DTSTAMP:20260422T153544
CREATED:20260203T194318Z
LAST-MODIFIED:20260316T184846Z
UID:10001029-1909990800-1910016000@mc-choice.countyofmonterey.gov
SUMMARY:MC-CHOICE Unit
DESCRIPTION:
URL:https://mc-choice.countyofmonterey.gov/event/mc-choice-unit/2030-07-11/
LOCATION:La Manzana Community Resource Center\, 521 Main St Suite Y\, Watsonville\, CA\, 95076
END:VEVENT
BEGIN:VEVENT
DTSTART;TZID=America/Los_Angeles:20300710T090000
DTEND;TZID=America/Los_Angeles:20300710T160000
DTSTAMP:20260422T153544
CREATED:20251215T230936Z
LAST-MODIFIED:20260316T175014Z
UID:10000768-1909904400-1909929600@mc-choice.countyofmonterey.gov
SUMMARY:MC-CHOICE Unit
DESCRIPTION:
URL:https://mc-choice.countyofmonterey.gov/event/mc-choice-unit-every-wednesday/2030-07-10/
LOCATION:MC-CHOICE Unit\, WIC Office 632 E. Alisal St\, Salinas\, CA\, 93905
CATEGORIES:Outreach
END:VEVENT
BEGIN:VEVENT
DTSTART;TZID=America/Los_Angeles:20300709T090000
DTEND;TZID=America/Los_Angeles:20300709T160000
DTSTAMP:20260422T153544
CREATED:20251215T230629Z
LAST-MODIFIED:20260316T175115Z
UID:10001290-1909818000-1909843200@mc-choice.countyofmonterey.gov
SUMMARY:MC-CHOICE Unit
DESCRIPTION:
URL:https://mc-choice.countyofmonterey.gov/event/mc-choice-unit-every-tuesday/2030-07-09/
LOCATION:MC-CHOICE Unit\, Soledad WIC 355 Gabilan Dr\, Soledad\, CA\, 93960
CATEGORIES:Outreach
END:VEVENT
BEGIN:VEVENT
DTSTART;TZID=America/Los_Angeles:20300704T090000
DTEND;TZID=America/Los_Angeles:20300704T160000
DTSTAMP:20260422T153544
CREATED:20260203T194318Z
LAST-MODIFIED:20260316T184846Z
UID:10001028-1909386000-1909411200@mc-choice.countyofmonterey.gov
SUMMARY:MC-CHOICE Unit
DESCRIPTION:
URL:https://mc-choice.countyofmonterey.gov/event/mc-choice-unit/2030-07-04/
LOCATION:La Manzana Community Resource Center\, 521 Main St Suite Y\, Watsonville\, CA\, 95076
END:VEVENT
BEGIN:VEVENT
DTSTART;TZID=America/Los_Angeles:20300703T090000
DTEND;TZID=America/Los_Angeles:20300703T160000
DTSTAMP:20260422T153544
CREATED:20251215T230936Z
LAST-MODIFIED:20260316T175014Z
UID:10000767-1909299600-1909324800@mc-choice.countyofmonterey.gov
SUMMARY:MC-CHOICE Unit
DESCRIPTION:
URL:https://mc-choice.countyofmonterey.gov/event/mc-choice-unit-every-wednesday/2030-07-03/
LOCATION:MC-CHOICE Unit\, WIC Office 632 E. Alisal St\, Salinas\, CA\, 93905
CATEGORIES:Outreach
END:VEVENT
BEGIN:VEVENT
DTSTART;TZID=America/Los_Angeles:20300702T090000
DTEND;TZID=America/Los_Angeles:20300702T160000
DTSTAMP:20260422T153544
CREATED:20251215T230629Z
LAST-MODIFIED:20260316T175115Z
UID:10001289-1909213200-1909238400@mc-choice.countyofmonterey.gov
SUMMARY:MC-CHOICE Unit
DESCRIPTION:
URL:https://mc-choice.countyofmonterey.gov/event/mc-choice-unit-every-tuesday/2030-07-02/
LOCATION:MC-CHOICE Unit\, Soledad WIC 355 Gabilan Dr\, Soledad\, CA\, 93960
CATEGORIES:Outreach
END:VEVENT
BEGIN:VEVENT
DTSTART;TZID=America/Los_Angeles:20300627T090000
DTEND;TZID=America/Los_Angeles:20300627T160000
DTSTAMP:20260422T153544
CREATED:20260203T194318Z
LAST-MODIFIED:20260316T184846Z
UID:10001027-1908781200-1908806400@mc-choice.countyofmonterey.gov
SUMMARY:MC-CHOICE Unit
DESCRIPTION:
URL:https://mc-choice.countyofmonterey.gov/event/mc-choice-unit/2030-06-27/
LOCATION:La Manzana Community Resource Center\, 521 Main St Suite Y\, Watsonville\, CA\, 95076
END:VEVENT
BEGIN:VEVENT
DTSTART;TZID=America/Los_Angeles:20300626T090000
DTEND;TZID=America/Los_Angeles:20300626T160000
DTSTAMP:20260422T153544
CREATED:20251215T230936Z
LAST-MODIFIED:20260316T175014Z
UID:10000766-1908694800-1908720000@mc-choice.countyofmonterey.gov
SUMMARY:MC-CHOICE Unit
DESCRIPTION:
URL:https://mc-choice.countyofmonterey.gov/event/mc-choice-unit-every-wednesday/2030-06-26/
LOCATION:MC-CHOICE Unit\, WIC Office 632 E. Alisal St\, Salinas\, CA\, 93905
CATEGORIES:Outreach
END:VEVENT
BEGIN:VEVENT
DTSTART;TZID=America/Los_Angeles:20300625T090000
DTEND;TZID=America/Los_Angeles:20300625T160000
DTSTAMP:20260422T153544
CREATED:20251215T230629Z
LAST-MODIFIED:20260316T175115Z
UID:10001288-1908608400-1908633600@mc-choice.countyofmonterey.gov
SUMMARY:MC-CHOICE Unit
DESCRIPTION:
URL:https://mc-choice.countyofmonterey.gov/event/mc-choice-unit-every-tuesday/2030-06-25/
LOCATION:MC-CHOICE Unit\, Soledad WIC 355 Gabilan Dr\, Soledad\, CA\, 93960
CATEGORIES:Outreach
END:VEVENT
END:VCALENDAR