


BEGIN:VCALENDAR
VERSION:2.0
PRODID:-//MC-CHOICE - ECPv6.15.12.2//NONSGML v1.0//EN
CALSCALE:GREGORIAN
METHOD:PUBLISH
X-WR-CALNAME:MC-CHOICE
X-ORIGINAL-URL:https://mc-choice.countyofmonterey.gov
X-WR-CALDESC:Events for MC-CHOICE
REFRESH-INTERVAL;VALUE=DURATION:PT1H
X-Robots-Tag:noindex
X-PUBLISHED-TTL:PT1H
BEGIN:VTIMEZONE
TZID:America/Los_Angeles
BEGIN:DAYLIGHT
TZOFFSETFROM:-0800
TZOFFSETTO:-0700
TZNAME:PDT
DTSTART:20280312T100000
END:DAYLIGHT
BEGIN:STANDARD
TZOFFSETFROM:-0700
TZOFFSETTO:-0800
TZNAME:PST
DTSTART:20281105T090000
END:STANDARD
BEGIN:DAYLIGHT
TZOFFSETFROM:-0800
TZOFFSETTO:-0700
TZNAME:PDT
DTSTART:20290311T100000
END:DAYLIGHT
BEGIN:STANDARD
TZOFFSETFROM:-0700
TZOFFSETTO:-0800
TZNAME:PST
DTSTART:20291104T090000
END:STANDARD
BEGIN:DAYLIGHT
TZOFFSETFROM:-0800
TZOFFSETTO:-0700
TZNAME:PDT
DTSTART:20300310T100000
END:DAYLIGHT
BEGIN:STANDARD
TZOFFSETFROM:-0700
TZOFFSETTO:-0800
TZNAME:PST
DTSTART:20301103T090000
END:STANDARD
END:VTIMEZONE
BEGIN:VEVENT
DTSTART;TZID=America/Los_Angeles:20290501T090000
DTEND;TZID=America/Los_Angeles:20290501T160000
DTSTAMP:20260421T000909
CREATED:20251215T230629Z
LAST-MODIFIED:20260316T175115Z
UID:10001228-1872320400-1872345600@mc-choice.countyofmonterey.gov
SUMMARY:MC-CHOICE Unit
DESCRIPTION:
URL:https://mc-choice.countyofmonterey.gov/event/mc-choice-unit-every-tuesday/2029-05-01/
LOCATION:MC-CHOICE Unit\, Soledad WIC 355 Gabilan Dr\, Soledad\, CA\, 93960
CATEGORIES:Outreach
END:VEVENT
BEGIN:VEVENT
DTSTART;TZID=America/Los_Angeles:20290502T090000
DTEND;TZID=America/Los_Angeles:20290502T160000
DTSTAMP:20260421T000909
CREATED:20251215T230936Z
LAST-MODIFIED:20260316T175014Z
UID:10000706-1872406800-1872432000@mc-choice.countyofmonterey.gov
SUMMARY:MC-CHOICE Unit
DESCRIPTION:
URL:https://mc-choice.countyofmonterey.gov/event/mc-choice-unit-every-wednesday/2029-05-02/
LOCATION:MC-CHOICE Unit\, WIC Office 632 E. Alisal St\, Salinas\, CA\, 93905
CATEGORIES:Outreach
END:VEVENT
BEGIN:VEVENT
DTSTART;TZID=America/Los_Angeles:20290503T090000
DTEND;TZID=America/Los_Angeles:20290503T160000
DTSTAMP:20260421T000909
CREATED:20260203T194318Z
LAST-MODIFIED:20260316T184846Z
UID:10000967-1872493200-1872518400@mc-choice.countyofmonterey.gov
SUMMARY:MC-CHOICE Unit
DESCRIPTION:
URL:https://mc-choice.countyofmonterey.gov/event/mc-choice-unit/2029-05-03/
LOCATION:La Manzana Community Resource Center\, 521 Main St Suite Y\, Watsonville\, CA\, 95076
END:VEVENT
BEGIN:VEVENT
DTSTART;TZID=America/Los_Angeles:20290508T090000
DTEND;TZID=America/Los_Angeles:20290508T160000
DTSTAMP:20260421T000909
CREATED:20251215T230629Z
LAST-MODIFIED:20260316T175115Z
UID:10001229-1872925200-1872950400@mc-choice.countyofmonterey.gov
SUMMARY:MC-CHOICE Unit
DESCRIPTION:
URL:https://mc-choice.countyofmonterey.gov/event/mc-choice-unit-every-tuesday/2029-05-08/
LOCATION:MC-CHOICE Unit\, Soledad WIC 355 Gabilan Dr\, Soledad\, CA\, 93960
CATEGORIES:Outreach
END:VEVENT
BEGIN:VEVENT
DTSTART;TZID=America/Los_Angeles:20290509T090000
DTEND;TZID=America/Los_Angeles:20290509T160000
DTSTAMP:20260421T000909
CREATED:20251215T230936Z
LAST-MODIFIED:20260316T175014Z
UID:10000707-1873011600-1873036800@mc-choice.countyofmonterey.gov
SUMMARY:MC-CHOICE Unit
DESCRIPTION:
URL:https://mc-choice.countyofmonterey.gov/event/mc-choice-unit-every-wednesday/2029-05-09/
LOCATION:MC-CHOICE Unit\, WIC Office 632 E. Alisal St\, Salinas\, CA\, 93905
CATEGORIES:Outreach
END:VEVENT
BEGIN:VEVENT
DTSTART;TZID=America/Los_Angeles:20290510T090000
DTEND;TZID=America/Los_Angeles:20290510T160000
DTSTAMP:20260421T000909
CREATED:20260203T194318Z
LAST-MODIFIED:20260316T184846Z
UID:10000968-1873098000-1873123200@mc-choice.countyofmonterey.gov
SUMMARY:MC-CHOICE Unit
DESCRIPTION:
URL:https://mc-choice.countyofmonterey.gov/event/mc-choice-unit/2029-05-10/
LOCATION:La Manzana Community Resource Center\, 521 Main St Suite Y\, Watsonville\, CA\, 95076
END:VEVENT
BEGIN:VEVENT
DTSTART;TZID=America/Los_Angeles:20290515T090000
DTEND;TZID=America/Los_Angeles:20290515T160000
DTSTAMP:20260421T000909
CREATED:20251215T230629Z
LAST-MODIFIED:20260316T175115Z
UID:10001230-1873530000-1873555200@mc-choice.countyofmonterey.gov
SUMMARY:MC-CHOICE Unit
DESCRIPTION:
URL:https://mc-choice.countyofmonterey.gov/event/mc-choice-unit-every-tuesday/2029-05-15/
LOCATION:MC-CHOICE Unit\, Soledad WIC 355 Gabilan Dr\, Soledad\, CA\, 93960
CATEGORIES:Outreach
END:VEVENT
BEGIN:VEVENT
DTSTART;TZID=America/Los_Angeles:20290516T090000
DTEND;TZID=America/Los_Angeles:20290516T160000
DTSTAMP:20260421T000909
CREATED:20251215T230936Z
LAST-MODIFIED:20260316T175014Z
UID:10000708-1873616400-1873641600@mc-choice.countyofmonterey.gov
SUMMARY:MC-CHOICE Unit
DESCRIPTION:
URL:https://mc-choice.countyofmonterey.gov/event/mc-choice-unit-every-wednesday/2029-05-16/
LOCATION:MC-CHOICE Unit\, WIC Office 632 E. Alisal St\, Salinas\, CA\, 93905
CATEGORIES:Outreach
END:VEVENT
BEGIN:VEVENT
DTSTART;TZID=America/Los_Angeles:20290517T090000
DTEND;TZID=America/Los_Angeles:20290517T160000
DTSTAMP:20260421T000909
CREATED:20260203T194318Z
LAST-MODIFIED:20260316T184846Z
UID:10000969-1873702800-1873728000@mc-choice.countyofmonterey.gov
SUMMARY:MC-CHOICE Unit
DESCRIPTION:
URL:https://mc-choice.countyofmonterey.gov/event/mc-choice-unit/2029-05-17/
LOCATION:La Manzana Community Resource Center\, 521 Main St Suite Y\, Watsonville\, CA\, 95076
END:VEVENT
BEGIN:VEVENT
DTSTART;TZID=America/Los_Angeles:20290522T090000
DTEND;TZID=America/Los_Angeles:20290522T160000
DTSTAMP:20260421T000909
CREATED:20251215T230629Z
LAST-MODIFIED:20260316T175115Z
UID:10001231-1874134800-1874160000@mc-choice.countyofmonterey.gov
SUMMARY:MC-CHOICE Unit
DESCRIPTION:
URL:https://mc-choice.countyofmonterey.gov/event/mc-choice-unit-every-tuesday/2029-05-22/
LOCATION:MC-CHOICE Unit\, Soledad WIC 355 Gabilan Dr\, Soledad\, CA\, 93960
CATEGORIES:Outreach
END:VEVENT
BEGIN:VEVENT
DTSTART;TZID=America/Los_Angeles:20290523T090000
DTEND;TZID=America/Los_Angeles:20290523T160000
DTSTAMP:20260421T000910
CREATED:20251215T230936Z
LAST-MODIFIED:20260316T175014Z
UID:10000709-1874221200-1874246400@mc-choice.countyofmonterey.gov
SUMMARY:MC-CHOICE Unit
DESCRIPTION:
URL:https://mc-choice.countyofmonterey.gov/event/mc-choice-unit-every-wednesday/2029-05-23/
LOCATION:MC-CHOICE Unit\, WIC Office 632 E. Alisal St\, Salinas\, CA\, 93905
CATEGORIES:Outreach
END:VEVENT
BEGIN:VEVENT
DTSTART;TZID=America/Los_Angeles:20290524T090000
DTEND;TZID=America/Los_Angeles:20290524T160000
DTSTAMP:20260421T000910
CREATED:20260203T194318Z
LAST-MODIFIED:20260316T184846Z
UID:10000970-1874307600-1874332800@mc-choice.countyofmonterey.gov
SUMMARY:MC-CHOICE Unit
DESCRIPTION:
URL:https://mc-choice.countyofmonterey.gov/event/mc-choice-unit/2029-05-24/
LOCATION:La Manzana Community Resource Center\, 521 Main St Suite Y\, Watsonville\, CA\, 95076
END:VEVENT
BEGIN:VEVENT
DTSTART;TZID=America/Los_Angeles:20290529T090000
DTEND;TZID=America/Los_Angeles:20290529T160000
DTSTAMP:20260421T000910
CREATED:20251215T230629Z
LAST-MODIFIED:20260316T175115Z
UID:10001232-1874739600-1874764800@mc-choice.countyofmonterey.gov
SUMMARY:MC-CHOICE Unit
DESCRIPTION:
URL:https://mc-choice.countyofmonterey.gov/event/mc-choice-unit-every-tuesday/2029-05-29/
LOCATION:MC-CHOICE Unit\, Soledad WIC 355 Gabilan Dr\, Soledad\, CA\, 93960
CATEGORIES:Outreach
END:VEVENT
BEGIN:VEVENT
DTSTART;TZID=America/Los_Angeles:20290530T090000
DTEND;TZID=America/Los_Angeles:20290530T160000
DTSTAMP:20260421T000910
CREATED:20251215T230936Z
LAST-MODIFIED:20260316T175014Z
UID:10000710-1874826000-1874851200@mc-choice.countyofmonterey.gov
SUMMARY:MC-CHOICE Unit
DESCRIPTION:
URL:https://mc-choice.countyofmonterey.gov/event/mc-choice-unit-every-wednesday/2029-05-30/
LOCATION:MC-CHOICE Unit\, WIC Office 632 E. Alisal St\, Salinas\, CA\, 93905
CATEGORIES:Outreach
END:VEVENT
BEGIN:VEVENT
DTSTART;TZID=America/Los_Angeles:20290531T090000
DTEND;TZID=America/Los_Angeles:20290531T160000
DTSTAMP:20260421T000910
CREATED:20260203T194318Z
LAST-MODIFIED:20260316T184846Z
UID:10000971-1874912400-1874937600@mc-choice.countyofmonterey.gov
SUMMARY:MC-CHOICE Unit
DESCRIPTION:
URL:https://mc-choice.countyofmonterey.gov/event/mc-choice-unit/2029-05-31/
LOCATION:La Manzana Community Resource Center\, 521 Main St Suite Y\, Watsonville\, CA\, 95076
END:VEVENT
BEGIN:VEVENT
DTSTART;TZID=America/Los_Angeles:20290605T090000
DTEND;TZID=America/Los_Angeles:20290605T160000
DTSTAMP:20260421T000910
CREATED:20251215T230629Z
LAST-MODIFIED:20260316T175115Z
UID:10001233-1875344400-1875369600@mc-choice.countyofmonterey.gov
SUMMARY:MC-CHOICE Unit
DESCRIPTION:
URL:https://mc-choice.countyofmonterey.gov/event/mc-choice-unit-every-tuesday/2029-06-05/
LOCATION:MC-CHOICE Unit\, Soledad WIC 355 Gabilan Dr\, Soledad\, CA\, 93960
CATEGORIES:Outreach
END:VEVENT
BEGIN:VEVENT
DTSTART;TZID=America/Los_Angeles:20290606T090000
DTEND;TZID=America/Los_Angeles:20290606T160000
DTSTAMP:20260421T000910
CREATED:20251215T230936Z
LAST-MODIFIED:20260316T175014Z
UID:10000711-1875430800-1875456000@mc-choice.countyofmonterey.gov
SUMMARY:MC-CHOICE Unit
DESCRIPTION:
URL:https://mc-choice.countyofmonterey.gov/event/mc-choice-unit-every-wednesday/2029-06-06/
LOCATION:MC-CHOICE Unit\, WIC Office 632 E. Alisal St\, Salinas\, CA\, 93905
CATEGORIES:Outreach
END:VEVENT
BEGIN:VEVENT
DTSTART;TZID=America/Los_Angeles:20290607T090000
DTEND;TZID=America/Los_Angeles:20290607T160000
DTSTAMP:20260421T000910
CREATED:20260203T194318Z
LAST-MODIFIED:20260316T184846Z
UID:10000972-1875517200-1875542400@mc-choice.countyofmonterey.gov
SUMMARY:MC-CHOICE Unit
DESCRIPTION:
URL:https://mc-choice.countyofmonterey.gov/event/mc-choice-unit/2029-06-07/
LOCATION:La Manzana Community Resource Center\, 521 Main St Suite Y\, Watsonville\, CA\, 95076
END:VEVENT
BEGIN:VEVENT
DTSTART;TZID=America/Los_Angeles:20290612T090000
DTEND;TZID=America/Los_Angeles:20290612T160000
DTSTAMP:20260421T000910
CREATED:20251215T230629Z
LAST-MODIFIED:20260316T175115Z
UID:10001234-1875949200-1875974400@mc-choice.countyofmonterey.gov
SUMMARY:MC-CHOICE Unit
DESCRIPTION:
URL:https://mc-choice.countyofmonterey.gov/event/mc-choice-unit-every-tuesday/2029-06-12/
LOCATION:MC-CHOICE Unit\, Soledad WIC 355 Gabilan Dr\, Soledad\, CA\, 93960
CATEGORIES:Outreach
END:VEVENT
BEGIN:VEVENT
DTSTART;TZID=America/Los_Angeles:20290613T090000
DTEND;TZID=America/Los_Angeles:20290613T160000
DTSTAMP:20260421T000910
CREATED:20251215T230936Z
LAST-MODIFIED:20260316T175014Z
UID:10000712-1876035600-1876060800@mc-choice.countyofmonterey.gov
SUMMARY:MC-CHOICE Unit
DESCRIPTION:
URL:https://mc-choice.countyofmonterey.gov/event/mc-choice-unit-every-wednesday/2029-06-13/
LOCATION:MC-CHOICE Unit\, WIC Office 632 E. Alisal St\, Salinas\, CA\, 93905
CATEGORIES:Outreach
END:VEVENT
BEGIN:VEVENT
DTSTART;TZID=America/Los_Angeles:20290614T090000
DTEND;TZID=America/Los_Angeles:20290614T160000
DTSTAMP:20260421T000910
CREATED:20260203T194318Z
LAST-MODIFIED:20260316T184846Z
UID:10000973-1876122000-1876147200@mc-choice.countyofmonterey.gov
SUMMARY:MC-CHOICE Unit
DESCRIPTION:
URL:https://mc-choice.countyofmonterey.gov/event/mc-choice-unit/2029-06-14/
LOCATION:La Manzana Community Resource Center\, 521 Main St Suite Y\, Watsonville\, CA\, 95076
END:VEVENT
BEGIN:VEVENT
DTSTART;TZID=America/Los_Angeles:20290619T090000
DTEND;TZID=America/Los_Angeles:20290619T160000
DTSTAMP:20260421T000910
CREATED:20251215T230629Z
LAST-MODIFIED:20260316T175115Z
UID:10001235-1876554000-1876579200@mc-choice.countyofmonterey.gov
SUMMARY:MC-CHOICE Unit
DESCRIPTION:
URL:https://mc-choice.countyofmonterey.gov/event/mc-choice-unit-every-tuesday/2029-06-19/
LOCATION:MC-CHOICE Unit\, Soledad WIC 355 Gabilan Dr\, Soledad\, CA\, 93960
CATEGORIES:Outreach
END:VEVENT
BEGIN:VEVENT
DTSTART;TZID=America/Los_Angeles:20290620T090000
DTEND;TZID=America/Los_Angeles:20290620T160000
DTSTAMP:20260421T000910
CREATED:20251215T230936Z
LAST-MODIFIED:20260316T175014Z
UID:10000713-1876640400-1876665600@mc-choice.countyofmonterey.gov
SUMMARY:MC-CHOICE Unit
DESCRIPTION:
URL:https://mc-choice.countyofmonterey.gov/event/mc-choice-unit-every-wednesday/2029-06-20/
LOCATION:MC-CHOICE Unit\, WIC Office 632 E. Alisal St\, Salinas\, CA\, 93905
CATEGORIES:Outreach
END:VEVENT
BEGIN:VEVENT
DTSTART;TZID=America/Los_Angeles:20290621T090000
DTEND;TZID=America/Los_Angeles:20290621T160000
DTSTAMP:20260421T000910
CREATED:20260203T194318Z
LAST-MODIFIED:20260316T184846Z
UID:10000974-1876726800-1876752000@mc-choice.countyofmonterey.gov
SUMMARY:MC-CHOICE Unit
DESCRIPTION:
URL:https://mc-choice.countyofmonterey.gov/event/mc-choice-unit/2029-06-21/
LOCATION:La Manzana Community Resource Center\, 521 Main St Suite Y\, Watsonville\, CA\, 95076
END:VEVENT
BEGIN:VEVENT
DTSTART;TZID=America/Los_Angeles:20290626T090000
DTEND;TZID=America/Los_Angeles:20290626T160000
DTSTAMP:20260421T000910
CREATED:20251215T230629Z
LAST-MODIFIED:20260316T175115Z
UID:10001236-1877158800-1877184000@mc-choice.countyofmonterey.gov
SUMMARY:MC-CHOICE Unit
DESCRIPTION:
URL:https://mc-choice.countyofmonterey.gov/event/mc-choice-unit-every-tuesday/2029-06-26/
LOCATION:MC-CHOICE Unit\, Soledad WIC 355 Gabilan Dr\, Soledad\, CA\, 93960
CATEGORIES:Outreach
END:VEVENT
BEGIN:VEVENT
DTSTART;TZID=America/Los_Angeles:20290627T090000
DTEND;TZID=America/Los_Angeles:20290627T160000
DTSTAMP:20260421T000910
CREATED:20251215T230936Z
LAST-MODIFIED:20260316T175014Z
UID:10000714-1877245200-1877270400@mc-choice.countyofmonterey.gov
SUMMARY:MC-CHOICE Unit
DESCRIPTION:
URL:https://mc-choice.countyofmonterey.gov/event/mc-choice-unit-every-wednesday/2029-06-27/
LOCATION:MC-CHOICE Unit\, WIC Office 632 E. Alisal St\, Salinas\, CA\, 93905
CATEGORIES:Outreach
END:VEVENT
BEGIN:VEVENT
DTSTART;TZID=America/Los_Angeles:20290628T090000
DTEND;TZID=America/Los_Angeles:20290628T160000
DTSTAMP:20260421T000910
CREATED:20260203T194318Z
LAST-MODIFIED:20260316T184846Z
UID:10000975-1877331600-1877356800@mc-choice.countyofmonterey.gov
SUMMARY:MC-CHOICE Unit
DESCRIPTION:
URL:https://mc-choice.countyofmonterey.gov/event/mc-choice-unit/2029-06-28/
LOCATION:La Manzana Community Resource Center\, 521 Main St Suite Y\, Watsonville\, CA\, 95076
END:VEVENT
BEGIN:VEVENT
DTSTART;TZID=America/Los_Angeles:20290703T090000
DTEND;TZID=America/Los_Angeles:20290703T160000
DTSTAMP:20260421T000910
CREATED:20251215T230629Z
LAST-MODIFIED:20260316T175115Z
UID:10001237-1877763600-1877788800@mc-choice.countyofmonterey.gov
SUMMARY:MC-CHOICE Unit
DESCRIPTION:
URL:https://mc-choice.countyofmonterey.gov/event/mc-choice-unit-every-tuesday/2029-07-03/
LOCATION:MC-CHOICE Unit\, Soledad WIC 355 Gabilan Dr\, Soledad\, CA\, 93960
CATEGORIES:Outreach
END:VEVENT
BEGIN:VEVENT
DTSTART;TZID=America/Los_Angeles:20290704T090000
DTEND;TZID=America/Los_Angeles:20290704T160000
DTSTAMP:20260421T000910
CREATED:20251215T230936Z
LAST-MODIFIED:20260316T175014Z
UID:10000715-1877850000-1877875200@mc-choice.countyofmonterey.gov
SUMMARY:MC-CHOICE Unit
DESCRIPTION:
URL:https://mc-choice.countyofmonterey.gov/event/mc-choice-unit-every-wednesday/2029-07-04/
LOCATION:MC-CHOICE Unit\, WIC Office 632 E. Alisal St\, Salinas\, CA\, 93905
CATEGORIES:Outreach
END:VEVENT
BEGIN:VEVENT
DTSTART;TZID=America/Los_Angeles:20290705T090000
DTEND;TZID=America/Los_Angeles:20290705T160000
DTSTAMP:20260421T000910
CREATED:20260203T194318Z
LAST-MODIFIED:20260316T184846Z
UID:10000976-1877936400-1877961600@mc-choice.countyofmonterey.gov
SUMMARY:MC-CHOICE Unit
DESCRIPTION:
URL:https://mc-choice.countyofmonterey.gov/event/mc-choice-unit/2029-07-05/
LOCATION:La Manzana Community Resource Center\, 521 Main St Suite Y\, Watsonville\, CA\, 95076
END:VEVENT
END:VCALENDAR