


BEGIN:VCALENDAR
VERSION:2.0
PRODID:-//MC-CHOICE - ECPv6.15.12.2//NONSGML v1.0//EN
CALSCALE:GREGORIAN
METHOD:PUBLISH
X-ORIGINAL-URL:https://mc-choice.countyofmonterey.gov
X-WR-CALDESC:Events for MC-CHOICE
REFRESH-INTERVAL;VALUE=DURATION:PT1H
X-Robots-Tag:noindex
X-PUBLISHED-TTL:PT1H
BEGIN:VTIMEZONE
TZID:America/Los_Angeles
BEGIN:DAYLIGHT
TZOFFSETFROM:-0800
TZOFFSETTO:-0700
TZNAME:PDT
DTSTART:20280312T100000
END:DAYLIGHT
BEGIN:STANDARD
TZOFFSETFROM:-0700
TZOFFSETTO:-0800
TZNAME:PST
DTSTART:20281105T090000
END:STANDARD
BEGIN:DAYLIGHT
TZOFFSETFROM:-0800
TZOFFSETTO:-0700
TZNAME:PDT
DTSTART:20290311T100000
END:DAYLIGHT
BEGIN:STANDARD
TZOFFSETFROM:-0700
TZOFFSETTO:-0800
TZNAME:PST
DTSTART:20291104T090000
END:STANDARD
BEGIN:DAYLIGHT
TZOFFSETFROM:-0800
TZOFFSETTO:-0700
TZNAME:PDT
DTSTART:20300310T100000
END:DAYLIGHT
BEGIN:STANDARD
TZOFFSETFROM:-0700
TZOFFSETTO:-0800
TZNAME:PST
DTSTART:20301103T090000
END:STANDARD
END:VTIMEZONE
BEGIN:VEVENT
DTSTART;TZID=America/Los_Angeles:20290815T090000
DTEND;TZID=America/Los_Angeles:20290815T160000
DTSTAMP:20260421T084351
CREATED:20251215T230936Z
LAST-MODIFIED:20260316T175014Z
UID:10000721-1881478800-1881504000@mc-choice.countyofmonterey.gov
SUMMARY:MC-CHOICE Unit
DESCRIPTION:
URL:https://mc-choice.countyofmonterey.gov/event/mc-choice-unit-every-wednesday/2029-08-15/
LOCATION:MC-CHOICE Unit\, WIC Office 632 E. Alisal St\, Salinas\, CA\, 93905
CATEGORIES:Outreach
END:VEVENT
BEGIN:VEVENT
DTSTART;TZID=America/Los_Angeles:20290816T090000
DTEND;TZID=America/Los_Angeles:20290816T160000
DTSTAMP:20260421T084351
CREATED:20260203T194318Z
LAST-MODIFIED:20260316T184846Z
UID:10000982-1881565200-1881590400@mc-choice.countyofmonterey.gov
SUMMARY:MC-CHOICE Unit
DESCRIPTION:
URL:https://mc-choice.countyofmonterey.gov/event/mc-choice-unit/2029-08-16/
LOCATION:La Manzana Community Resource Center\, 521 Main St Suite Y\, Watsonville\, CA\, 95076
END:VEVENT
BEGIN:VEVENT
DTSTART;TZID=America/Los_Angeles:20290821T090000
DTEND;TZID=America/Los_Angeles:20290821T160000
DTSTAMP:20260421T084351
CREATED:20251215T230629Z
LAST-MODIFIED:20260316T175115Z
UID:10001244-1881997200-1882022400@mc-choice.countyofmonterey.gov
SUMMARY:MC-CHOICE Unit
DESCRIPTION:
URL:https://mc-choice.countyofmonterey.gov/event/mc-choice-unit-every-tuesday/2029-08-21/
LOCATION:MC-CHOICE Unit\, Soledad WIC 355 Gabilan Dr\, Soledad\, CA\, 93960
CATEGORIES:Outreach
END:VEVENT
BEGIN:VEVENT
DTSTART;TZID=America/Los_Angeles:20290822T090000
DTEND;TZID=America/Los_Angeles:20290822T160000
DTSTAMP:20260421T084351
CREATED:20251215T230936Z
LAST-MODIFIED:20260316T175014Z
UID:10000722-1882083600-1882108800@mc-choice.countyofmonterey.gov
SUMMARY:MC-CHOICE Unit
DESCRIPTION:
URL:https://mc-choice.countyofmonterey.gov/event/mc-choice-unit-every-wednesday/2029-08-22/
LOCATION:MC-CHOICE Unit\, WIC Office 632 E. Alisal St\, Salinas\, CA\, 93905
CATEGORIES:Outreach
END:VEVENT
BEGIN:VEVENT
DTSTART;TZID=America/Los_Angeles:20290823T090000
DTEND;TZID=America/Los_Angeles:20290823T160000
DTSTAMP:20260421T084351
CREATED:20260203T194318Z
LAST-MODIFIED:20260316T184846Z
UID:10000983-1882170000-1882195200@mc-choice.countyofmonterey.gov
SUMMARY:MC-CHOICE Unit
DESCRIPTION:
URL:https://mc-choice.countyofmonterey.gov/event/mc-choice-unit/2029-08-23/
LOCATION:La Manzana Community Resource Center\, 521 Main St Suite Y\, Watsonville\, CA\, 95076
END:VEVENT
BEGIN:VEVENT
DTSTART;TZID=America/Los_Angeles:20290828T090000
DTEND;TZID=America/Los_Angeles:20290828T160000
DTSTAMP:20260421T084351
CREATED:20251215T230629Z
LAST-MODIFIED:20260316T175115Z
UID:10001245-1882602000-1882627200@mc-choice.countyofmonterey.gov
SUMMARY:MC-CHOICE Unit
DESCRIPTION:
URL:https://mc-choice.countyofmonterey.gov/event/mc-choice-unit-every-tuesday/2029-08-28/
LOCATION:MC-CHOICE Unit\, Soledad WIC 355 Gabilan Dr\, Soledad\, CA\, 93960
CATEGORIES:Outreach
END:VEVENT
BEGIN:VEVENT
DTSTART;TZID=America/Los_Angeles:20290829T090000
DTEND;TZID=America/Los_Angeles:20290829T160000
DTSTAMP:20260421T084351
CREATED:20251215T230936Z
LAST-MODIFIED:20260316T175014Z
UID:10000723-1882688400-1882713600@mc-choice.countyofmonterey.gov
SUMMARY:MC-CHOICE Unit
DESCRIPTION:
URL:https://mc-choice.countyofmonterey.gov/event/mc-choice-unit-every-wednesday/2029-08-29/
LOCATION:MC-CHOICE Unit\, WIC Office 632 E. Alisal St\, Salinas\, CA\, 93905
CATEGORIES:Outreach
END:VEVENT
BEGIN:VEVENT
DTSTART;TZID=America/Los_Angeles:20290830T090000
DTEND;TZID=America/Los_Angeles:20290830T160000
DTSTAMP:20260421T084351
CREATED:20260203T194318Z
LAST-MODIFIED:20260316T184846Z
UID:10000984-1882774800-1882800000@mc-choice.countyofmonterey.gov
SUMMARY:MC-CHOICE Unit
DESCRIPTION:
URL:https://mc-choice.countyofmonterey.gov/event/mc-choice-unit/2029-08-30/
LOCATION:La Manzana Community Resource Center\, 521 Main St Suite Y\, Watsonville\, CA\, 95076
END:VEVENT
BEGIN:VEVENT
DTSTART;TZID=America/Los_Angeles:20290904T090000
DTEND;TZID=America/Los_Angeles:20290904T160000
DTSTAMP:20260421T084351
CREATED:20251215T230629Z
LAST-MODIFIED:20260316T175115Z
UID:10001246-1883206800-1883232000@mc-choice.countyofmonterey.gov
SUMMARY:MC-CHOICE Unit
DESCRIPTION:
URL:https://mc-choice.countyofmonterey.gov/event/mc-choice-unit-every-tuesday/2029-09-04/
LOCATION:MC-CHOICE Unit\, Soledad WIC 355 Gabilan Dr\, Soledad\, CA\, 93960
CATEGORIES:Outreach
END:VEVENT
BEGIN:VEVENT
DTSTART;TZID=America/Los_Angeles:20290905T090000
DTEND;TZID=America/Los_Angeles:20290905T160000
DTSTAMP:20260421T084351
CREATED:20251215T230936Z
LAST-MODIFIED:20260316T175014Z
UID:10000724-1883293200-1883318400@mc-choice.countyofmonterey.gov
SUMMARY:MC-CHOICE Unit
DESCRIPTION:
URL:https://mc-choice.countyofmonterey.gov/event/mc-choice-unit-every-wednesday/2029-09-05/
LOCATION:MC-CHOICE Unit\, WIC Office 632 E. Alisal St\, Salinas\, CA\, 93905
CATEGORIES:Outreach
END:VEVENT
BEGIN:VEVENT
DTSTART;TZID=America/Los_Angeles:20290906T090000
DTEND;TZID=America/Los_Angeles:20290906T160000
DTSTAMP:20260421T084351
CREATED:20260203T194318Z
LAST-MODIFIED:20260316T184846Z
UID:10000985-1883379600-1883404800@mc-choice.countyofmonterey.gov
SUMMARY:MC-CHOICE Unit
DESCRIPTION:
URL:https://mc-choice.countyofmonterey.gov/event/mc-choice-unit/2029-09-06/
LOCATION:La Manzana Community Resource Center\, 521 Main St Suite Y\, Watsonville\, CA\, 95076
END:VEVENT
BEGIN:VEVENT
DTSTART;TZID=America/Los_Angeles:20290911T090000
DTEND;TZID=America/Los_Angeles:20290911T160000
DTSTAMP:20260421T084351
CREATED:20251215T230629Z
LAST-MODIFIED:20260316T175115Z
UID:10001247-1883811600-1883836800@mc-choice.countyofmonterey.gov
SUMMARY:MC-CHOICE Unit
DESCRIPTION:
URL:https://mc-choice.countyofmonterey.gov/event/mc-choice-unit-every-tuesday/2029-09-11/
LOCATION:MC-CHOICE Unit\, Soledad WIC 355 Gabilan Dr\, Soledad\, CA\, 93960
CATEGORIES:Outreach
END:VEVENT
BEGIN:VEVENT
DTSTART;TZID=America/Los_Angeles:20290912T090000
DTEND;TZID=America/Los_Angeles:20290912T160000
DTSTAMP:20260421T084351
CREATED:20251215T230936Z
LAST-MODIFIED:20260316T175014Z
UID:10000725-1883898000-1883923200@mc-choice.countyofmonterey.gov
SUMMARY:MC-CHOICE Unit
DESCRIPTION:
URL:https://mc-choice.countyofmonterey.gov/event/mc-choice-unit-every-wednesday/2029-09-12/
LOCATION:MC-CHOICE Unit\, WIC Office 632 E. Alisal St\, Salinas\, CA\, 93905
CATEGORIES:Outreach
END:VEVENT
BEGIN:VEVENT
DTSTART;TZID=America/Los_Angeles:20290913T090000
DTEND;TZID=America/Los_Angeles:20290913T160000
DTSTAMP:20260421T084351
CREATED:20260203T194318Z
LAST-MODIFIED:20260316T184846Z
UID:10000986-1883984400-1884009600@mc-choice.countyofmonterey.gov
SUMMARY:MC-CHOICE Unit
DESCRIPTION:
URL:https://mc-choice.countyofmonterey.gov/event/mc-choice-unit/2029-09-13/
LOCATION:La Manzana Community Resource Center\, 521 Main St Suite Y\, Watsonville\, CA\, 95076
END:VEVENT
BEGIN:VEVENT
DTSTART;TZID=America/Los_Angeles:20290918T090000
DTEND;TZID=America/Los_Angeles:20290918T160000
DTSTAMP:20260421T084351
CREATED:20251215T230629Z
LAST-MODIFIED:20260316T175115Z
UID:10001248-1884416400-1884441600@mc-choice.countyofmonterey.gov
SUMMARY:MC-CHOICE Unit
DESCRIPTION:
URL:https://mc-choice.countyofmonterey.gov/event/mc-choice-unit-every-tuesday/2029-09-18/
LOCATION:MC-CHOICE Unit\, Soledad WIC 355 Gabilan Dr\, Soledad\, CA\, 93960
CATEGORIES:Outreach
END:VEVENT
BEGIN:VEVENT
DTSTART;TZID=America/Los_Angeles:20290919T090000
DTEND;TZID=America/Los_Angeles:20290919T160000
DTSTAMP:20260421T084351
CREATED:20251215T230936Z
LAST-MODIFIED:20260316T175014Z
UID:10000726-1884502800-1884528000@mc-choice.countyofmonterey.gov
SUMMARY:MC-CHOICE Unit
DESCRIPTION:
URL:https://mc-choice.countyofmonterey.gov/event/mc-choice-unit-every-wednesday/2029-09-19/
LOCATION:MC-CHOICE Unit\, WIC Office 632 E. Alisal St\, Salinas\, CA\, 93905
CATEGORIES:Outreach
END:VEVENT
BEGIN:VEVENT
DTSTART;TZID=America/Los_Angeles:20290920T090000
DTEND;TZID=America/Los_Angeles:20290920T160000
DTSTAMP:20260421T084351
CREATED:20260203T194318Z
LAST-MODIFIED:20260316T184846Z
UID:10000987-1884589200-1884614400@mc-choice.countyofmonterey.gov
SUMMARY:MC-CHOICE Unit
DESCRIPTION:
URL:https://mc-choice.countyofmonterey.gov/event/mc-choice-unit/2029-09-20/
LOCATION:La Manzana Community Resource Center\, 521 Main St Suite Y\, Watsonville\, CA\, 95076
END:VEVENT
BEGIN:VEVENT
DTSTART;TZID=America/Los_Angeles:20290925T090000
DTEND;TZID=America/Los_Angeles:20290925T160000
DTSTAMP:20260421T084351
CREATED:20251215T230629Z
LAST-MODIFIED:20260316T175115Z
UID:10001249-1885021200-1885046400@mc-choice.countyofmonterey.gov
SUMMARY:MC-CHOICE Unit
DESCRIPTION:
URL:https://mc-choice.countyofmonterey.gov/event/mc-choice-unit-every-tuesday/2029-09-25/
LOCATION:MC-CHOICE Unit\, Soledad WIC 355 Gabilan Dr\, Soledad\, CA\, 93960
CATEGORIES:Outreach
END:VEVENT
BEGIN:VEVENT
DTSTART;TZID=America/Los_Angeles:20290926T090000
DTEND;TZID=America/Los_Angeles:20290926T160000
DTSTAMP:20260421T084351
CREATED:20251215T230936Z
LAST-MODIFIED:20260316T175014Z
UID:10000727-1885107600-1885132800@mc-choice.countyofmonterey.gov
SUMMARY:MC-CHOICE Unit
DESCRIPTION:
URL:https://mc-choice.countyofmonterey.gov/event/mc-choice-unit-every-wednesday/2029-09-26/
LOCATION:MC-CHOICE Unit\, WIC Office 632 E. Alisal St\, Salinas\, CA\, 93905
CATEGORIES:Outreach
END:VEVENT
BEGIN:VEVENT
DTSTART;TZID=America/Los_Angeles:20290927T090000
DTEND;TZID=America/Los_Angeles:20290927T160000
DTSTAMP:20260421T084351
CREATED:20260203T194318Z
LAST-MODIFIED:20260316T184846Z
UID:10000988-1885194000-1885219200@mc-choice.countyofmonterey.gov
SUMMARY:MC-CHOICE Unit
DESCRIPTION:
URL:https://mc-choice.countyofmonterey.gov/event/mc-choice-unit/2029-09-27/
LOCATION:La Manzana Community Resource Center\, 521 Main St Suite Y\, Watsonville\, CA\, 95076
END:VEVENT
BEGIN:VEVENT
DTSTART;TZID=America/Los_Angeles:20291002T090000
DTEND;TZID=America/Los_Angeles:20291002T160000
DTSTAMP:20260421T084351
CREATED:20251215T230629Z
LAST-MODIFIED:20260316T175115Z
UID:10001250-1885626000-1885651200@mc-choice.countyofmonterey.gov
SUMMARY:MC-CHOICE Unit
DESCRIPTION:
URL:https://mc-choice.countyofmonterey.gov/event/mc-choice-unit-every-tuesday/2029-10-02/
LOCATION:MC-CHOICE Unit\, Soledad WIC 355 Gabilan Dr\, Soledad\, CA\, 93960
CATEGORIES:Outreach
END:VEVENT
BEGIN:VEVENT
DTSTART;TZID=America/Los_Angeles:20291003T090000
DTEND;TZID=America/Los_Angeles:20291003T160000
DTSTAMP:20260421T084351
CREATED:20251215T230936Z
LAST-MODIFIED:20260316T175014Z
UID:10000728-1885712400-1885737600@mc-choice.countyofmonterey.gov
SUMMARY:MC-CHOICE Unit
DESCRIPTION:
URL:https://mc-choice.countyofmonterey.gov/event/mc-choice-unit-every-wednesday/2029-10-03/
LOCATION:MC-CHOICE Unit\, WIC Office 632 E. Alisal St\, Salinas\, CA\, 93905
CATEGORIES:Outreach
END:VEVENT
BEGIN:VEVENT
DTSTART;TZID=America/Los_Angeles:20291004T090000
DTEND;TZID=America/Los_Angeles:20291004T160000
DTSTAMP:20260421T084351
CREATED:20260203T194318Z
LAST-MODIFIED:20260316T184846Z
UID:10000989-1885798800-1885824000@mc-choice.countyofmonterey.gov
SUMMARY:MC-CHOICE Unit
DESCRIPTION:
URL:https://mc-choice.countyofmonterey.gov/event/mc-choice-unit/2029-10-04/
LOCATION:La Manzana Community Resource Center\, 521 Main St Suite Y\, Watsonville\, CA\, 95076
END:VEVENT
BEGIN:VEVENT
DTSTART;TZID=America/Los_Angeles:20291009T090000
DTEND;TZID=America/Los_Angeles:20291009T160000
DTSTAMP:20260421T084351
CREATED:20251215T230629Z
LAST-MODIFIED:20260316T175115Z
UID:10001251-1886230800-1886256000@mc-choice.countyofmonterey.gov
SUMMARY:MC-CHOICE Unit
DESCRIPTION:
URL:https://mc-choice.countyofmonterey.gov/event/mc-choice-unit-every-tuesday/2029-10-09/
LOCATION:MC-CHOICE Unit\, Soledad WIC 355 Gabilan Dr\, Soledad\, CA\, 93960
CATEGORIES:Outreach
END:VEVENT
BEGIN:VEVENT
DTSTART;TZID=America/Los_Angeles:20291010T090000
DTEND;TZID=America/Los_Angeles:20291010T160000
DTSTAMP:20260421T084351
CREATED:20251215T230936Z
LAST-MODIFIED:20260316T175014Z
UID:10000729-1886317200-1886342400@mc-choice.countyofmonterey.gov
SUMMARY:MC-CHOICE Unit
DESCRIPTION:
URL:https://mc-choice.countyofmonterey.gov/event/mc-choice-unit-every-wednesday/2029-10-10/
LOCATION:MC-CHOICE Unit\, WIC Office 632 E. Alisal St\, Salinas\, CA\, 93905
CATEGORIES:Outreach
END:VEVENT
BEGIN:VEVENT
DTSTART;TZID=America/Los_Angeles:20291011T090000
DTEND;TZID=America/Los_Angeles:20291011T160000
DTSTAMP:20260421T084351
CREATED:20260203T194318Z
LAST-MODIFIED:20260316T184846Z
UID:10000990-1886403600-1886428800@mc-choice.countyofmonterey.gov
SUMMARY:MC-CHOICE Unit
DESCRIPTION:
URL:https://mc-choice.countyofmonterey.gov/event/mc-choice-unit/2029-10-11/
LOCATION:La Manzana Community Resource Center\, 521 Main St Suite Y\, Watsonville\, CA\, 95076
END:VEVENT
BEGIN:VEVENT
DTSTART;TZID=America/Los_Angeles:20291016T090000
DTEND;TZID=America/Los_Angeles:20291016T160000
DTSTAMP:20260421T084351
CREATED:20251215T230629Z
LAST-MODIFIED:20260316T175115Z
UID:10001252-1886835600-1886860800@mc-choice.countyofmonterey.gov
SUMMARY:MC-CHOICE Unit
DESCRIPTION:
URL:https://mc-choice.countyofmonterey.gov/event/mc-choice-unit-every-tuesday/2029-10-16/
LOCATION:MC-CHOICE Unit\, Soledad WIC 355 Gabilan Dr\, Soledad\, CA\, 93960
CATEGORIES:Outreach
END:VEVENT
BEGIN:VEVENT
DTSTART;TZID=America/Los_Angeles:20291017T090000
DTEND;TZID=America/Los_Angeles:20291017T160000
DTSTAMP:20260421T084351
CREATED:20251215T230936Z
LAST-MODIFIED:20260316T175014Z
UID:10000730-1886922000-1886947200@mc-choice.countyofmonterey.gov
SUMMARY:MC-CHOICE Unit
DESCRIPTION:
URL:https://mc-choice.countyofmonterey.gov/event/mc-choice-unit-every-wednesday/2029-10-17/
LOCATION:MC-CHOICE Unit\, WIC Office 632 E. Alisal St\, Salinas\, CA\, 93905
CATEGORIES:Outreach
END:VEVENT
BEGIN:VEVENT
DTSTART;TZID=America/Los_Angeles:20291018T090000
DTEND;TZID=America/Los_Angeles:20291018T160000
DTSTAMP:20260421T084351
CREATED:20260203T194318Z
LAST-MODIFIED:20260316T184846Z
UID:10000991-1887008400-1887033600@mc-choice.countyofmonterey.gov
SUMMARY:MC-CHOICE Unit
DESCRIPTION:
URL:https://mc-choice.countyofmonterey.gov/event/mc-choice-unit/2029-10-18/
LOCATION:La Manzana Community Resource Center\, 521 Main St Suite Y\, Watsonville\, CA\, 95076
END:VEVENT
BEGIN:VEVENT
DTSTART;TZID=America/Los_Angeles:20291023T090000
DTEND;TZID=America/Los_Angeles:20291023T160000
DTSTAMP:20260421T084351
CREATED:20251215T230629Z
LAST-MODIFIED:20260316T175115Z
UID:10001253-1887440400-1887465600@mc-choice.countyofmonterey.gov
SUMMARY:MC-CHOICE Unit
DESCRIPTION:
URL:https://mc-choice.countyofmonterey.gov/event/mc-choice-unit-every-tuesday/2029-10-23/
LOCATION:MC-CHOICE Unit\, Soledad WIC 355 Gabilan Dr\, Soledad\, CA\, 93960
CATEGORIES:Outreach
END:VEVENT
END:VCALENDAR