


BEGIN:VCALENDAR
VERSION:2.0
PRODID:-//MC-CHOICE - ECPv6.15.12.2//NONSGML v1.0//EN
CALSCALE:GREGORIAN
METHOD:PUBLISH
X-WR-CALNAME:MC-CHOICE
X-ORIGINAL-URL:https://mc-choice.countyofmonterey.gov
X-WR-CALDESC:Events for MC-CHOICE
REFRESH-INTERVAL;VALUE=DURATION:PT1H
X-Robots-Tag:noindex
X-PUBLISHED-TTL:PT1H
BEGIN:VTIMEZONE
TZID:America/Los_Angeles
BEGIN:DAYLIGHT
TZOFFSETFROM:-0800
TZOFFSETTO:-0700
TZNAME:PDT
DTSTART:20290311T100000
END:DAYLIGHT
BEGIN:STANDARD
TZOFFSETFROM:-0700
TZOFFSETTO:-0800
TZNAME:PST
DTSTART:20291104T090000
END:STANDARD
BEGIN:DAYLIGHT
TZOFFSETFROM:-0800
TZOFFSETTO:-0700
TZNAME:PDT
DTSTART:20300310T100000
END:DAYLIGHT
BEGIN:STANDARD
TZOFFSETFROM:-0700
TZOFFSETTO:-0800
TZNAME:PST
DTSTART:20301103T090000
END:STANDARD
BEGIN:DAYLIGHT
TZOFFSETFROM:-0800
TZOFFSETTO:-0700
TZNAME:PDT
DTSTART:20310309T100000
END:DAYLIGHT
BEGIN:STANDARD
TZOFFSETFROM:-0700
TZOFFSETTO:-0800
TZNAME:PST
DTSTART:20311102T090000
END:STANDARD
END:VTIMEZONE
BEGIN:VEVENT
DTSTART;TZID=America/Los_Angeles:20301205T090000
DTEND;TZID=America/Los_Angeles:20301205T160000
DTSTAMP:20260423T000023
CREATED:20260203T194318Z
LAST-MODIFIED:20260316T184846Z
UID:10001050-1922691600-1922716800@mc-choice.countyofmonterey.gov
SUMMARY:MC-CHOICE Unit
DESCRIPTION:
URL:https://mc-choice.countyofmonterey.gov/event/mc-choice-unit/2030-12-05/
LOCATION:La Manzana Community Resource Center\, 521 Main St Suite Y\, Watsonville\, CA\, 95076
END:VEVENT
BEGIN:VEVENT
DTSTART;TZID=America/Los_Angeles:20301204T090000
DTEND;TZID=America/Los_Angeles:20301204T160000
DTSTAMP:20260423T000023
CREATED:20251215T230936Z
LAST-MODIFIED:20260316T175014Z
UID:10000789-1922605200-1922630400@mc-choice.countyofmonterey.gov
SUMMARY:MC-CHOICE Unit
DESCRIPTION:
URL:https://mc-choice.countyofmonterey.gov/event/mc-choice-unit-every-wednesday/2030-12-04/
LOCATION:MC-CHOICE Unit\, WIC Office 632 E. Alisal St\, Salinas\, CA\, 93905
CATEGORIES:Outreach
END:VEVENT
BEGIN:VEVENT
DTSTART;TZID=America/Los_Angeles:20301203T090000
DTEND;TZID=America/Los_Angeles:20301203T160000
DTSTAMP:20260423T000023
CREATED:20251215T230629Z
LAST-MODIFIED:20260316T175115Z
UID:10001311-1922518800-1922544000@mc-choice.countyofmonterey.gov
SUMMARY:MC-CHOICE Unit
DESCRIPTION:
URL:https://mc-choice.countyofmonterey.gov/event/mc-choice-unit-every-tuesday/2030-12-03/
LOCATION:MC-CHOICE Unit\, Soledad WIC 355 Gabilan Dr\, Soledad\, CA\, 93960
CATEGORIES:Outreach
END:VEVENT
BEGIN:VEVENT
DTSTART;TZID=America/Los_Angeles:20301128T090000
DTEND;TZID=America/Los_Angeles:20301128T160000
DTSTAMP:20260423T000023
CREATED:20260203T194318Z
LAST-MODIFIED:20260316T184846Z
UID:10001049-1922086800-1922112000@mc-choice.countyofmonterey.gov
SUMMARY:MC-CHOICE Unit
DESCRIPTION:
URL:https://mc-choice.countyofmonterey.gov/event/mc-choice-unit/2030-11-28/
LOCATION:La Manzana Community Resource Center\, 521 Main St Suite Y\, Watsonville\, CA\, 95076
END:VEVENT
BEGIN:VEVENT
DTSTART;TZID=America/Los_Angeles:20301127T090000
DTEND;TZID=America/Los_Angeles:20301127T160000
DTSTAMP:20260423T000023
CREATED:20251215T230936Z
LAST-MODIFIED:20260316T175014Z
UID:10000788-1922000400-1922025600@mc-choice.countyofmonterey.gov
SUMMARY:MC-CHOICE Unit
DESCRIPTION:
URL:https://mc-choice.countyofmonterey.gov/event/mc-choice-unit-every-wednesday/2030-11-27/
LOCATION:MC-CHOICE Unit\, WIC Office 632 E. Alisal St\, Salinas\, CA\, 93905
CATEGORIES:Outreach
END:VEVENT
BEGIN:VEVENT
DTSTART;TZID=America/Los_Angeles:20301126T090000
DTEND;TZID=America/Los_Angeles:20301126T160000
DTSTAMP:20260423T000023
CREATED:20251215T230629Z
LAST-MODIFIED:20260316T175115Z
UID:10001310-1921914000-1921939200@mc-choice.countyofmonterey.gov
SUMMARY:MC-CHOICE Unit
DESCRIPTION:
URL:https://mc-choice.countyofmonterey.gov/event/mc-choice-unit-every-tuesday/2030-11-26/
LOCATION:MC-CHOICE Unit\, Soledad WIC 355 Gabilan Dr\, Soledad\, CA\, 93960
CATEGORIES:Outreach
END:VEVENT
BEGIN:VEVENT
DTSTART;TZID=America/Los_Angeles:20301121T090000
DTEND;TZID=America/Los_Angeles:20301121T160000
DTSTAMP:20260423T000023
CREATED:20260203T194318Z
LAST-MODIFIED:20260316T184846Z
UID:10001048-1921482000-1921507200@mc-choice.countyofmonterey.gov
SUMMARY:MC-CHOICE Unit
DESCRIPTION:
URL:https://mc-choice.countyofmonterey.gov/event/mc-choice-unit/2030-11-21/
LOCATION:La Manzana Community Resource Center\, 521 Main St Suite Y\, Watsonville\, CA\, 95076
END:VEVENT
BEGIN:VEVENT
DTSTART;TZID=America/Los_Angeles:20301120T090000
DTEND;TZID=America/Los_Angeles:20301120T160000
DTSTAMP:20260423T000023
CREATED:20251215T230936Z
LAST-MODIFIED:20260316T175014Z
UID:10000787-1921395600-1921420800@mc-choice.countyofmonterey.gov
SUMMARY:MC-CHOICE Unit
DESCRIPTION:
URL:https://mc-choice.countyofmonterey.gov/event/mc-choice-unit-every-wednesday/2030-11-20/
LOCATION:MC-CHOICE Unit\, WIC Office 632 E. Alisal St\, Salinas\, CA\, 93905
CATEGORIES:Outreach
END:VEVENT
BEGIN:VEVENT
DTSTART;TZID=America/Los_Angeles:20301119T090000
DTEND;TZID=America/Los_Angeles:20301119T160000
DTSTAMP:20260423T000023
CREATED:20251215T230629Z
LAST-MODIFIED:20260316T175115Z
UID:10001309-1921309200-1921334400@mc-choice.countyofmonterey.gov
SUMMARY:MC-CHOICE Unit
DESCRIPTION:
URL:https://mc-choice.countyofmonterey.gov/event/mc-choice-unit-every-tuesday/2030-11-19/
LOCATION:MC-CHOICE Unit\, Soledad WIC 355 Gabilan Dr\, Soledad\, CA\, 93960
CATEGORIES:Outreach
END:VEVENT
BEGIN:VEVENT
DTSTART;TZID=America/Los_Angeles:20301114T090000
DTEND;TZID=America/Los_Angeles:20301114T160000
DTSTAMP:20260423T000023
CREATED:20260203T194318Z
LAST-MODIFIED:20260316T184846Z
UID:10001047-1920877200-1920902400@mc-choice.countyofmonterey.gov
SUMMARY:MC-CHOICE Unit
DESCRIPTION:
URL:https://mc-choice.countyofmonterey.gov/event/mc-choice-unit/2030-11-14/
LOCATION:La Manzana Community Resource Center\, 521 Main St Suite Y\, Watsonville\, CA\, 95076
END:VEVENT
BEGIN:VEVENT
DTSTART;TZID=America/Los_Angeles:20301113T090000
DTEND;TZID=America/Los_Angeles:20301113T160000
DTSTAMP:20260423T000023
CREATED:20251215T230936Z
LAST-MODIFIED:20260316T175014Z
UID:10000786-1920790800-1920816000@mc-choice.countyofmonterey.gov
SUMMARY:MC-CHOICE Unit
DESCRIPTION:
URL:https://mc-choice.countyofmonterey.gov/event/mc-choice-unit-every-wednesday/2030-11-13/
LOCATION:MC-CHOICE Unit\, WIC Office 632 E. Alisal St\, Salinas\, CA\, 93905
CATEGORIES:Outreach
END:VEVENT
BEGIN:VEVENT
DTSTART;TZID=America/Los_Angeles:20301112T090000
DTEND;TZID=America/Los_Angeles:20301112T160000
DTSTAMP:20260423T000023
CREATED:20251215T230629Z
LAST-MODIFIED:20260316T175115Z
UID:10001308-1920704400-1920729600@mc-choice.countyofmonterey.gov
SUMMARY:MC-CHOICE Unit
DESCRIPTION:
URL:https://mc-choice.countyofmonterey.gov/event/mc-choice-unit-every-tuesday/2030-11-12/
LOCATION:MC-CHOICE Unit\, Soledad WIC 355 Gabilan Dr\, Soledad\, CA\, 93960
CATEGORIES:Outreach
END:VEVENT
BEGIN:VEVENT
DTSTART;TZID=America/Los_Angeles:20301107T090000
DTEND;TZID=America/Los_Angeles:20301107T160000
DTSTAMP:20260423T000023
CREATED:20260203T194318Z
LAST-MODIFIED:20260316T184846Z
UID:10001046-1920272400-1920297600@mc-choice.countyofmonterey.gov
SUMMARY:MC-CHOICE Unit
DESCRIPTION:
URL:https://mc-choice.countyofmonterey.gov/event/mc-choice-unit/2030-11-07/
LOCATION:La Manzana Community Resource Center\, 521 Main St Suite Y\, Watsonville\, CA\, 95076
END:VEVENT
BEGIN:VEVENT
DTSTART;TZID=America/Los_Angeles:20301106T090000
DTEND;TZID=America/Los_Angeles:20301106T160000
DTSTAMP:20260423T000023
CREATED:20251215T230936Z
LAST-MODIFIED:20260316T175014Z
UID:10000785-1920186000-1920211200@mc-choice.countyofmonterey.gov
SUMMARY:MC-CHOICE Unit
DESCRIPTION:
URL:https://mc-choice.countyofmonterey.gov/event/mc-choice-unit-every-wednesday/2030-11-06/
LOCATION:MC-CHOICE Unit\, WIC Office 632 E. Alisal St\, Salinas\, CA\, 93905
CATEGORIES:Outreach
END:VEVENT
BEGIN:VEVENT
DTSTART;TZID=America/Los_Angeles:20301105T090000
DTEND;TZID=America/Los_Angeles:20301105T160000
DTSTAMP:20260423T000023
CREATED:20251215T230629Z
LAST-MODIFIED:20260316T175115Z
UID:10001307-1920099600-1920124800@mc-choice.countyofmonterey.gov
SUMMARY:MC-CHOICE Unit
DESCRIPTION:
URL:https://mc-choice.countyofmonterey.gov/event/mc-choice-unit-every-tuesday/2030-11-05/
LOCATION:MC-CHOICE Unit\, Soledad WIC 355 Gabilan Dr\, Soledad\, CA\, 93960
CATEGORIES:Outreach
END:VEVENT
BEGIN:VEVENT
DTSTART;TZID=America/Los_Angeles:20301031T090000
DTEND;TZID=America/Los_Angeles:20301031T160000
DTSTAMP:20260423T000023
CREATED:20260203T194318Z
LAST-MODIFIED:20260316T184846Z
UID:10001045-1919667600-1919692800@mc-choice.countyofmonterey.gov
SUMMARY:MC-CHOICE Unit
DESCRIPTION:
URL:https://mc-choice.countyofmonterey.gov/event/mc-choice-unit/2030-10-31/
LOCATION:La Manzana Community Resource Center\, 521 Main St Suite Y\, Watsonville\, CA\, 95076
END:VEVENT
BEGIN:VEVENT
DTSTART;TZID=America/Los_Angeles:20301030T090000
DTEND;TZID=America/Los_Angeles:20301030T160000
DTSTAMP:20260423T000023
CREATED:20251215T230936Z
LAST-MODIFIED:20260316T175014Z
UID:10000784-1919581200-1919606400@mc-choice.countyofmonterey.gov
SUMMARY:MC-CHOICE Unit
DESCRIPTION:
URL:https://mc-choice.countyofmonterey.gov/event/mc-choice-unit-every-wednesday/2030-10-30/
LOCATION:MC-CHOICE Unit\, WIC Office 632 E. Alisal St\, Salinas\, CA\, 93905
CATEGORIES:Outreach
END:VEVENT
BEGIN:VEVENT
DTSTART;TZID=America/Los_Angeles:20301029T090000
DTEND;TZID=America/Los_Angeles:20301029T160000
DTSTAMP:20260423T000023
CREATED:20251215T230629Z
LAST-MODIFIED:20260316T175115Z
UID:10001306-1919494800-1919520000@mc-choice.countyofmonterey.gov
SUMMARY:MC-CHOICE Unit
DESCRIPTION:
URL:https://mc-choice.countyofmonterey.gov/event/mc-choice-unit-every-tuesday/2030-10-29/
LOCATION:MC-CHOICE Unit\, Soledad WIC 355 Gabilan Dr\, Soledad\, CA\, 93960
CATEGORIES:Outreach
END:VEVENT
BEGIN:VEVENT
DTSTART;TZID=America/Los_Angeles:20301024T090000
DTEND;TZID=America/Los_Angeles:20301024T160000
DTSTAMP:20260423T000023
CREATED:20260203T194318Z
LAST-MODIFIED:20260316T184846Z
UID:10001044-1919062800-1919088000@mc-choice.countyofmonterey.gov
SUMMARY:MC-CHOICE Unit
DESCRIPTION:
URL:https://mc-choice.countyofmonterey.gov/event/mc-choice-unit/2030-10-24/
LOCATION:La Manzana Community Resource Center\, 521 Main St Suite Y\, Watsonville\, CA\, 95076
END:VEVENT
BEGIN:VEVENT
DTSTART;TZID=America/Los_Angeles:20301023T090000
DTEND;TZID=America/Los_Angeles:20301023T160000
DTSTAMP:20260423T000023
CREATED:20251215T230936Z
LAST-MODIFIED:20260316T175014Z
UID:10000783-1918976400-1919001600@mc-choice.countyofmonterey.gov
SUMMARY:MC-CHOICE Unit
DESCRIPTION:
URL:https://mc-choice.countyofmonterey.gov/event/mc-choice-unit-every-wednesday/2030-10-23/
LOCATION:MC-CHOICE Unit\, WIC Office 632 E. Alisal St\, Salinas\, CA\, 93905
CATEGORIES:Outreach
END:VEVENT
BEGIN:VEVENT
DTSTART;TZID=America/Los_Angeles:20301022T090000
DTEND;TZID=America/Los_Angeles:20301022T160000
DTSTAMP:20260423T000023
CREATED:20251215T230629Z
LAST-MODIFIED:20260316T175115Z
UID:10001305-1918890000-1918915200@mc-choice.countyofmonterey.gov
SUMMARY:MC-CHOICE Unit
DESCRIPTION:
URL:https://mc-choice.countyofmonterey.gov/event/mc-choice-unit-every-tuesday/2030-10-22/
LOCATION:MC-CHOICE Unit\, Soledad WIC 355 Gabilan Dr\, Soledad\, CA\, 93960
CATEGORIES:Outreach
END:VEVENT
BEGIN:VEVENT
DTSTART;TZID=America/Los_Angeles:20301017T090000
DTEND;TZID=America/Los_Angeles:20301017T160000
DTSTAMP:20260423T000023
CREATED:20260203T194318Z
LAST-MODIFIED:20260316T184846Z
UID:10001043-1918458000-1918483200@mc-choice.countyofmonterey.gov
SUMMARY:MC-CHOICE Unit
DESCRIPTION:
URL:https://mc-choice.countyofmonterey.gov/event/mc-choice-unit/2030-10-17/
LOCATION:La Manzana Community Resource Center\, 521 Main St Suite Y\, Watsonville\, CA\, 95076
END:VEVENT
BEGIN:VEVENT
DTSTART;TZID=America/Los_Angeles:20301016T090000
DTEND;TZID=America/Los_Angeles:20301016T160000
DTSTAMP:20260423T000023
CREATED:20251215T230936Z
LAST-MODIFIED:20260316T175014Z
UID:10000782-1918371600-1918396800@mc-choice.countyofmonterey.gov
SUMMARY:MC-CHOICE Unit
DESCRIPTION:
URL:https://mc-choice.countyofmonterey.gov/event/mc-choice-unit-every-wednesday/2030-10-16/
LOCATION:MC-CHOICE Unit\, WIC Office 632 E. Alisal St\, Salinas\, CA\, 93905
CATEGORIES:Outreach
END:VEVENT
BEGIN:VEVENT
DTSTART;TZID=America/Los_Angeles:20301015T090000
DTEND;TZID=America/Los_Angeles:20301015T160000
DTSTAMP:20260423T000023
CREATED:20251215T230629Z
LAST-MODIFIED:20260316T175115Z
UID:10001304-1918285200-1918310400@mc-choice.countyofmonterey.gov
SUMMARY:MC-CHOICE Unit
DESCRIPTION:
URL:https://mc-choice.countyofmonterey.gov/event/mc-choice-unit-every-tuesday/2030-10-15/
LOCATION:MC-CHOICE Unit\, Soledad WIC 355 Gabilan Dr\, Soledad\, CA\, 93960
CATEGORIES:Outreach
END:VEVENT
BEGIN:VEVENT
DTSTART;TZID=America/Los_Angeles:20301010T090000
DTEND;TZID=America/Los_Angeles:20301010T160000
DTSTAMP:20260423T000023
CREATED:20260203T194318Z
LAST-MODIFIED:20260316T184846Z
UID:10001042-1917853200-1917878400@mc-choice.countyofmonterey.gov
SUMMARY:MC-CHOICE Unit
DESCRIPTION:
URL:https://mc-choice.countyofmonterey.gov/event/mc-choice-unit/2030-10-10/
LOCATION:La Manzana Community Resource Center\, 521 Main St Suite Y\, Watsonville\, CA\, 95076
END:VEVENT
BEGIN:VEVENT
DTSTART;TZID=America/Los_Angeles:20301009T090000
DTEND;TZID=America/Los_Angeles:20301009T160000
DTSTAMP:20260423T000023
CREATED:20251215T230936Z
LAST-MODIFIED:20260316T175014Z
UID:10000781-1917766800-1917792000@mc-choice.countyofmonterey.gov
SUMMARY:MC-CHOICE Unit
DESCRIPTION:
URL:https://mc-choice.countyofmonterey.gov/event/mc-choice-unit-every-wednesday/2030-10-09/
LOCATION:MC-CHOICE Unit\, WIC Office 632 E. Alisal St\, Salinas\, CA\, 93905
CATEGORIES:Outreach
END:VEVENT
BEGIN:VEVENT
DTSTART;TZID=America/Los_Angeles:20301008T090000
DTEND;TZID=America/Los_Angeles:20301008T160000
DTSTAMP:20260423T000023
CREATED:20251215T230629Z
LAST-MODIFIED:20260316T175115Z
UID:10001303-1917680400-1917705600@mc-choice.countyofmonterey.gov
SUMMARY:MC-CHOICE Unit
DESCRIPTION:
URL:https://mc-choice.countyofmonterey.gov/event/mc-choice-unit-every-tuesday/2030-10-08/
LOCATION:MC-CHOICE Unit\, Soledad WIC 355 Gabilan Dr\, Soledad\, CA\, 93960
CATEGORIES:Outreach
END:VEVENT
BEGIN:VEVENT
DTSTART;TZID=America/Los_Angeles:20301003T090000
DTEND;TZID=America/Los_Angeles:20301003T160000
DTSTAMP:20260423T000023
CREATED:20260203T194318Z
LAST-MODIFIED:20260316T184846Z
UID:10001041-1917248400-1917273600@mc-choice.countyofmonterey.gov
SUMMARY:MC-CHOICE Unit
DESCRIPTION:
URL:https://mc-choice.countyofmonterey.gov/event/mc-choice-unit/2030-10-03/
LOCATION:La Manzana Community Resource Center\, 521 Main St Suite Y\, Watsonville\, CA\, 95076
END:VEVENT
BEGIN:VEVENT
DTSTART;TZID=America/Los_Angeles:20301002T090000
DTEND;TZID=America/Los_Angeles:20301002T160000
DTSTAMP:20260423T000023
CREATED:20251215T230936Z
LAST-MODIFIED:20260316T175014Z
UID:10000780-1917162000-1917187200@mc-choice.countyofmonterey.gov
SUMMARY:MC-CHOICE Unit
DESCRIPTION:
URL:https://mc-choice.countyofmonterey.gov/event/mc-choice-unit-every-wednesday/2030-10-02/
LOCATION:MC-CHOICE Unit\, WIC Office 632 E. Alisal St\, Salinas\, CA\, 93905
CATEGORIES:Outreach
END:VEVENT
BEGIN:VEVENT
DTSTART;TZID=America/Los_Angeles:20301001T090000
DTEND;TZID=America/Los_Angeles:20301001T160000
DTSTAMP:20260423T000023
CREATED:20251215T230629Z
LAST-MODIFIED:20260316T175115Z
UID:10001302-1917075600-1917100800@mc-choice.countyofmonterey.gov
SUMMARY:MC-CHOICE Unit
DESCRIPTION:
URL:https://mc-choice.countyofmonterey.gov/event/mc-choice-unit-every-tuesday/2030-10-01/
LOCATION:MC-CHOICE Unit\, Soledad WIC 355 Gabilan Dr\, Soledad\, CA\, 93960
CATEGORIES:Outreach
END:VEVENT
END:VCALENDAR