


BEGIN:VCALENDAR
VERSION:2.0
PRODID:-//MC-CHOICE - ECPv6.15.12.2//NONSGML v1.0//EN
CALSCALE:GREGORIAN
METHOD:PUBLISH
X-ORIGINAL-URL:https://mc-choice.countyofmonterey.gov
X-WR-CALDESC:Events for MC-CHOICE
REFRESH-INTERVAL;VALUE=DURATION:PT1H
X-Robots-Tag:noindex
X-PUBLISHED-TTL:PT1H
BEGIN:VTIMEZONE
TZID:America/Los_Angeles
BEGIN:DAYLIGHT
TZOFFSETFROM:-0800
TZOFFSETTO:-0700
TZNAME:PDT
DTSTART:20240310T100000
END:DAYLIGHT
BEGIN:STANDARD
TZOFFSETFROM:-0700
TZOFFSETTO:-0800
TZNAME:PST
DTSTART:20241103T090000
END:STANDARD
BEGIN:DAYLIGHT
TZOFFSETFROM:-0800
TZOFFSETTO:-0700
TZNAME:PDT
DTSTART:20250309T100000
END:DAYLIGHT
BEGIN:STANDARD
TZOFFSETFROM:-0700
TZOFFSETTO:-0800
TZNAME:PST
DTSTART:20251102T090000
END:STANDARD
BEGIN:DAYLIGHT
TZOFFSETFROM:-0800
TZOFFSETTO:-0700
TZNAME:PDT
DTSTART:20260308T100000
END:DAYLIGHT
BEGIN:STANDARD
TZOFFSETFROM:-0700
TZOFFSETTO:-0800
TZNAME:PST
DTSTART:20261101T090000
END:STANDARD
BEGIN:DAYLIGHT
TZOFFSETFROM:-0800
TZOFFSETTO:-0700
TZNAME:PDT
DTSTART:20270314T100000
END:DAYLIGHT
BEGIN:STANDARD
TZOFFSETFROM:-0700
TZOFFSETTO:-0800
TZNAME:PST
DTSTART:20271107T090000
END:STANDARD
END:VTIMEZONE
BEGIN:VEVENT
DTSTART;TZID=America/Los_Angeles:20260219T090000
DTEND;TZID=America/Los_Angeles:20260219T160000
DTSTAMP:20260420T074733
CREATED:20260203T194318Z
LAST-MODIFIED:20260316T184846Z
UID:10000800-1771491600-1771516800@mc-choice.countyofmonterey.gov
SUMMARY:MC-CHOICE Unit
DESCRIPTION:
URL:https://mc-choice.countyofmonterey.gov/event/mc-choice-unit/2026-02-19/
LOCATION:La Manzana Community Resource Center\, 521 Main St Suite Y\, Watsonville\, CA\, 95076
END:VEVENT
BEGIN:VEVENT
DTSTART;TZID=America/Los_Angeles:20260218T090000
DTEND;TZID=America/Los_Angeles:20260218T160000
DTSTAMP:20260420T074733
CREATED:20251215T230936Z
LAST-MODIFIED:20260316T175014Z
UID:10000539-1771405200-1771430400@mc-choice.countyofmonterey.gov
SUMMARY:MC-CHOICE Unit
DESCRIPTION:
URL:https://mc-choice.countyofmonterey.gov/event/mc-choice-unit-every-wednesday/2026-02-18/
LOCATION:MC-CHOICE Unit\, WIC Office 632 E. Alisal St\, Salinas\, CA\, 93905
CATEGORIES:Outreach
END:VEVENT
BEGIN:VEVENT
DTSTART;TZID=America/Los_Angeles:20260217T090000
DTEND;TZID=America/Los_Angeles:20260217T160000
DTSTAMP:20260420T074733
CREATED:20251215T230629Z
LAST-MODIFIED:20260316T175115Z
UID:10001061-1771318800-1771344000@mc-choice.countyofmonterey.gov
SUMMARY:MC-CHOICE Unit
DESCRIPTION:
URL:https://mc-choice.countyofmonterey.gov/event/mc-choice-unit-every-tuesday/2026-02-17/
LOCATION:MC-CHOICE Unit\, Soledad WIC 355 Gabilan Dr\, Soledad\, CA\, 93960
CATEGORIES:Outreach
END:VEVENT
BEGIN:VEVENT
DTSTART;TZID=America/Los_Angeles:20260212T090000
DTEND;TZID=America/Los_Angeles:20260212T160000
DTSTAMP:20260420T074733
CREATED:20260203T194318Z
LAST-MODIFIED:20260316T184846Z
UID:10000799-1770886800-1770912000@mc-choice.countyofmonterey.gov
SUMMARY:MC-CHOICE Unit
DESCRIPTION:
URL:https://mc-choice.countyofmonterey.gov/event/mc-choice-unit/2026-02-12/
LOCATION:La Manzana Community Resource Center\, 521 Main St Suite Y\, Watsonville\, CA\, 95076
END:VEVENT
BEGIN:VEVENT
DTSTART;TZID=America/Los_Angeles:20260211T090000
DTEND;TZID=America/Los_Angeles:20260211T160000
DTSTAMP:20260420T074733
CREATED:20251215T230936Z
LAST-MODIFIED:20260316T175014Z
UID:10000538-1770800400-1770825600@mc-choice.countyofmonterey.gov
SUMMARY:MC-CHOICE Unit
DESCRIPTION:
URL:https://mc-choice.countyofmonterey.gov/event/mc-choice-unit-every-wednesday/2026-02-11/
LOCATION:MC-CHOICE Unit\, WIC Office 632 E. Alisal St\, Salinas\, CA\, 93905
CATEGORIES:Outreach
END:VEVENT
BEGIN:VEVENT
DTSTART;TZID=America/Los_Angeles:20260210T090000
DTEND;TZID=America/Los_Angeles:20260210T160000
DTSTAMP:20260420T074733
CREATED:20251215T230629Z
LAST-MODIFIED:20260316T175115Z
UID:10001060-1770714000-1770739200@mc-choice.countyofmonterey.gov
SUMMARY:MC-CHOICE Unit
DESCRIPTION:
URL:https://mc-choice.countyofmonterey.gov/event/mc-choice-unit-every-tuesday/2026-02-10/
LOCATION:MC-CHOICE Unit\, Soledad WIC 355 Gabilan Dr\, Soledad\, CA\, 93960
CATEGORIES:Outreach
END:VEVENT
BEGIN:VEVENT
DTSTART;TZID=America/Los_Angeles:20260205T090000
DTEND;TZID=America/Los_Angeles:20260205T160000
DTSTAMP:20260420T074733
CREATED:20260203T194318Z
LAST-MODIFIED:20260316T184846Z
UID:10000798-1770282000-1770307200@mc-choice.countyofmonterey.gov
SUMMARY:MC-CHOICE Unit
DESCRIPTION:
URL:https://mc-choice.countyofmonterey.gov/event/mc-choice-unit/2026-02-05/
LOCATION:La Manzana Community Resource Center\, 521 Main St Suite Y\, Watsonville\, CA\, 95076
END:VEVENT
BEGIN:VEVENT
DTSTART;TZID=America/Los_Angeles:20260204T090000
DTEND;TZID=America/Los_Angeles:20260204T160000
DTSTAMP:20260420T074733
CREATED:20251215T230936Z
LAST-MODIFIED:20260316T175014Z
UID:10000537-1770195600-1770220800@mc-choice.countyofmonterey.gov
SUMMARY:MC-CHOICE Unit
DESCRIPTION:
URL:https://mc-choice.countyofmonterey.gov/event/mc-choice-unit-every-wednesday/2026-02-04/
LOCATION:MC-CHOICE Unit\, WIC Office 632 E. Alisal St\, Salinas\, CA\, 93905
CATEGORIES:Outreach
END:VEVENT
BEGIN:VEVENT
DTSTART;TZID=America/Los_Angeles:20260203T090000
DTEND;TZID=America/Los_Angeles:20260203T160000
DTSTAMP:20260420T074733
CREATED:20251215T230629Z
LAST-MODIFIED:20260316T175115Z
UID:10001059-1770109200-1770134400@mc-choice.countyofmonterey.gov
SUMMARY:MC-CHOICE Unit
DESCRIPTION:
URL:https://mc-choice.countyofmonterey.gov/event/mc-choice-unit-every-tuesday/2026-02-03/
LOCATION:MC-CHOICE Unit\, Soledad WIC 355 Gabilan Dr\, Soledad\, CA\, 93960
CATEGORIES:Outreach
END:VEVENT
BEGIN:VEVENT
DTSTART;TZID=America/Los_Angeles:20260103T173000
DTEND;TZID=America/Los_Angeles:20260103T193000
DTSTAMP:20260420T074733
CREATED:20251215T222208Z
LAST-MODIFIED:20251215T224845Z
UID:10000001-1767461400-1767468600@mc-choice.countyofmonterey.gov
SUMMARY:Posada at the Ranch
DESCRIPTION:
URL:https://mc-choice.countyofmonterey.gov/event/posada-at-the-ranch/
LOCATION:Rancho San Juan High School\, 1100 Rogge Rd\, Salinas\, CA\, 93906
CATEGORIES:Community
END:VEVENT
BEGIN:VEVENT
DTSTART;TZID=America/Los_Angeles:20251224T170000
DTEND;TZID=America/Los_Angeles:20251224T190000
DTSTAMP:20260420T074733
CREATED:20251215T224318Z
LAST-MODIFIED:20251215T224628Z
UID:10000003-1766595600-1766602800@mc-choice.countyofmonterey.gov
SUMMARY:Posada Winter Fest
DESCRIPTION:
URL:https://mc-choice.countyofmonterey.gov/event/posada-winter-fest/
LOCATION:Everett Alvares High School\, 1900 Independence Blvd\, Salinas\, CA\, 93906
CATEGORIES:Community
END:VEVENT
BEGIN:VEVENT
DTSTART;TZID=America/Los_Angeles:20251222T110000
DTEND;TZID=America/Los_Angeles:20251222T130000
DTSTAMP:20260420T074733
CREATED:20251215T223354Z
LAST-MODIFIED:20251215T230016Z
UID:10000002-1766401200-1766408400@mc-choice.countyofmonterey.gov
SUMMARY:Special Kids Connect Holiday Resource Fair
DESCRIPTION:
URL:https://mc-choice.countyofmonterey.gov/event/special-kids-connect-holiday-resource-fair/
LOCATION:Soledad High School\, 425 Gabilan Dr\, Soledad\, CA\, 93960
CATEGORIES:Community
END:VEVENT
END:VCALENDAR