


BEGIN:VCALENDAR
VERSION:2.0
PRODID:-//MC-CHOICE - ECPv6.15.12.2//NONSGML v1.0//EN
CALSCALE:GREGORIAN
METHOD:PUBLISH
X-WR-CALNAME:MC-CHOICE
X-ORIGINAL-URL:https://mc-choice.countyofmonterey.gov
X-WR-CALDESC:Events for MC-CHOICE
REFRESH-INTERVAL;VALUE=DURATION:PT1H
X-Robots-Tag:noindex
X-PUBLISHED-TTL:PT1H
BEGIN:VTIMEZONE
TZID:America/Los_Angeles
BEGIN:DAYLIGHT
TZOFFSETFROM:-0800
TZOFFSETTO:-0700
TZNAME:PDT
DTSTART:20270314T100000
END:DAYLIGHT
BEGIN:STANDARD
TZOFFSETFROM:-0700
TZOFFSETTO:-0800
TZNAME:PST
DTSTART:20271107T090000
END:STANDARD
BEGIN:DAYLIGHT
TZOFFSETFROM:-0800
TZOFFSETTO:-0700
TZNAME:PDT
DTSTART:20280312T100000
END:DAYLIGHT
BEGIN:STANDARD
TZOFFSETFROM:-0700
TZOFFSETTO:-0800
TZNAME:PST
DTSTART:20281105T090000
END:STANDARD
BEGIN:DAYLIGHT
TZOFFSETFROM:-0800
TZOFFSETTO:-0700
TZNAME:PDT
DTSTART:20290311T100000
END:DAYLIGHT
BEGIN:STANDARD
TZOFFSETFROM:-0700
TZOFFSETTO:-0800
TZNAME:PST
DTSTART:20291104T090000
END:STANDARD
END:VTIMEZONE
BEGIN:VEVENT
DTSTART;TZID=America/Los_Angeles:20280727T090000
DTEND;TZID=America/Los_Angeles:20280727T160000
DTSTAMP:20260420T091203
CREATED:20260203T194318Z
LAST-MODIFIED:20260316T184846Z
UID:10000927-1848301200-1848326400@mc-choice.countyofmonterey.gov
SUMMARY:MC-CHOICE Unit
DESCRIPTION:
URL:https://mc-choice.countyofmonterey.gov/event/mc-choice-unit/2028-07-27/
LOCATION:La Manzana Community Resource Center\, 521 Main St Suite Y\, Watsonville\, CA\, 95076
END:VEVENT
BEGIN:VEVENT
DTSTART;TZID=America/Los_Angeles:20280801T090000
DTEND;TZID=America/Los_Angeles:20280801T160000
DTSTAMP:20260420T091203
CREATED:20251215T230629Z
LAST-MODIFIED:20260316T175115Z
UID:10001189-1848733200-1848758400@mc-choice.countyofmonterey.gov
SUMMARY:MC-CHOICE Unit
DESCRIPTION:
URL:https://mc-choice.countyofmonterey.gov/event/mc-choice-unit-every-tuesday/2028-08-01/
LOCATION:MC-CHOICE Unit\, Soledad WIC 355 Gabilan Dr\, Soledad\, CA\, 93960
CATEGORIES:Outreach
END:VEVENT
BEGIN:VEVENT
DTSTART;TZID=America/Los_Angeles:20280802T090000
DTEND;TZID=America/Los_Angeles:20280802T160000
DTSTAMP:20260420T091203
CREATED:20251215T230936Z
LAST-MODIFIED:20260316T175014Z
UID:10000667-1848819600-1848844800@mc-choice.countyofmonterey.gov
SUMMARY:MC-CHOICE Unit
DESCRIPTION:
URL:https://mc-choice.countyofmonterey.gov/event/mc-choice-unit-every-wednesday/2028-08-02/
LOCATION:MC-CHOICE Unit\, WIC Office 632 E. Alisal St\, Salinas\, CA\, 93905
CATEGORIES:Outreach
END:VEVENT
BEGIN:VEVENT
DTSTART;TZID=America/Los_Angeles:20280803T090000
DTEND;TZID=America/Los_Angeles:20280803T160000
DTSTAMP:20260420T091203
CREATED:20260203T194318Z
LAST-MODIFIED:20260316T184846Z
UID:10000928-1848906000-1848931200@mc-choice.countyofmonterey.gov
SUMMARY:MC-CHOICE Unit
DESCRIPTION:
URL:https://mc-choice.countyofmonterey.gov/event/mc-choice-unit/2028-08-03/
LOCATION:La Manzana Community Resource Center\, 521 Main St Suite Y\, Watsonville\, CA\, 95076
END:VEVENT
BEGIN:VEVENT
DTSTART;TZID=America/Los_Angeles:20280808T090000
DTEND;TZID=America/Los_Angeles:20280808T160000
DTSTAMP:20260420T091203
CREATED:20251215T230629Z
LAST-MODIFIED:20260316T175115Z
UID:10001190-1849338000-1849363200@mc-choice.countyofmonterey.gov
SUMMARY:MC-CHOICE Unit
DESCRIPTION:
URL:https://mc-choice.countyofmonterey.gov/event/mc-choice-unit-every-tuesday/2028-08-08/
LOCATION:MC-CHOICE Unit\, Soledad WIC 355 Gabilan Dr\, Soledad\, CA\, 93960
CATEGORIES:Outreach
END:VEVENT
BEGIN:VEVENT
DTSTART;TZID=America/Los_Angeles:20280809T090000
DTEND;TZID=America/Los_Angeles:20280809T160000
DTSTAMP:20260420T091203
CREATED:20251215T230936Z
LAST-MODIFIED:20260316T175014Z
UID:10000668-1849424400-1849449600@mc-choice.countyofmonterey.gov
SUMMARY:MC-CHOICE Unit
DESCRIPTION:
URL:https://mc-choice.countyofmonterey.gov/event/mc-choice-unit-every-wednesday/2028-08-09/
LOCATION:MC-CHOICE Unit\, WIC Office 632 E. Alisal St\, Salinas\, CA\, 93905
CATEGORIES:Outreach
END:VEVENT
BEGIN:VEVENT
DTSTART;TZID=America/Los_Angeles:20280810T090000
DTEND;TZID=America/Los_Angeles:20280810T160000
DTSTAMP:20260420T091203
CREATED:20260203T194318Z
LAST-MODIFIED:20260316T184846Z
UID:10000929-1849510800-1849536000@mc-choice.countyofmonterey.gov
SUMMARY:MC-CHOICE Unit
DESCRIPTION:
URL:https://mc-choice.countyofmonterey.gov/event/mc-choice-unit/2028-08-10/
LOCATION:La Manzana Community Resource Center\, 521 Main St Suite Y\, Watsonville\, CA\, 95076
END:VEVENT
BEGIN:VEVENT
DTSTART;TZID=America/Los_Angeles:20280815T090000
DTEND;TZID=America/Los_Angeles:20280815T160000
DTSTAMP:20260420T091203
CREATED:20251215T230629Z
LAST-MODIFIED:20260316T175115Z
UID:10001191-1849942800-1849968000@mc-choice.countyofmonterey.gov
SUMMARY:MC-CHOICE Unit
DESCRIPTION:
URL:https://mc-choice.countyofmonterey.gov/event/mc-choice-unit-every-tuesday/2028-08-15/
LOCATION:MC-CHOICE Unit\, Soledad WIC 355 Gabilan Dr\, Soledad\, CA\, 93960
CATEGORIES:Outreach
END:VEVENT
BEGIN:VEVENT
DTSTART;TZID=America/Los_Angeles:20280816T090000
DTEND;TZID=America/Los_Angeles:20280816T160000
DTSTAMP:20260420T091203
CREATED:20251215T230936Z
LAST-MODIFIED:20260316T175014Z
UID:10000669-1850029200-1850054400@mc-choice.countyofmonterey.gov
SUMMARY:MC-CHOICE Unit
DESCRIPTION:
URL:https://mc-choice.countyofmonterey.gov/event/mc-choice-unit-every-wednesday/2028-08-16/
LOCATION:MC-CHOICE Unit\, WIC Office 632 E. Alisal St\, Salinas\, CA\, 93905
CATEGORIES:Outreach
END:VEVENT
BEGIN:VEVENT
DTSTART;TZID=America/Los_Angeles:20280817T090000
DTEND;TZID=America/Los_Angeles:20280817T160000
DTSTAMP:20260420T091203
CREATED:20260203T194318Z
LAST-MODIFIED:20260316T184846Z
UID:10000930-1850115600-1850140800@mc-choice.countyofmonterey.gov
SUMMARY:MC-CHOICE Unit
DESCRIPTION:
URL:https://mc-choice.countyofmonterey.gov/event/mc-choice-unit/2028-08-17/
LOCATION:La Manzana Community Resource Center\, 521 Main St Suite Y\, Watsonville\, CA\, 95076
END:VEVENT
BEGIN:VEVENT
DTSTART;TZID=America/Los_Angeles:20280822T090000
DTEND;TZID=America/Los_Angeles:20280822T160000
DTSTAMP:20260420T091203
CREATED:20251215T230629Z
LAST-MODIFIED:20260316T175115Z
UID:10001192-1850547600-1850572800@mc-choice.countyofmonterey.gov
SUMMARY:MC-CHOICE Unit
DESCRIPTION:
URL:https://mc-choice.countyofmonterey.gov/event/mc-choice-unit-every-tuesday/2028-08-22/
LOCATION:MC-CHOICE Unit\, Soledad WIC 355 Gabilan Dr\, Soledad\, CA\, 93960
CATEGORIES:Outreach
END:VEVENT
BEGIN:VEVENT
DTSTART;TZID=America/Los_Angeles:20280823T090000
DTEND;TZID=America/Los_Angeles:20280823T160000
DTSTAMP:20260420T091203
CREATED:20251215T230936Z
LAST-MODIFIED:20260316T175014Z
UID:10000670-1850634000-1850659200@mc-choice.countyofmonterey.gov
SUMMARY:MC-CHOICE Unit
DESCRIPTION:
URL:https://mc-choice.countyofmonterey.gov/event/mc-choice-unit-every-wednesday/2028-08-23/
LOCATION:MC-CHOICE Unit\, WIC Office 632 E. Alisal St\, Salinas\, CA\, 93905
CATEGORIES:Outreach
END:VEVENT
BEGIN:VEVENT
DTSTART;TZID=America/Los_Angeles:20280824T090000
DTEND;TZID=America/Los_Angeles:20280824T160000
DTSTAMP:20260420T091203
CREATED:20260203T194318Z
LAST-MODIFIED:20260316T184846Z
UID:10000931-1850720400-1850745600@mc-choice.countyofmonterey.gov
SUMMARY:MC-CHOICE Unit
DESCRIPTION:
URL:https://mc-choice.countyofmonterey.gov/event/mc-choice-unit/2028-08-24/
LOCATION:La Manzana Community Resource Center\, 521 Main St Suite Y\, Watsonville\, CA\, 95076
END:VEVENT
BEGIN:VEVENT
DTSTART;TZID=America/Los_Angeles:20280829T090000
DTEND;TZID=America/Los_Angeles:20280829T160000
DTSTAMP:20260420T091203
CREATED:20251215T230629Z
LAST-MODIFIED:20260316T175115Z
UID:10001193-1851152400-1851177600@mc-choice.countyofmonterey.gov
SUMMARY:MC-CHOICE Unit
DESCRIPTION:
URL:https://mc-choice.countyofmonterey.gov/event/mc-choice-unit-every-tuesday/2028-08-29/
LOCATION:MC-CHOICE Unit\, Soledad WIC 355 Gabilan Dr\, Soledad\, CA\, 93960
CATEGORIES:Outreach
END:VEVENT
BEGIN:VEVENT
DTSTART;TZID=America/Los_Angeles:20280830T090000
DTEND;TZID=America/Los_Angeles:20280830T160000
DTSTAMP:20260420T091203
CREATED:20251215T230936Z
LAST-MODIFIED:20260316T175014Z
UID:10000671-1851238800-1851264000@mc-choice.countyofmonterey.gov
SUMMARY:MC-CHOICE Unit
DESCRIPTION:
URL:https://mc-choice.countyofmonterey.gov/event/mc-choice-unit-every-wednesday/2028-08-30/
LOCATION:MC-CHOICE Unit\, WIC Office 632 E. Alisal St\, Salinas\, CA\, 93905
CATEGORIES:Outreach
END:VEVENT
BEGIN:VEVENT
DTSTART;TZID=America/Los_Angeles:20280831T090000
DTEND;TZID=America/Los_Angeles:20280831T160000
DTSTAMP:20260420T091203
CREATED:20260203T194318Z
LAST-MODIFIED:20260316T184846Z
UID:10000932-1851325200-1851350400@mc-choice.countyofmonterey.gov
SUMMARY:MC-CHOICE Unit
DESCRIPTION:
URL:https://mc-choice.countyofmonterey.gov/event/mc-choice-unit/2028-08-31/
LOCATION:La Manzana Community Resource Center\, 521 Main St Suite Y\, Watsonville\, CA\, 95076
END:VEVENT
BEGIN:VEVENT
DTSTART;TZID=America/Los_Angeles:20280905T090000
DTEND;TZID=America/Los_Angeles:20280905T160000
DTSTAMP:20260420T091203
CREATED:20251215T230629Z
LAST-MODIFIED:20260316T175115Z
UID:10001194-1851757200-1851782400@mc-choice.countyofmonterey.gov
SUMMARY:MC-CHOICE Unit
DESCRIPTION:
URL:https://mc-choice.countyofmonterey.gov/event/mc-choice-unit-every-tuesday/2028-09-05/
LOCATION:MC-CHOICE Unit\, Soledad WIC 355 Gabilan Dr\, Soledad\, CA\, 93960
CATEGORIES:Outreach
END:VEVENT
BEGIN:VEVENT
DTSTART;TZID=America/Los_Angeles:20280906T090000
DTEND;TZID=America/Los_Angeles:20280906T160000
DTSTAMP:20260420T091203
CREATED:20251215T230936Z
LAST-MODIFIED:20260316T175014Z
UID:10000672-1851843600-1851868800@mc-choice.countyofmonterey.gov
SUMMARY:MC-CHOICE Unit
DESCRIPTION:
URL:https://mc-choice.countyofmonterey.gov/event/mc-choice-unit-every-wednesday/2028-09-06/
LOCATION:MC-CHOICE Unit\, WIC Office 632 E. Alisal St\, Salinas\, CA\, 93905
CATEGORIES:Outreach
END:VEVENT
BEGIN:VEVENT
DTSTART;TZID=America/Los_Angeles:20280907T090000
DTEND;TZID=America/Los_Angeles:20280907T160000
DTSTAMP:20260420T091203
CREATED:20260203T194318Z
LAST-MODIFIED:20260316T184846Z
UID:10000933-1851930000-1851955200@mc-choice.countyofmonterey.gov
SUMMARY:MC-CHOICE Unit
DESCRIPTION:
URL:https://mc-choice.countyofmonterey.gov/event/mc-choice-unit/2028-09-07/
LOCATION:La Manzana Community Resource Center\, 521 Main St Suite Y\, Watsonville\, CA\, 95076
END:VEVENT
BEGIN:VEVENT
DTSTART;TZID=America/Los_Angeles:20280912T090000
DTEND;TZID=America/Los_Angeles:20280912T160000
DTSTAMP:20260420T091203
CREATED:20251215T230629Z
LAST-MODIFIED:20260316T175115Z
UID:10001195-1852362000-1852387200@mc-choice.countyofmonterey.gov
SUMMARY:MC-CHOICE Unit
DESCRIPTION:
URL:https://mc-choice.countyofmonterey.gov/event/mc-choice-unit-every-tuesday/2028-09-12/
LOCATION:MC-CHOICE Unit\, Soledad WIC 355 Gabilan Dr\, Soledad\, CA\, 93960
CATEGORIES:Outreach
END:VEVENT
BEGIN:VEVENT
DTSTART;TZID=America/Los_Angeles:20280913T090000
DTEND;TZID=America/Los_Angeles:20280913T160000
DTSTAMP:20260420T091204
CREATED:20251215T230936Z
LAST-MODIFIED:20260316T175014Z
UID:10000673-1852448400-1852473600@mc-choice.countyofmonterey.gov
SUMMARY:MC-CHOICE Unit
DESCRIPTION:
URL:https://mc-choice.countyofmonterey.gov/event/mc-choice-unit-every-wednesday/2028-09-13/
LOCATION:MC-CHOICE Unit\, WIC Office 632 E. Alisal St\, Salinas\, CA\, 93905
CATEGORIES:Outreach
END:VEVENT
BEGIN:VEVENT
DTSTART;TZID=America/Los_Angeles:20280914T090000
DTEND;TZID=America/Los_Angeles:20280914T160000
DTSTAMP:20260420T091204
CREATED:20260203T194318Z
LAST-MODIFIED:20260316T184846Z
UID:10000934-1852534800-1852560000@mc-choice.countyofmonterey.gov
SUMMARY:MC-CHOICE Unit
DESCRIPTION:
URL:https://mc-choice.countyofmonterey.gov/event/mc-choice-unit/2028-09-14/
LOCATION:La Manzana Community Resource Center\, 521 Main St Suite Y\, Watsonville\, CA\, 95076
END:VEVENT
BEGIN:VEVENT
DTSTART;TZID=America/Los_Angeles:20280919T090000
DTEND;TZID=America/Los_Angeles:20280919T160000
DTSTAMP:20260420T091204
CREATED:20251215T230629Z
LAST-MODIFIED:20260316T175115Z
UID:10001196-1852966800-1852992000@mc-choice.countyofmonterey.gov
SUMMARY:MC-CHOICE Unit
DESCRIPTION:
URL:https://mc-choice.countyofmonterey.gov/event/mc-choice-unit-every-tuesday/2028-09-19/
LOCATION:MC-CHOICE Unit\, Soledad WIC 355 Gabilan Dr\, Soledad\, CA\, 93960
CATEGORIES:Outreach
END:VEVENT
BEGIN:VEVENT
DTSTART;TZID=America/Los_Angeles:20280920T090000
DTEND;TZID=America/Los_Angeles:20280920T160000
DTSTAMP:20260420T091204
CREATED:20251215T230936Z
LAST-MODIFIED:20260316T175014Z
UID:10000674-1853053200-1853078400@mc-choice.countyofmonterey.gov
SUMMARY:MC-CHOICE Unit
DESCRIPTION:
URL:https://mc-choice.countyofmonterey.gov/event/mc-choice-unit-every-wednesday/2028-09-20/
LOCATION:MC-CHOICE Unit\, WIC Office 632 E. Alisal St\, Salinas\, CA\, 93905
CATEGORIES:Outreach
END:VEVENT
BEGIN:VEVENT
DTSTART;TZID=America/Los_Angeles:20280921T090000
DTEND;TZID=America/Los_Angeles:20280921T160000
DTSTAMP:20260420T091204
CREATED:20260203T194318Z
LAST-MODIFIED:20260316T184846Z
UID:10000935-1853139600-1853164800@mc-choice.countyofmonterey.gov
SUMMARY:MC-CHOICE Unit
DESCRIPTION:
URL:https://mc-choice.countyofmonterey.gov/event/mc-choice-unit/2028-09-21/
LOCATION:La Manzana Community Resource Center\, 521 Main St Suite Y\, Watsonville\, CA\, 95076
END:VEVENT
BEGIN:VEVENT
DTSTART;TZID=America/Los_Angeles:20280926T090000
DTEND;TZID=America/Los_Angeles:20280926T160000
DTSTAMP:20260420T091204
CREATED:20251215T230629Z
LAST-MODIFIED:20260316T175115Z
UID:10001197-1853571600-1853596800@mc-choice.countyofmonterey.gov
SUMMARY:MC-CHOICE Unit
DESCRIPTION:
URL:https://mc-choice.countyofmonterey.gov/event/mc-choice-unit-every-tuesday/2028-09-26/
LOCATION:MC-CHOICE Unit\, Soledad WIC 355 Gabilan Dr\, Soledad\, CA\, 93960
CATEGORIES:Outreach
END:VEVENT
BEGIN:VEVENT
DTSTART;TZID=America/Los_Angeles:20280927T090000
DTEND;TZID=America/Los_Angeles:20280927T160000
DTSTAMP:20260420T091204
CREATED:20251215T230936Z
LAST-MODIFIED:20260316T175014Z
UID:10000675-1853658000-1853683200@mc-choice.countyofmonterey.gov
SUMMARY:MC-CHOICE Unit
DESCRIPTION:
URL:https://mc-choice.countyofmonterey.gov/event/mc-choice-unit-every-wednesday/2028-09-27/
LOCATION:MC-CHOICE Unit\, WIC Office 632 E. Alisal St\, Salinas\, CA\, 93905
CATEGORIES:Outreach
END:VEVENT
BEGIN:VEVENT
DTSTART;TZID=America/Los_Angeles:20280928T090000
DTEND;TZID=America/Los_Angeles:20280928T160000
DTSTAMP:20260420T091204
CREATED:20260203T194318Z
LAST-MODIFIED:20260316T184846Z
UID:10000936-1853744400-1853769600@mc-choice.countyofmonterey.gov
SUMMARY:MC-CHOICE Unit
DESCRIPTION:
URL:https://mc-choice.countyofmonterey.gov/event/mc-choice-unit/2028-09-28/
LOCATION:La Manzana Community Resource Center\, 521 Main St Suite Y\, Watsonville\, CA\, 95076
END:VEVENT
BEGIN:VEVENT
DTSTART;TZID=America/Los_Angeles:20281003T090000
DTEND;TZID=America/Los_Angeles:20281003T160000
DTSTAMP:20260420T091204
CREATED:20251215T230629Z
LAST-MODIFIED:20260316T175115Z
UID:10001198-1854176400-1854201600@mc-choice.countyofmonterey.gov
SUMMARY:MC-CHOICE Unit
DESCRIPTION:
URL:https://mc-choice.countyofmonterey.gov/event/mc-choice-unit-every-tuesday/2028-10-03/
LOCATION:MC-CHOICE Unit\, Soledad WIC 355 Gabilan Dr\, Soledad\, CA\, 93960
CATEGORIES:Outreach
END:VEVENT
BEGIN:VEVENT
DTSTART;TZID=America/Los_Angeles:20281004T090000
DTEND;TZID=America/Los_Angeles:20281004T160000
DTSTAMP:20260420T091204
CREATED:20251215T230936Z
LAST-MODIFIED:20260316T175014Z
UID:10000676-1854262800-1854288000@mc-choice.countyofmonterey.gov
SUMMARY:MC-CHOICE Unit
DESCRIPTION:
URL:https://mc-choice.countyofmonterey.gov/event/mc-choice-unit-every-wednesday/2028-10-04/
LOCATION:MC-CHOICE Unit\, WIC Office 632 E. Alisal St\, Salinas\, CA\, 93905
CATEGORIES:Outreach
END:VEVENT
END:VCALENDAR