


BEGIN:VCALENDAR
VERSION:2.0
PRODID:-//MC-CHOICE - ECPv6.15.12.2//NONSGML v1.0//EN
CALSCALE:GREGORIAN
METHOD:PUBLISH
X-WR-CALNAME:MC-CHOICE
X-ORIGINAL-URL:https://mc-choice.countyofmonterey.gov
X-WR-CALDESC:Events for MC-CHOICE
REFRESH-INTERVAL;VALUE=DURATION:PT1H
X-Robots-Tag:noindex
X-PUBLISHED-TTL:PT1H
BEGIN:VTIMEZONE
TZID:America/Los_Angeles
BEGIN:DAYLIGHT
TZOFFSETFROM:-0800
TZOFFSETTO:-0700
TZNAME:PDT
DTSTART:20270314T100000
END:DAYLIGHT
BEGIN:STANDARD
TZOFFSETFROM:-0700
TZOFFSETTO:-0800
TZNAME:PST
DTSTART:20271107T090000
END:STANDARD
BEGIN:DAYLIGHT
TZOFFSETFROM:-0800
TZOFFSETTO:-0700
TZNAME:PDT
DTSTART:20280312T100000
END:DAYLIGHT
BEGIN:STANDARD
TZOFFSETFROM:-0700
TZOFFSETTO:-0800
TZNAME:PST
DTSTART:20281105T090000
END:STANDARD
BEGIN:DAYLIGHT
TZOFFSETFROM:-0800
TZOFFSETTO:-0700
TZNAME:PDT
DTSTART:20290311T100000
END:DAYLIGHT
BEGIN:STANDARD
TZOFFSETFROM:-0700
TZOFFSETTO:-0800
TZNAME:PST
DTSTART:20291104T090000
END:STANDARD
END:VTIMEZONE
BEGIN:VEVENT
DTSTART;TZID=America/Los_Angeles:20280711T090000
DTEND;TZID=America/Los_Angeles:20280711T160000
DTSTAMP:20260420T222919
CREATED:20251215T230629Z
LAST-MODIFIED:20260316T175115Z
UID:10001186-1846918800-1846944000@mc-choice.countyofmonterey.gov
SUMMARY:MC-CHOICE Unit
DESCRIPTION:
URL:https://mc-choice.countyofmonterey.gov/event/mc-choice-unit-every-tuesday/2028-07-11/
LOCATION:MC-CHOICE Unit\, Soledad WIC 355 Gabilan Dr\, Soledad\, CA\, 93960
CATEGORIES:Outreach
END:VEVENT
BEGIN:VEVENT
DTSTART;TZID=America/Los_Angeles:20280706T090000
DTEND;TZID=America/Los_Angeles:20280706T160000
DTSTAMP:20260420T222919
CREATED:20260203T194318Z
LAST-MODIFIED:20260316T184846Z
UID:10000924-1846486800-1846512000@mc-choice.countyofmonterey.gov
SUMMARY:MC-CHOICE Unit
DESCRIPTION:
URL:https://mc-choice.countyofmonterey.gov/event/mc-choice-unit/2028-07-06/
LOCATION:La Manzana Community Resource Center\, 521 Main St Suite Y\, Watsonville\, CA\, 95076
END:VEVENT
BEGIN:VEVENT
DTSTART;TZID=America/Los_Angeles:20280705T090000
DTEND;TZID=America/Los_Angeles:20280705T160000
DTSTAMP:20260420T222919
CREATED:20251215T230936Z
LAST-MODIFIED:20260316T175014Z
UID:10000663-1846400400-1846425600@mc-choice.countyofmonterey.gov
SUMMARY:MC-CHOICE Unit
DESCRIPTION:
URL:https://mc-choice.countyofmonterey.gov/event/mc-choice-unit-every-wednesday/2028-07-05/
LOCATION:MC-CHOICE Unit\, WIC Office 632 E. Alisal St\, Salinas\, CA\, 93905
CATEGORIES:Outreach
END:VEVENT
BEGIN:VEVENT
DTSTART;TZID=America/Los_Angeles:20280704T090000
DTEND;TZID=America/Los_Angeles:20280704T160000
DTSTAMP:20260420T222919
CREATED:20251215T230629Z
LAST-MODIFIED:20260316T175115Z
UID:10001185-1846314000-1846339200@mc-choice.countyofmonterey.gov
SUMMARY:MC-CHOICE Unit
DESCRIPTION:
URL:https://mc-choice.countyofmonterey.gov/event/mc-choice-unit-every-tuesday/2028-07-04/
LOCATION:MC-CHOICE Unit\, Soledad WIC 355 Gabilan Dr\, Soledad\, CA\, 93960
CATEGORIES:Outreach
END:VEVENT
BEGIN:VEVENT
DTSTART;TZID=America/Los_Angeles:20280629T090000
DTEND;TZID=America/Los_Angeles:20280629T160000
DTSTAMP:20260420T222919
CREATED:20260203T194318Z
LAST-MODIFIED:20260316T184846Z
UID:10000923-1845882000-1845907200@mc-choice.countyofmonterey.gov
SUMMARY:MC-CHOICE Unit
DESCRIPTION:
URL:https://mc-choice.countyofmonterey.gov/event/mc-choice-unit/2028-06-29/
LOCATION:La Manzana Community Resource Center\, 521 Main St Suite Y\, Watsonville\, CA\, 95076
END:VEVENT
BEGIN:VEVENT
DTSTART;TZID=America/Los_Angeles:20280628T090000
DTEND;TZID=America/Los_Angeles:20280628T160000
DTSTAMP:20260420T222919
CREATED:20251215T230936Z
LAST-MODIFIED:20260316T175014Z
UID:10000662-1845795600-1845820800@mc-choice.countyofmonterey.gov
SUMMARY:MC-CHOICE Unit
DESCRIPTION:
URL:https://mc-choice.countyofmonterey.gov/event/mc-choice-unit-every-wednesday/2028-06-28/
LOCATION:MC-CHOICE Unit\, WIC Office 632 E. Alisal St\, Salinas\, CA\, 93905
CATEGORIES:Outreach
END:VEVENT
BEGIN:VEVENT
DTSTART;TZID=America/Los_Angeles:20280627T090000
DTEND;TZID=America/Los_Angeles:20280627T160000
DTSTAMP:20260420T222919
CREATED:20251215T230629Z
LAST-MODIFIED:20260316T175115Z
UID:10001184-1845709200-1845734400@mc-choice.countyofmonterey.gov
SUMMARY:MC-CHOICE Unit
DESCRIPTION:
URL:https://mc-choice.countyofmonterey.gov/event/mc-choice-unit-every-tuesday/2028-06-27/
LOCATION:MC-CHOICE Unit\, Soledad WIC 355 Gabilan Dr\, Soledad\, CA\, 93960
CATEGORIES:Outreach
END:VEVENT
BEGIN:VEVENT
DTSTART;TZID=America/Los_Angeles:20280622T090000
DTEND;TZID=America/Los_Angeles:20280622T160000
DTSTAMP:20260420T222919
CREATED:20260203T194318Z
LAST-MODIFIED:20260316T184846Z
UID:10000922-1845277200-1845302400@mc-choice.countyofmonterey.gov
SUMMARY:MC-CHOICE Unit
DESCRIPTION:
URL:https://mc-choice.countyofmonterey.gov/event/mc-choice-unit/2028-06-22/
LOCATION:La Manzana Community Resource Center\, 521 Main St Suite Y\, Watsonville\, CA\, 95076
END:VEVENT
BEGIN:VEVENT
DTSTART;TZID=America/Los_Angeles:20280621T090000
DTEND;TZID=America/Los_Angeles:20280621T160000
DTSTAMP:20260420T222919
CREATED:20251215T230936Z
LAST-MODIFIED:20260316T175014Z
UID:10000661-1845190800-1845216000@mc-choice.countyofmonterey.gov
SUMMARY:MC-CHOICE Unit
DESCRIPTION:
URL:https://mc-choice.countyofmonterey.gov/event/mc-choice-unit-every-wednesday/2028-06-21/
LOCATION:MC-CHOICE Unit\, WIC Office 632 E. Alisal St\, Salinas\, CA\, 93905
CATEGORIES:Outreach
END:VEVENT
BEGIN:VEVENT
DTSTART;TZID=America/Los_Angeles:20280620T090000
DTEND;TZID=America/Los_Angeles:20280620T160000
DTSTAMP:20260420T222919
CREATED:20251215T230629Z
LAST-MODIFIED:20260316T175115Z
UID:10001183-1845104400-1845129600@mc-choice.countyofmonterey.gov
SUMMARY:MC-CHOICE Unit
DESCRIPTION:
URL:https://mc-choice.countyofmonterey.gov/event/mc-choice-unit-every-tuesday/2028-06-20/
LOCATION:MC-CHOICE Unit\, Soledad WIC 355 Gabilan Dr\, Soledad\, CA\, 93960
CATEGORIES:Outreach
END:VEVENT
BEGIN:VEVENT
DTSTART;TZID=America/Los_Angeles:20280615T090000
DTEND;TZID=America/Los_Angeles:20280615T160000
DTSTAMP:20260420T222919
CREATED:20260203T194318Z
LAST-MODIFIED:20260316T184846Z
UID:10000921-1844672400-1844697600@mc-choice.countyofmonterey.gov
SUMMARY:MC-CHOICE Unit
DESCRIPTION:
URL:https://mc-choice.countyofmonterey.gov/event/mc-choice-unit/2028-06-15/
LOCATION:La Manzana Community Resource Center\, 521 Main St Suite Y\, Watsonville\, CA\, 95076
END:VEVENT
BEGIN:VEVENT
DTSTART;TZID=America/Los_Angeles:20280614T090000
DTEND;TZID=America/Los_Angeles:20280614T160000
DTSTAMP:20260420T222919
CREATED:20251215T230936Z
LAST-MODIFIED:20260316T175014Z
UID:10000660-1844586000-1844611200@mc-choice.countyofmonterey.gov
SUMMARY:MC-CHOICE Unit
DESCRIPTION:
URL:https://mc-choice.countyofmonterey.gov/event/mc-choice-unit-every-wednesday/2028-06-14/
LOCATION:MC-CHOICE Unit\, WIC Office 632 E. Alisal St\, Salinas\, CA\, 93905
CATEGORIES:Outreach
END:VEVENT
BEGIN:VEVENT
DTSTART;TZID=America/Los_Angeles:20280613T090000
DTEND;TZID=America/Los_Angeles:20280613T160000
DTSTAMP:20260420T222919
CREATED:20251215T230629Z
LAST-MODIFIED:20260316T175115Z
UID:10001182-1844499600-1844524800@mc-choice.countyofmonterey.gov
SUMMARY:MC-CHOICE Unit
DESCRIPTION:
URL:https://mc-choice.countyofmonterey.gov/event/mc-choice-unit-every-tuesday/2028-06-13/
LOCATION:MC-CHOICE Unit\, Soledad WIC 355 Gabilan Dr\, Soledad\, CA\, 93960
CATEGORIES:Outreach
END:VEVENT
BEGIN:VEVENT
DTSTART;TZID=America/Los_Angeles:20280608T090000
DTEND;TZID=America/Los_Angeles:20280608T160000
DTSTAMP:20260420T222919
CREATED:20260203T194318Z
LAST-MODIFIED:20260316T184846Z
UID:10000920-1844067600-1844092800@mc-choice.countyofmonterey.gov
SUMMARY:MC-CHOICE Unit
DESCRIPTION:
URL:https://mc-choice.countyofmonterey.gov/event/mc-choice-unit/2028-06-08/
LOCATION:La Manzana Community Resource Center\, 521 Main St Suite Y\, Watsonville\, CA\, 95076
END:VEVENT
BEGIN:VEVENT
DTSTART;TZID=America/Los_Angeles:20280607T090000
DTEND;TZID=America/Los_Angeles:20280607T160000
DTSTAMP:20260420T222919
CREATED:20251215T230936Z
LAST-MODIFIED:20260316T175014Z
UID:10000659-1843981200-1844006400@mc-choice.countyofmonterey.gov
SUMMARY:MC-CHOICE Unit
DESCRIPTION:
URL:https://mc-choice.countyofmonterey.gov/event/mc-choice-unit-every-wednesday/2028-06-07/
LOCATION:MC-CHOICE Unit\, WIC Office 632 E. Alisal St\, Salinas\, CA\, 93905
CATEGORIES:Outreach
END:VEVENT
BEGIN:VEVENT
DTSTART;TZID=America/Los_Angeles:20280606T090000
DTEND;TZID=America/Los_Angeles:20280606T160000
DTSTAMP:20260420T222919
CREATED:20251215T230629Z
LAST-MODIFIED:20260316T175115Z
UID:10001181-1843894800-1843920000@mc-choice.countyofmonterey.gov
SUMMARY:MC-CHOICE Unit
DESCRIPTION:
URL:https://mc-choice.countyofmonterey.gov/event/mc-choice-unit-every-tuesday/2028-06-06/
LOCATION:MC-CHOICE Unit\, Soledad WIC 355 Gabilan Dr\, Soledad\, CA\, 93960
CATEGORIES:Outreach
END:VEVENT
BEGIN:VEVENT
DTSTART;TZID=America/Los_Angeles:20280601T090000
DTEND;TZID=America/Los_Angeles:20280601T160000
DTSTAMP:20260420T222919
CREATED:20260203T194318Z
LAST-MODIFIED:20260316T184846Z
UID:10000919-1843462800-1843488000@mc-choice.countyofmonterey.gov
SUMMARY:MC-CHOICE Unit
DESCRIPTION:
URL:https://mc-choice.countyofmonterey.gov/event/mc-choice-unit/2028-06-01/
LOCATION:La Manzana Community Resource Center\, 521 Main St Suite Y\, Watsonville\, CA\, 95076
END:VEVENT
BEGIN:VEVENT
DTSTART;TZID=America/Los_Angeles:20280531T090000
DTEND;TZID=America/Los_Angeles:20280531T160000
DTSTAMP:20260420T222919
CREATED:20251215T230936Z
LAST-MODIFIED:20260316T175014Z
UID:10000658-1843376400-1843401600@mc-choice.countyofmonterey.gov
SUMMARY:MC-CHOICE Unit
DESCRIPTION:
URL:https://mc-choice.countyofmonterey.gov/event/mc-choice-unit-every-wednesday/2028-05-31/
LOCATION:MC-CHOICE Unit\, WIC Office 632 E. Alisal St\, Salinas\, CA\, 93905
CATEGORIES:Outreach
END:VEVENT
BEGIN:VEVENT
DTSTART;TZID=America/Los_Angeles:20280530T090000
DTEND;TZID=America/Los_Angeles:20280530T160000
DTSTAMP:20260420T222919
CREATED:20251215T230629Z
LAST-MODIFIED:20260316T175115Z
UID:10001180-1843290000-1843315200@mc-choice.countyofmonterey.gov
SUMMARY:MC-CHOICE Unit
DESCRIPTION:
URL:https://mc-choice.countyofmonterey.gov/event/mc-choice-unit-every-tuesday/2028-05-30/
LOCATION:MC-CHOICE Unit\, Soledad WIC 355 Gabilan Dr\, Soledad\, CA\, 93960
CATEGORIES:Outreach
END:VEVENT
BEGIN:VEVENT
DTSTART;TZID=America/Los_Angeles:20280525T090000
DTEND;TZID=America/Los_Angeles:20280525T160000
DTSTAMP:20260420T222919
CREATED:20260203T194318Z
LAST-MODIFIED:20260316T184846Z
UID:10000918-1842858000-1842883200@mc-choice.countyofmonterey.gov
SUMMARY:MC-CHOICE Unit
DESCRIPTION:
URL:https://mc-choice.countyofmonterey.gov/event/mc-choice-unit/2028-05-25/
LOCATION:La Manzana Community Resource Center\, 521 Main St Suite Y\, Watsonville\, CA\, 95076
END:VEVENT
BEGIN:VEVENT
DTSTART;TZID=America/Los_Angeles:20280524T090000
DTEND;TZID=America/Los_Angeles:20280524T160000
DTSTAMP:20260420T222919
CREATED:20251215T230936Z
LAST-MODIFIED:20260316T175014Z
UID:10000657-1842771600-1842796800@mc-choice.countyofmonterey.gov
SUMMARY:MC-CHOICE Unit
DESCRIPTION:
URL:https://mc-choice.countyofmonterey.gov/event/mc-choice-unit-every-wednesday/2028-05-24/
LOCATION:MC-CHOICE Unit\, WIC Office 632 E. Alisal St\, Salinas\, CA\, 93905
CATEGORIES:Outreach
END:VEVENT
BEGIN:VEVENT
DTSTART;TZID=America/Los_Angeles:20280523T090000
DTEND;TZID=America/Los_Angeles:20280523T160000
DTSTAMP:20260420T222919
CREATED:20251215T230629Z
LAST-MODIFIED:20260316T175115Z
UID:10001179-1842685200-1842710400@mc-choice.countyofmonterey.gov
SUMMARY:MC-CHOICE Unit
DESCRIPTION:
URL:https://mc-choice.countyofmonterey.gov/event/mc-choice-unit-every-tuesday/2028-05-23/
LOCATION:MC-CHOICE Unit\, Soledad WIC 355 Gabilan Dr\, Soledad\, CA\, 93960
CATEGORIES:Outreach
END:VEVENT
BEGIN:VEVENT
DTSTART;TZID=America/Los_Angeles:20280518T090000
DTEND;TZID=America/Los_Angeles:20280518T160000
DTSTAMP:20260420T222919
CREATED:20260203T194318Z
LAST-MODIFIED:20260316T184846Z
UID:10000917-1842253200-1842278400@mc-choice.countyofmonterey.gov
SUMMARY:MC-CHOICE Unit
DESCRIPTION:
URL:https://mc-choice.countyofmonterey.gov/event/mc-choice-unit/2028-05-18/
LOCATION:La Manzana Community Resource Center\, 521 Main St Suite Y\, Watsonville\, CA\, 95076
END:VEVENT
BEGIN:VEVENT
DTSTART;TZID=America/Los_Angeles:20280517T090000
DTEND;TZID=America/Los_Angeles:20280517T160000
DTSTAMP:20260420T222919
CREATED:20251215T230936Z
LAST-MODIFIED:20260316T175014Z
UID:10000656-1842166800-1842192000@mc-choice.countyofmonterey.gov
SUMMARY:MC-CHOICE Unit
DESCRIPTION:
URL:https://mc-choice.countyofmonterey.gov/event/mc-choice-unit-every-wednesday/2028-05-17/
LOCATION:MC-CHOICE Unit\, WIC Office 632 E. Alisal St\, Salinas\, CA\, 93905
CATEGORIES:Outreach
END:VEVENT
BEGIN:VEVENT
DTSTART;TZID=America/Los_Angeles:20280516T090000
DTEND;TZID=America/Los_Angeles:20280516T160000
DTSTAMP:20260420T222919
CREATED:20251215T230629Z
LAST-MODIFIED:20260316T175115Z
UID:10001178-1842080400-1842105600@mc-choice.countyofmonterey.gov
SUMMARY:MC-CHOICE Unit
DESCRIPTION:
URL:https://mc-choice.countyofmonterey.gov/event/mc-choice-unit-every-tuesday/2028-05-16/
LOCATION:MC-CHOICE Unit\, Soledad WIC 355 Gabilan Dr\, Soledad\, CA\, 93960
CATEGORIES:Outreach
END:VEVENT
BEGIN:VEVENT
DTSTART;TZID=America/Los_Angeles:20280511T090000
DTEND;TZID=America/Los_Angeles:20280511T160000
DTSTAMP:20260420T222919
CREATED:20260203T194318Z
LAST-MODIFIED:20260316T184846Z
UID:10000916-1841648400-1841673600@mc-choice.countyofmonterey.gov
SUMMARY:MC-CHOICE Unit
DESCRIPTION:
URL:https://mc-choice.countyofmonterey.gov/event/mc-choice-unit/2028-05-11/
LOCATION:La Manzana Community Resource Center\, 521 Main St Suite Y\, Watsonville\, CA\, 95076
END:VEVENT
BEGIN:VEVENT
DTSTART;TZID=America/Los_Angeles:20280510T090000
DTEND;TZID=America/Los_Angeles:20280510T160000
DTSTAMP:20260420T222919
CREATED:20251215T230936Z
LAST-MODIFIED:20260316T175014Z
UID:10000655-1841562000-1841587200@mc-choice.countyofmonterey.gov
SUMMARY:MC-CHOICE Unit
DESCRIPTION:
URL:https://mc-choice.countyofmonterey.gov/event/mc-choice-unit-every-wednesday/2028-05-10/
LOCATION:MC-CHOICE Unit\, WIC Office 632 E. Alisal St\, Salinas\, CA\, 93905
CATEGORIES:Outreach
END:VEVENT
BEGIN:VEVENT
DTSTART;TZID=America/Los_Angeles:20280509T090000
DTEND;TZID=America/Los_Angeles:20280509T160000
DTSTAMP:20260420T222919
CREATED:20251215T230629Z
LAST-MODIFIED:20260316T175115Z
UID:10001177-1841475600-1841500800@mc-choice.countyofmonterey.gov
SUMMARY:MC-CHOICE Unit
DESCRIPTION:
URL:https://mc-choice.countyofmonterey.gov/event/mc-choice-unit-every-tuesday/2028-05-09/
LOCATION:MC-CHOICE Unit\, Soledad WIC 355 Gabilan Dr\, Soledad\, CA\, 93960
CATEGORIES:Outreach
END:VEVENT
BEGIN:VEVENT
DTSTART;TZID=America/Los_Angeles:20280504T090000
DTEND;TZID=America/Los_Angeles:20280504T160000
DTSTAMP:20260420T222919
CREATED:20260203T194318Z
LAST-MODIFIED:20260316T184846Z
UID:10000915-1841043600-1841068800@mc-choice.countyofmonterey.gov
SUMMARY:MC-CHOICE Unit
DESCRIPTION:
URL:https://mc-choice.countyofmonterey.gov/event/mc-choice-unit/2028-05-04/
LOCATION:La Manzana Community Resource Center\, 521 Main St Suite Y\, Watsonville\, CA\, 95076
END:VEVENT
BEGIN:VEVENT
DTSTART;TZID=America/Los_Angeles:20280503T090000
DTEND;TZID=America/Los_Angeles:20280503T160000
DTSTAMP:20260420T222919
CREATED:20251215T230936Z
LAST-MODIFIED:20260316T175014Z
UID:10000654-1840957200-1840982400@mc-choice.countyofmonterey.gov
SUMMARY:MC-CHOICE Unit
DESCRIPTION:
URL:https://mc-choice.countyofmonterey.gov/event/mc-choice-unit-every-wednesday/2028-05-03/
LOCATION:MC-CHOICE Unit\, WIC Office 632 E. Alisal St\, Salinas\, CA\, 93905
CATEGORIES:Outreach
END:VEVENT
END:VCALENDAR