


BEGIN:VCALENDAR
VERSION:2.0
PRODID:-//MC-CHOICE - ECPv6.15.12.2//NONSGML v1.0//EN
CALSCALE:GREGORIAN
METHOD:PUBLISH
X-ORIGINAL-URL:https://mc-choice.countyofmonterey.gov
X-WR-CALDESC:Events for MC-CHOICE
REFRESH-INTERVAL;VALUE=DURATION:PT1H
X-Robots-Tag:noindex
X-PUBLISHED-TTL:PT1H
BEGIN:VTIMEZONE
TZID:America/Los_Angeles
BEGIN:DAYLIGHT
TZOFFSETFROM:-0800
TZOFFSETTO:-0700
TZNAME:PDT
DTSTART:20280312T100000
END:DAYLIGHT
BEGIN:STANDARD
TZOFFSETFROM:-0700
TZOFFSETTO:-0800
TZNAME:PST
DTSTART:20281105T090000
END:STANDARD
BEGIN:DAYLIGHT
TZOFFSETFROM:-0800
TZOFFSETTO:-0700
TZNAME:PDT
DTSTART:20290311T100000
END:DAYLIGHT
BEGIN:STANDARD
TZOFFSETFROM:-0700
TZOFFSETTO:-0800
TZNAME:PST
DTSTART:20291104T090000
END:STANDARD
BEGIN:DAYLIGHT
TZOFFSETFROM:-0800
TZOFFSETTO:-0700
TZNAME:PDT
DTSTART:20300310T100000
END:DAYLIGHT
BEGIN:STANDARD
TZOFFSETFROM:-0700
TZOFFSETTO:-0800
TZNAME:PST
DTSTART:20301103T090000
END:STANDARD
END:VTIMEZONE
BEGIN:VEVENT
DTSTART;TZID=America/Los_Angeles:20290221T090000
DTEND;TZID=America/Los_Angeles:20290221T160000
DTSTAMP:20260420T204837
CREATED:20251215T230936Z
LAST-MODIFIED:20260316T175014Z
UID:10000696-1866358800-1866384000@mc-choice.countyofmonterey.gov
SUMMARY:MC-CHOICE Unit
DESCRIPTION:
URL:https://mc-choice.countyofmonterey.gov/event/mc-choice-unit-every-wednesday/2029-02-21/
LOCATION:MC-CHOICE Unit\, WIC Office 632 E. Alisal St\, Salinas\, CA\, 93905
CATEGORIES:Outreach
END:VEVENT
BEGIN:VEVENT
DTSTART;TZID=America/Los_Angeles:20290222T090000
DTEND;TZID=America/Los_Angeles:20290222T160000
DTSTAMP:20260420T204837
CREATED:20260203T194318Z
LAST-MODIFIED:20260316T184846Z
UID:10000957-1866445200-1866470400@mc-choice.countyofmonterey.gov
SUMMARY:MC-CHOICE Unit
DESCRIPTION:
URL:https://mc-choice.countyofmonterey.gov/event/mc-choice-unit/2029-02-22/
LOCATION:La Manzana Community Resource Center\, 521 Main St Suite Y\, Watsonville\, CA\, 95076
END:VEVENT
BEGIN:VEVENT
DTSTART;TZID=America/Los_Angeles:20290227T090000
DTEND;TZID=America/Los_Angeles:20290227T160000
DTSTAMP:20260420T204838
CREATED:20251215T230629Z
LAST-MODIFIED:20260316T175115Z
UID:10001219-1866877200-1866902400@mc-choice.countyofmonterey.gov
SUMMARY:MC-CHOICE Unit
DESCRIPTION:
URL:https://mc-choice.countyofmonterey.gov/event/mc-choice-unit-every-tuesday/2029-02-27/
LOCATION:MC-CHOICE Unit\, Soledad WIC 355 Gabilan Dr\, Soledad\, CA\, 93960
CATEGORIES:Outreach
END:VEVENT
BEGIN:VEVENT
DTSTART;TZID=America/Los_Angeles:20290228T090000
DTEND;TZID=America/Los_Angeles:20290228T160000
DTSTAMP:20260420T204838
CREATED:20251215T230936Z
LAST-MODIFIED:20260316T175014Z
UID:10000697-1866963600-1866988800@mc-choice.countyofmonterey.gov
SUMMARY:MC-CHOICE Unit
DESCRIPTION:
URL:https://mc-choice.countyofmonterey.gov/event/mc-choice-unit-every-wednesday/2029-02-28/
LOCATION:MC-CHOICE Unit\, WIC Office 632 E. Alisal St\, Salinas\, CA\, 93905
CATEGORIES:Outreach
END:VEVENT
BEGIN:VEVENT
DTSTART;TZID=America/Los_Angeles:20290301T090000
DTEND;TZID=America/Los_Angeles:20290301T160000
DTSTAMP:20260420T204838
CREATED:20260203T194318Z
LAST-MODIFIED:20260316T184846Z
UID:10000958-1867050000-1867075200@mc-choice.countyofmonterey.gov
SUMMARY:MC-CHOICE Unit
DESCRIPTION:
URL:https://mc-choice.countyofmonterey.gov/event/mc-choice-unit/2029-03-01/
LOCATION:La Manzana Community Resource Center\, 521 Main St Suite Y\, Watsonville\, CA\, 95076
END:VEVENT
BEGIN:VEVENT
DTSTART;TZID=America/Los_Angeles:20290306T090000
DTEND;TZID=America/Los_Angeles:20290306T160000
DTSTAMP:20260420T204838
CREATED:20251215T230629Z
LAST-MODIFIED:20260316T175115Z
UID:10001220-1867482000-1867507200@mc-choice.countyofmonterey.gov
SUMMARY:MC-CHOICE Unit
DESCRIPTION:
URL:https://mc-choice.countyofmonterey.gov/event/mc-choice-unit-every-tuesday/2029-03-06/
LOCATION:MC-CHOICE Unit\, Soledad WIC 355 Gabilan Dr\, Soledad\, CA\, 93960
CATEGORIES:Outreach
END:VEVENT
BEGIN:VEVENT
DTSTART;TZID=America/Los_Angeles:20290307T090000
DTEND;TZID=America/Los_Angeles:20290307T160000
DTSTAMP:20260420T204838
CREATED:20251215T230936Z
LAST-MODIFIED:20260316T175014Z
UID:10000698-1867568400-1867593600@mc-choice.countyofmonterey.gov
SUMMARY:MC-CHOICE Unit
DESCRIPTION:
URL:https://mc-choice.countyofmonterey.gov/event/mc-choice-unit-every-wednesday/2029-03-07/
LOCATION:MC-CHOICE Unit\, WIC Office 632 E. Alisal St\, Salinas\, CA\, 93905
CATEGORIES:Outreach
END:VEVENT
BEGIN:VEVENT
DTSTART;TZID=America/Los_Angeles:20290308T090000
DTEND;TZID=America/Los_Angeles:20290308T160000
DTSTAMP:20260420T204838
CREATED:20260203T194318Z
LAST-MODIFIED:20260316T184846Z
UID:10000959-1867654800-1867680000@mc-choice.countyofmonterey.gov
SUMMARY:MC-CHOICE Unit
DESCRIPTION:
URL:https://mc-choice.countyofmonterey.gov/event/mc-choice-unit/2029-03-08/
LOCATION:La Manzana Community Resource Center\, 521 Main St Suite Y\, Watsonville\, CA\, 95076
END:VEVENT
BEGIN:VEVENT
DTSTART;TZID=America/Los_Angeles:20290313T090000
DTEND;TZID=America/Los_Angeles:20290313T160000
DTSTAMP:20260420T204838
CREATED:20251215T230629Z
LAST-MODIFIED:20260316T175115Z
UID:10001221-1868086800-1868112000@mc-choice.countyofmonterey.gov
SUMMARY:MC-CHOICE Unit
DESCRIPTION:
URL:https://mc-choice.countyofmonterey.gov/event/mc-choice-unit-every-tuesday/2029-03-13/
LOCATION:MC-CHOICE Unit\, Soledad WIC 355 Gabilan Dr\, Soledad\, CA\, 93960
CATEGORIES:Outreach
END:VEVENT
BEGIN:VEVENT
DTSTART;TZID=America/Los_Angeles:20290314T090000
DTEND;TZID=America/Los_Angeles:20290314T160000
DTSTAMP:20260420T204838
CREATED:20251215T230936Z
LAST-MODIFIED:20260316T175014Z
UID:10000699-1868173200-1868198400@mc-choice.countyofmonterey.gov
SUMMARY:MC-CHOICE Unit
DESCRIPTION:
URL:https://mc-choice.countyofmonterey.gov/event/mc-choice-unit-every-wednesday/2029-03-14/
LOCATION:MC-CHOICE Unit\, WIC Office 632 E. Alisal St\, Salinas\, CA\, 93905
CATEGORIES:Outreach
END:VEVENT
BEGIN:VEVENT
DTSTART;TZID=America/Los_Angeles:20290315T090000
DTEND;TZID=America/Los_Angeles:20290315T160000
DTSTAMP:20260420T204838
CREATED:20260203T194318Z
LAST-MODIFIED:20260316T184846Z
UID:10000960-1868259600-1868284800@mc-choice.countyofmonterey.gov
SUMMARY:MC-CHOICE Unit
DESCRIPTION:
URL:https://mc-choice.countyofmonterey.gov/event/mc-choice-unit/2029-03-15/
LOCATION:La Manzana Community Resource Center\, 521 Main St Suite Y\, Watsonville\, CA\, 95076
END:VEVENT
BEGIN:VEVENT
DTSTART;TZID=America/Los_Angeles:20290320T090000
DTEND;TZID=America/Los_Angeles:20290320T160000
DTSTAMP:20260420T204838
CREATED:20251215T230629Z
LAST-MODIFIED:20260316T175115Z
UID:10001222-1868691600-1868716800@mc-choice.countyofmonterey.gov
SUMMARY:MC-CHOICE Unit
DESCRIPTION:
URL:https://mc-choice.countyofmonterey.gov/event/mc-choice-unit-every-tuesday/2029-03-20/
LOCATION:MC-CHOICE Unit\, Soledad WIC 355 Gabilan Dr\, Soledad\, CA\, 93960
CATEGORIES:Outreach
END:VEVENT
BEGIN:VEVENT
DTSTART;TZID=America/Los_Angeles:20290321T090000
DTEND;TZID=America/Los_Angeles:20290321T160000
DTSTAMP:20260420T204838
CREATED:20251215T230936Z
LAST-MODIFIED:20260316T175014Z
UID:10000700-1868778000-1868803200@mc-choice.countyofmonterey.gov
SUMMARY:MC-CHOICE Unit
DESCRIPTION:
URL:https://mc-choice.countyofmonterey.gov/event/mc-choice-unit-every-wednesday/2029-03-21/
LOCATION:MC-CHOICE Unit\, WIC Office 632 E. Alisal St\, Salinas\, CA\, 93905
CATEGORIES:Outreach
END:VEVENT
BEGIN:VEVENT
DTSTART;TZID=America/Los_Angeles:20290322T090000
DTEND;TZID=America/Los_Angeles:20290322T160000
DTSTAMP:20260420T204838
CREATED:20260203T194318Z
LAST-MODIFIED:20260316T184846Z
UID:10000961-1868864400-1868889600@mc-choice.countyofmonterey.gov
SUMMARY:MC-CHOICE Unit
DESCRIPTION:
URL:https://mc-choice.countyofmonterey.gov/event/mc-choice-unit/2029-03-22/
LOCATION:La Manzana Community Resource Center\, 521 Main St Suite Y\, Watsonville\, CA\, 95076
END:VEVENT
BEGIN:VEVENT
DTSTART;TZID=America/Los_Angeles:20290327T090000
DTEND;TZID=America/Los_Angeles:20290327T160000
DTSTAMP:20260420T204838
CREATED:20251215T230629Z
LAST-MODIFIED:20260316T175115Z
UID:10001223-1869296400-1869321600@mc-choice.countyofmonterey.gov
SUMMARY:MC-CHOICE Unit
DESCRIPTION:
URL:https://mc-choice.countyofmonterey.gov/event/mc-choice-unit-every-tuesday/2029-03-27/
LOCATION:MC-CHOICE Unit\, Soledad WIC 355 Gabilan Dr\, Soledad\, CA\, 93960
CATEGORIES:Outreach
END:VEVENT
BEGIN:VEVENT
DTSTART;TZID=America/Los_Angeles:20290328T090000
DTEND;TZID=America/Los_Angeles:20290328T160000
DTSTAMP:20260420T204838
CREATED:20251215T230936Z
LAST-MODIFIED:20260316T175014Z
UID:10000701-1869382800-1869408000@mc-choice.countyofmonterey.gov
SUMMARY:MC-CHOICE Unit
DESCRIPTION:
URL:https://mc-choice.countyofmonterey.gov/event/mc-choice-unit-every-wednesday/2029-03-28/
LOCATION:MC-CHOICE Unit\, WIC Office 632 E. Alisal St\, Salinas\, CA\, 93905
CATEGORIES:Outreach
END:VEVENT
BEGIN:VEVENT
DTSTART;TZID=America/Los_Angeles:20290329T090000
DTEND;TZID=America/Los_Angeles:20290329T160000
DTSTAMP:20260420T204838
CREATED:20260203T194318Z
LAST-MODIFIED:20260316T184846Z
UID:10000962-1869469200-1869494400@mc-choice.countyofmonterey.gov
SUMMARY:MC-CHOICE Unit
DESCRIPTION:
URL:https://mc-choice.countyofmonterey.gov/event/mc-choice-unit/2029-03-29/
LOCATION:La Manzana Community Resource Center\, 521 Main St Suite Y\, Watsonville\, CA\, 95076
END:VEVENT
BEGIN:VEVENT
DTSTART;TZID=America/Los_Angeles:20290403T090000
DTEND;TZID=America/Los_Angeles:20290403T160000
DTSTAMP:20260420T204838
CREATED:20251215T230629Z
LAST-MODIFIED:20260316T175115Z
UID:10001224-1869901200-1869926400@mc-choice.countyofmonterey.gov
SUMMARY:MC-CHOICE Unit
DESCRIPTION:
URL:https://mc-choice.countyofmonterey.gov/event/mc-choice-unit-every-tuesday/2029-04-03/
LOCATION:MC-CHOICE Unit\, Soledad WIC 355 Gabilan Dr\, Soledad\, CA\, 93960
CATEGORIES:Outreach
END:VEVENT
BEGIN:VEVENT
DTSTART;TZID=America/Los_Angeles:20290404T090000
DTEND;TZID=America/Los_Angeles:20290404T160000
DTSTAMP:20260420T204838
CREATED:20251215T230936Z
LAST-MODIFIED:20260316T175014Z
UID:10000702-1869987600-1870012800@mc-choice.countyofmonterey.gov
SUMMARY:MC-CHOICE Unit
DESCRIPTION:
URL:https://mc-choice.countyofmonterey.gov/event/mc-choice-unit-every-wednesday/2029-04-04/
LOCATION:MC-CHOICE Unit\, WIC Office 632 E. Alisal St\, Salinas\, CA\, 93905
CATEGORIES:Outreach
END:VEVENT
BEGIN:VEVENT
DTSTART;TZID=America/Los_Angeles:20290405T090000
DTEND;TZID=America/Los_Angeles:20290405T160000
DTSTAMP:20260420T204838
CREATED:20260203T194318Z
LAST-MODIFIED:20260316T184846Z
UID:10000963-1870074000-1870099200@mc-choice.countyofmonterey.gov
SUMMARY:MC-CHOICE Unit
DESCRIPTION:
URL:https://mc-choice.countyofmonterey.gov/event/mc-choice-unit/2029-04-05/
LOCATION:La Manzana Community Resource Center\, 521 Main St Suite Y\, Watsonville\, CA\, 95076
END:VEVENT
BEGIN:VEVENT
DTSTART;TZID=America/Los_Angeles:20290410T090000
DTEND;TZID=America/Los_Angeles:20290410T160000
DTSTAMP:20260420T204838
CREATED:20251215T230629Z
LAST-MODIFIED:20260316T175115Z
UID:10001225-1870506000-1870531200@mc-choice.countyofmonterey.gov
SUMMARY:MC-CHOICE Unit
DESCRIPTION:
URL:https://mc-choice.countyofmonterey.gov/event/mc-choice-unit-every-tuesday/2029-04-10/
LOCATION:MC-CHOICE Unit\, Soledad WIC 355 Gabilan Dr\, Soledad\, CA\, 93960
CATEGORIES:Outreach
END:VEVENT
BEGIN:VEVENT
DTSTART;TZID=America/Los_Angeles:20290411T090000
DTEND;TZID=America/Los_Angeles:20290411T160000
DTSTAMP:20260420T204838
CREATED:20251215T230936Z
LAST-MODIFIED:20260316T175014Z
UID:10000703-1870592400-1870617600@mc-choice.countyofmonterey.gov
SUMMARY:MC-CHOICE Unit
DESCRIPTION:
URL:https://mc-choice.countyofmonterey.gov/event/mc-choice-unit-every-wednesday/2029-04-11/
LOCATION:MC-CHOICE Unit\, WIC Office 632 E. Alisal St\, Salinas\, CA\, 93905
CATEGORIES:Outreach
END:VEVENT
BEGIN:VEVENT
DTSTART;TZID=America/Los_Angeles:20290412T090000
DTEND;TZID=America/Los_Angeles:20290412T160000
DTSTAMP:20260420T204838
CREATED:20260203T194318Z
LAST-MODIFIED:20260316T184846Z
UID:10000964-1870678800-1870704000@mc-choice.countyofmonterey.gov
SUMMARY:MC-CHOICE Unit
DESCRIPTION:
URL:https://mc-choice.countyofmonterey.gov/event/mc-choice-unit/2029-04-12/
LOCATION:La Manzana Community Resource Center\, 521 Main St Suite Y\, Watsonville\, CA\, 95076
END:VEVENT
BEGIN:VEVENT
DTSTART;TZID=America/Los_Angeles:20290417T090000
DTEND;TZID=America/Los_Angeles:20290417T160000
DTSTAMP:20260420T204838
CREATED:20251215T230629Z
LAST-MODIFIED:20260316T175115Z
UID:10001226-1871110800-1871136000@mc-choice.countyofmonterey.gov
SUMMARY:MC-CHOICE Unit
DESCRIPTION:
URL:https://mc-choice.countyofmonterey.gov/event/mc-choice-unit-every-tuesday/2029-04-17/
LOCATION:MC-CHOICE Unit\, Soledad WIC 355 Gabilan Dr\, Soledad\, CA\, 93960
CATEGORIES:Outreach
END:VEVENT
BEGIN:VEVENT
DTSTART;TZID=America/Los_Angeles:20290418T090000
DTEND;TZID=America/Los_Angeles:20290418T160000
DTSTAMP:20260420T204838
CREATED:20251215T230936Z
LAST-MODIFIED:20260316T175014Z
UID:10000704-1871197200-1871222400@mc-choice.countyofmonterey.gov
SUMMARY:MC-CHOICE Unit
DESCRIPTION:
URL:https://mc-choice.countyofmonterey.gov/event/mc-choice-unit-every-wednesday/2029-04-18/
LOCATION:MC-CHOICE Unit\, WIC Office 632 E. Alisal St\, Salinas\, CA\, 93905
CATEGORIES:Outreach
END:VEVENT
BEGIN:VEVENT
DTSTART;TZID=America/Los_Angeles:20290419T090000
DTEND;TZID=America/Los_Angeles:20290419T160000
DTSTAMP:20260420T204838
CREATED:20260203T194318Z
LAST-MODIFIED:20260316T184846Z
UID:10000965-1871283600-1871308800@mc-choice.countyofmonterey.gov
SUMMARY:MC-CHOICE Unit
DESCRIPTION:
URL:https://mc-choice.countyofmonterey.gov/event/mc-choice-unit/2029-04-19/
LOCATION:La Manzana Community Resource Center\, 521 Main St Suite Y\, Watsonville\, CA\, 95076
END:VEVENT
BEGIN:VEVENT
DTSTART;TZID=America/Los_Angeles:20290424T090000
DTEND;TZID=America/Los_Angeles:20290424T160000
DTSTAMP:20260420T204838
CREATED:20251215T230629Z
LAST-MODIFIED:20260316T175115Z
UID:10001227-1871715600-1871740800@mc-choice.countyofmonterey.gov
SUMMARY:MC-CHOICE Unit
DESCRIPTION:
URL:https://mc-choice.countyofmonterey.gov/event/mc-choice-unit-every-tuesday/2029-04-24/
LOCATION:MC-CHOICE Unit\, Soledad WIC 355 Gabilan Dr\, Soledad\, CA\, 93960
CATEGORIES:Outreach
END:VEVENT
BEGIN:VEVENT
DTSTART;TZID=America/Los_Angeles:20290425T090000
DTEND;TZID=America/Los_Angeles:20290425T160000
DTSTAMP:20260420T204838
CREATED:20251215T230936Z
LAST-MODIFIED:20260316T175014Z
UID:10000705-1871802000-1871827200@mc-choice.countyofmonterey.gov
SUMMARY:MC-CHOICE Unit
DESCRIPTION:
URL:https://mc-choice.countyofmonterey.gov/event/mc-choice-unit-every-wednesday/2029-04-25/
LOCATION:MC-CHOICE Unit\, WIC Office 632 E. Alisal St\, Salinas\, CA\, 93905
CATEGORIES:Outreach
END:VEVENT
BEGIN:VEVENT
DTSTART;TZID=America/Los_Angeles:20290426T090000
DTEND;TZID=America/Los_Angeles:20290426T160000
DTSTAMP:20260420T204838
CREATED:20260203T194318Z
LAST-MODIFIED:20260316T184846Z
UID:10000966-1871888400-1871913600@mc-choice.countyofmonterey.gov
SUMMARY:MC-CHOICE Unit
DESCRIPTION:
URL:https://mc-choice.countyofmonterey.gov/event/mc-choice-unit/2029-04-26/
LOCATION:La Manzana Community Resource Center\, 521 Main St Suite Y\, Watsonville\, CA\, 95076
END:VEVENT
BEGIN:VEVENT
DTSTART;TZID=America/Los_Angeles:20290501T090000
DTEND;TZID=America/Los_Angeles:20290501T160000
DTSTAMP:20260420T204838
CREATED:20251215T230629Z
LAST-MODIFIED:20260316T175115Z
UID:10001228-1872320400-1872345600@mc-choice.countyofmonterey.gov
SUMMARY:MC-CHOICE Unit
DESCRIPTION:
URL:https://mc-choice.countyofmonterey.gov/event/mc-choice-unit-every-tuesday/2029-05-01/
LOCATION:MC-CHOICE Unit\, Soledad WIC 355 Gabilan Dr\, Soledad\, CA\, 93960
CATEGORIES:Outreach
END:VEVENT
END:VCALENDAR