


BEGIN:VCALENDAR
VERSION:2.0
PRODID:-//MC-CHOICE - ECPv6.15.12.2//NONSGML v1.0//EN
CALSCALE:GREGORIAN
METHOD:PUBLISH
X-WR-CALNAME:MC-CHOICE
X-ORIGINAL-URL:https://mc-choice.countyofmonterey.gov
X-WR-CALDESC:Events for MC-CHOICE
REFRESH-INTERVAL;VALUE=DURATION:PT1H
X-Robots-Tag:noindex
X-PUBLISHED-TTL:PT1H
BEGIN:VTIMEZONE
TZID:America/Los_Angeles
BEGIN:DAYLIGHT
TZOFFSETFROM:-0800
TZOFFSETTO:-0700
TZNAME:PDT
DTSTART:20280312T100000
END:DAYLIGHT
BEGIN:STANDARD
TZOFFSETFROM:-0700
TZOFFSETTO:-0800
TZNAME:PST
DTSTART:20281105T090000
END:STANDARD
BEGIN:DAYLIGHT
TZOFFSETFROM:-0800
TZOFFSETTO:-0700
TZNAME:PDT
DTSTART:20290311T100000
END:DAYLIGHT
BEGIN:STANDARD
TZOFFSETFROM:-0700
TZOFFSETTO:-0800
TZNAME:PST
DTSTART:20291104T090000
END:STANDARD
BEGIN:DAYLIGHT
TZOFFSETFROM:-0800
TZOFFSETTO:-0700
TZNAME:PDT
DTSTART:20300310T100000
END:DAYLIGHT
BEGIN:STANDARD
TZOFFSETFROM:-0700
TZOFFSETTO:-0800
TZNAME:PST
DTSTART:20301103T090000
END:STANDARD
END:VTIMEZONE
BEGIN:VEVENT
DTSTART;TZID=America/Los_Angeles:20290621T090000
DTEND;TZID=America/Los_Angeles:20290621T160000
DTSTAMP:20260421T031101
CREATED:20260203T194318Z
LAST-MODIFIED:20260316T184846Z
UID:10000974-1876726800-1876752000@mc-choice.countyofmonterey.gov
SUMMARY:MC-CHOICE Unit
DESCRIPTION:
URL:https://mc-choice.countyofmonterey.gov/event/mc-choice-unit/2029-06-21/
LOCATION:La Manzana Community Resource Center\, 521 Main St Suite Y\, Watsonville\, CA\, 95076
END:VEVENT
BEGIN:VEVENT
DTSTART;TZID=America/Los_Angeles:20290626T090000
DTEND;TZID=America/Los_Angeles:20290626T160000
DTSTAMP:20260421T031101
CREATED:20251215T230629Z
LAST-MODIFIED:20260316T175115Z
UID:10001236-1877158800-1877184000@mc-choice.countyofmonterey.gov
SUMMARY:MC-CHOICE Unit
DESCRIPTION:
URL:https://mc-choice.countyofmonterey.gov/event/mc-choice-unit-every-tuesday/2029-06-26/
LOCATION:MC-CHOICE Unit\, Soledad WIC 355 Gabilan Dr\, Soledad\, CA\, 93960
CATEGORIES:Outreach
END:VEVENT
BEGIN:VEVENT
DTSTART;TZID=America/Los_Angeles:20290627T090000
DTEND;TZID=America/Los_Angeles:20290627T160000
DTSTAMP:20260421T031101
CREATED:20251215T230936Z
LAST-MODIFIED:20260316T175014Z
UID:10000714-1877245200-1877270400@mc-choice.countyofmonterey.gov
SUMMARY:MC-CHOICE Unit
DESCRIPTION:
URL:https://mc-choice.countyofmonterey.gov/event/mc-choice-unit-every-wednesday/2029-06-27/
LOCATION:MC-CHOICE Unit\, WIC Office 632 E. Alisal St\, Salinas\, CA\, 93905
CATEGORIES:Outreach
END:VEVENT
BEGIN:VEVENT
DTSTART;TZID=America/Los_Angeles:20290628T090000
DTEND;TZID=America/Los_Angeles:20290628T160000
DTSTAMP:20260421T031101
CREATED:20260203T194318Z
LAST-MODIFIED:20260316T184846Z
UID:10000975-1877331600-1877356800@mc-choice.countyofmonterey.gov
SUMMARY:MC-CHOICE Unit
DESCRIPTION:
URL:https://mc-choice.countyofmonterey.gov/event/mc-choice-unit/2029-06-28/
LOCATION:La Manzana Community Resource Center\, 521 Main St Suite Y\, Watsonville\, CA\, 95076
END:VEVENT
BEGIN:VEVENT
DTSTART;TZID=America/Los_Angeles:20290703T090000
DTEND;TZID=America/Los_Angeles:20290703T160000
DTSTAMP:20260421T031101
CREATED:20251215T230629Z
LAST-MODIFIED:20260316T175115Z
UID:10001237-1877763600-1877788800@mc-choice.countyofmonterey.gov
SUMMARY:MC-CHOICE Unit
DESCRIPTION:
URL:https://mc-choice.countyofmonterey.gov/event/mc-choice-unit-every-tuesday/2029-07-03/
LOCATION:MC-CHOICE Unit\, Soledad WIC 355 Gabilan Dr\, Soledad\, CA\, 93960
CATEGORIES:Outreach
END:VEVENT
BEGIN:VEVENT
DTSTART;TZID=America/Los_Angeles:20290704T090000
DTEND;TZID=America/Los_Angeles:20290704T160000
DTSTAMP:20260421T031101
CREATED:20251215T230936Z
LAST-MODIFIED:20260316T175014Z
UID:10000715-1877850000-1877875200@mc-choice.countyofmonterey.gov
SUMMARY:MC-CHOICE Unit
DESCRIPTION:
URL:https://mc-choice.countyofmonterey.gov/event/mc-choice-unit-every-wednesday/2029-07-04/
LOCATION:MC-CHOICE Unit\, WIC Office 632 E. Alisal St\, Salinas\, CA\, 93905
CATEGORIES:Outreach
END:VEVENT
BEGIN:VEVENT
DTSTART;TZID=America/Los_Angeles:20290705T090000
DTEND;TZID=America/Los_Angeles:20290705T160000
DTSTAMP:20260421T031101
CREATED:20260203T194318Z
LAST-MODIFIED:20260316T184846Z
UID:10000976-1877936400-1877961600@mc-choice.countyofmonterey.gov
SUMMARY:MC-CHOICE Unit
DESCRIPTION:
URL:https://mc-choice.countyofmonterey.gov/event/mc-choice-unit/2029-07-05/
LOCATION:La Manzana Community Resource Center\, 521 Main St Suite Y\, Watsonville\, CA\, 95076
END:VEVENT
BEGIN:VEVENT
DTSTART;TZID=America/Los_Angeles:20290710T090000
DTEND;TZID=America/Los_Angeles:20290710T160000
DTSTAMP:20260421T031101
CREATED:20251215T230629Z
LAST-MODIFIED:20260316T175115Z
UID:10001238-1878368400-1878393600@mc-choice.countyofmonterey.gov
SUMMARY:MC-CHOICE Unit
DESCRIPTION:
URL:https://mc-choice.countyofmonterey.gov/event/mc-choice-unit-every-tuesday/2029-07-10/
LOCATION:MC-CHOICE Unit\, Soledad WIC 355 Gabilan Dr\, Soledad\, CA\, 93960
CATEGORIES:Outreach
END:VEVENT
BEGIN:VEVENT
DTSTART;TZID=America/Los_Angeles:20290711T090000
DTEND;TZID=America/Los_Angeles:20290711T160000
DTSTAMP:20260421T031101
CREATED:20251215T230936Z
LAST-MODIFIED:20260316T175014Z
UID:10000716-1878454800-1878480000@mc-choice.countyofmonterey.gov
SUMMARY:MC-CHOICE Unit
DESCRIPTION:
URL:https://mc-choice.countyofmonterey.gov/event/mc-choice-unit-every-wednesday/2029-07-11/
LOCATION:MC-CHOICE Unit\, WIC Office 632 E. Alisal St\, Salinas\, CA\, 93905
CATEGORIES:Outreach
END:VEVENT
BEGIN:VEVENT
DTSTART;TZID=America/Los_Angeles:20290712T090000
DTEND;TZID=America/Los_Angeles:20290712T160000
DTSTAMP:20260421T031101
CREATED:20260203T194318Z
LAST-MODIFIED:20260316T184846Z
UID:10000977-1878541200-1878566400@mc-choice.countyofmonterey.gov
SUMMARY:MC-CHOICE Unit
DESCRIPTION:
URL:https://mc-choice.countyofmonterey.gov/event/mc-choice-unit/2029-07-12/
LOCATION:La Manzana Community Resource Center\, 521 Main St Suite Y\, Watsonville\, CA\, 95076
END:VEVENT
BEGIN:VEVENT
DTSTART;TZID=America/Los_Angeles:20290717T090000
DTEND;TZID=America/Los_Angeles:20290717T160000
DTSTAMP:20260421T031101
CREATED:20251215T230629Z
LAST-MODIFIED:20260316T175115Z
UID:10001239-1878973200-1878998400@mc-choice.countyofmonterey.gov
SUMMARY:MC-CHOICE Unit
DESCRIPTION:
URL:https://mc-choice.countyofmonterey.gov/event/mc-choice-unit-every-tuesday/2029-07-17/
LOCATION:MC-CHOICE Unit\, Soledad WIC 355 Gabilan Dr\, Soledad\, CA\, 93960
CATEGORIES:Outreach
END:VEVENT
BEGIN:VEVENT
DTSTART;TZID=America/Los_Angeles:20290718T090000
DTEND;TZID=America/Los_Angeles:20290718T160000
DTSTAMP:20260421T031101
CREATED:20251215T230936Z
LAST-MODIFIED:20260316T175014Z
UID:10000717-1879059600-1879084800@mc-choice.countyofmonterey.gov
SUMMARY:MC-CHOICE Unit
DESCRIPTION:
URL:https://mc-choice.countyofmonterey.gov/event/mc-choice-unit-every-wednesday/2029-07-18/
LOCATION:MC-CHOICE Unit\, WIC Office 632 E. Alisal St\, Salinas\, CA\, 93905
CATEGORIES:Outreach
END:VEVENT
BEGIN:VEVENT
DTSTART;TZID=America/Los_Angeles:20290719T090000
DTEND;TZID=America/Los_Angeles:20290719T160000
DTSTAMP:20260421T031101
CREATED:20260203T194318Z
LAST-MODIFIED:20260316T184846Z
UID:10000978-1879146000-1879171200@mc-choice.countyofmonterey.gov
SUMMARY:MC-CHOICE Unit
DESCRIPTION:
URL:https://mc-choice.countyofmonterey.gov/event/mc-choice-unit/2029-07-19/
LOCATION:La Manzana Community Resource Center\, 521 Main St Suite Y\, Watsonville\, CA\, 95076
END:VEVENT
BEGIN:VEVENT
DTSTART;TZID=America/Los_Angeles:20290724T090000
DTEND;TZID=America/Los_Angeles:20290724T160000
DTSTAMP:20260421T031101
CREATED:20251215T230629Z
LAST-MODIFIED:20260316T175115Z
UID:10001240-1879578000-1879603200@mc-choice.countyofmonterey.gov
SUMMARY:MC-CHOICE Unit
DESCRIPTION:
URL:https://mc-choice.countyofmonterey.gov/event/mc-choice-unit-every-tuesday/2029-07-24/
LOCATION:MC-CHOICE Unit\, Soledad WIC 355 Gabilan Dr\, Soledad\, CA\, 93960
CATEGORIES:Outreach
END:VEVENT
BEGIN:VEVENT
DTSTART;TZID=America/Los_Angeles:20290725T090000
DTEND;TZID=America/Los_Angeles:20290725T160000
DTSTAMP:20260421T031101
CREATED:20251215T230936Z
LAST-MODIFIED:20260316T175014Z
UID:10000718-1879664400-1879689600@mc-choice.countyofmonterey.gov
SUMMARY:MC-CHOICE Unit
DESCRIPTION:
URL:https://mc-choice.countyofmonterey.gov/event/mc-choice-unit-every-wednesday/2029-07-25/
LOCATION:MC-CHOICE Unit\, WIC Office 632 E. Alisal St\, Salinas\, CA\, 93905
CATEGORIES:Outreach
END:VEVENT
BEGIN:VEVENT
DTSTART;TZID=America/Los_Angeles:20290726T090000
DTEND;TZID=America/Los_Angeles:20290726T160000
DTSTAMP:20260421T031102
CREATED:20260203T194318Z
LAST-MODIFIED:20260316T184846Z
UID:10000979-1879750800-1879776000@mc-choice.countyofmonterey.gov
SUMMARY:MC-CHOICE Unit
DESCRIPTION:
URL:https://mc-choice.countyofmonterey.gov/event/mc-choice-unit/2029-07-26/
LOCATION:La Manzana Community Resource Center\, 521 Main St Suite Y\, Watsonville\, CA\, 95076
END:VEVENT
BEGIN:VEVENT
DTSTART;TZID=America/Los_Angeles:20290731T090000
DTEND;TZID=America/Los_Angeles:20290731T160000
DTSTAMP:20260421T031102
CREATED:20251215T230629Z
LAST-MODIFIED:20260316T175115Z
UID:10001241-1880182800-1880208000@mc-choice.countyofmonterey.gov
SUMMARY:MC-CHOICE Unit
DESCRIPTION:
URL:https://mc-choice.countyofmonterey.gov/event/mc-choice-unit-every-tuesday/2029-07-31/
LOCATION:MC-CHOICE Unit\, Soledad WIC 355 Gabilan Dr\, Soledad\, CA\, 93960
CATEGORIES:Outreach
END:VEVENT
BEGIN:VEVENT
DTSTART;TZID=America/Los_Angeles:20290801T090000
DTEND;TZID=America/Los_Angeles:20290801T160000
DTSTAMP:20260421T031102
CREATED:20251215T230936Z
LAST-MODIFIED:20260316T175014Z
UID:10000719-1880269200-1880294400@mc-choice.countyofmonterey.gov
SUMMARY:MC-CHOICE Unit
DESCRIPTION:
URL:https://mc-choice.countyofmonterey.gov/event/mc-choice-unit-every-wednesday/2029-08-01/
LOCATION:MC-CHOICE Unit\, WIC Office 632 E. Alisal St\, Salinas\, CA\, 93905
CATEGORIES:Outreach
END:VEVENT
BEGIN:VEVENT
DTSTART;TZID=America/Los_Angeles:20290802T090000
DTEND;TZID=America/Los_Angeles:20290802T160000
DTSTAMP:20260421T031102
CREATED:20260203T194318Z
LAST-MODIFIED:20260316T184846Z
UID:10000980-1880355600-1880380800@mc-choice.countyofmonterey.gov
SUMMARY:MC-CHOICE Unit
DESCRIPTION:
URL:https://mc-choice.countyofmonterey.gov/event/mc-choice-unit/2029-08-02/
LOCATION:La Manzana Community Resource Center\, 521 Main St Suite Y\, Watsonville\, CA\, 95076
END:VEVENT
BEGIN:VEVENT
DTSTART;TZID=America/Los_Angeles:20290807T090000
DTEND;TZID=America/Los_Angeles:20290807T160000
DTSTAMP:20260421T031102
CREATED:20251215T230629Z
LAST-MODIFIED:20260316T175115Z
UID:10001242-1880787600-1880812800@mc-choice.countyofmonterey.gov
SUMMARY:MC-CHOICE Unit
DESCRIPTION:
URL:https://mc-choice.countyofmonterey.gov/event/mc-choice-unit-every-tuesday/2029-08-07/
LOCATION:MC-CHOICE Unit\, Soledad WIC 355 Gabilan Dr\, Soledad\, CA\, 93960
CATEGORIES:Outreach
END:VEVENT
BEGIN:VEVENT
DTSTART;TZID=America/Los_Angeles:20290808T090000
DTEND;TZID=America/Los_Angeles:20290808T160000
DTSTAMP:20260421T031102
CREATED:20251215T230936Z
LAST-MODIFIED:20260316T175014Z
UID:10000720-1880874000-1880899200@mc-choice.countyofmonterey.gov
SUMMARY:MC-CHOICE Unit
DESCRIPTION:
URL:https://mc-choice.countyofmonterey.gov/event/mc-choice-unit-every-wednesday/2029-08-08/
LOCATION:MC-CHOICE Unit\, WIC Office 632 E. Alisal St\, Salinas\, CA\, 93905
CATEGORIES:Outreach
END:VEVENT
BEGIN:VEVENT
DTSTART;TZID=America/Los_Angeles:20290809T090000
DTEND;TZID=America/Los_Angeles:20290809T160000
DTSTAMP:20260421T031102
CREATED:20260203T194318Z
LAST-MODIFIED:20260316T184846Z
UID:10000981-1880960400-1880985600@mc-choice.countyofmonterey.gov
SUMMARY:MC-CHOICE Unit
DESCRIPTION:
URL:https://mc-choice.countyofmonterey.gov/event/mc-choice-unit/2029-08-09/
LOCATION:La Manzana Community Resource Center\, 521 Main St Suite Y\, Watsonville\, CA\, 95076
END:VEVENT
BEGIN:VEVENT
DTSTART;TZID=America/Los_Angeles:20290814T090000
DTEND;TZID=America/Los_Angeles:20290814T160000
DTSTAMP:20260421T031102
CREATED:20251215T230629Z
LAST-MODIFIED:20260316T175115Z
UID:10001243-1881392400-1881417600@mc-choice.countyofmonterey.gov
SUMMARY:MC-CHOICE Unit
DESCRIPTION:
URL:https://mc-choice.countyofmonterey.gov/event/mc-choice-unit-every-tuesday/2029-08-14/
LOCATION:MC-CHOICE Unit\, Soledad WIC 355 Gabilan Dr\, Soledad\, CA\, 93960
CATEGORIES:Outreach
END:VEVENT
BEGIN:VEVENT
DTSTART;TZID=America/Los_Angeles:20290815T090000
DTEND;TZID=America/Los_Angeles:20290815T160000
DTSTAMP:20260421T031102
CREATED:20251215T230936Z
LAST-MODIFIED:20260316T175014Z
UID:10000721-1881478800-1881504000@mc-choice.countyofmonterey.gov
SUMMARY:MC-CHOICE Unit
DESCRIPTION:
URL:https://mc-choice.countyofmonterey.gov/event/mc-choice-unit-every-wednesday/2029-08-15/
LOCATION:MC-CHOICE Unit\, WIC Office 632 E. Alisal St\, Salinas\, CA\, 93905
CATEGORIES:Outreach
END:VEVENT
BEGIN:VEVENT
DTSTART;TZID=America/Los_Angeles:20290816T090000
DTEND;TZID=America/Los_Angeles:20290816T160000
DTSTAMP:20260421T031102
CREATED:20260203T194318Z
LAST-MODIFIED:20260316T184846Z
UID:10000982-1881565200-1881590400@mc-choice.countyofmonterey.gov
SUMMARY:MC-CHOICE Unit
DESCRIPTION:
URL:https://mc-choice.countyofmonterey.gov/event/mc-choice-unit/2029-08-16/
LOCATION:La Manzana Community Resource Center\, 521 Main St Suite Y\, Watsonville\, CA\, 95076
END:VEVENT
BEGIN:VEVENT
DTSTART;TZID=America/Los_Angeles:20290821T090000
DTEND;TZID=America/Los_Angeles:20290821T160000
DTSTAMP:20260421T031102
CREATED:20251215T230629Z
LAST-MODIFIED:20260316T175115Z
UID:10001244-1881997200-1882022400@mc-choice.countyofmonterey.gov
SUMMARY:MC-CHOICE Unit
DESCRIPTION:
URL:https://mc-choice.countyofmonterey.gov/event/mc-choice-unit-every-tuesday/2029-08-21/
LOCATION:MC-CHOICE Unit\, Soledad WIC 355 Gabilan Dr\, Soledad\, CA\, 93960
CATEGORIES:Outreach
END:VEVENT
BEGIN:VEVENT
DTSTART;TZID=America/Los_Angeles:20290822T090000
DTEND;TZID=America/Los_Angeles:20290822T160000
DTSTAMP:20260421T031102
CREATED:20251215T230936Z
LAST-MODIFIED:20260316T175014Z
UID:10000722-1882083600-1882108800@mc-choice.countyofmonterey.gov
SUMMARY:MC-CHOICE Unit
DESCRIPTION:
URL:https://mc-choice.countyofmonterey.gov/event/mc-choice-unit-every-wednesday/2029-08-22/
LOCATION:MC-CHOICE Unit\, WIC Office 632 E. Alisal St\, Salinas\, CA\, 93905
CATEGORIES:Outreach
END:VEVENT
BEGIN:VEVENT
DTSTART;TZID=America/Los_Angeles:20290823T090000
DTEND;TZID=America/Los_Angeles:20290823T160000
DTSTAMP:20260421T031102
CREATED:20260203T194318Z
LAST-MODIFIED:20260316T184846Z
UID:10000983-1882170000-1882195200@mc-choice.countyofmonterey.gov
SUMMARY:MC-CHOICE Unit
DESCRIPTION:
URL:https://mc-choice.countyofmonterey.gov/event/mc-choice-unit/2029-08-23/
LOCATION:La Manzana Community Resource Center\, 521 Main St Suite Y\, Watsonville\, CA\, 95076
END:VEVENT
BEGIN:VEVENT
DTSTART;TZID=America/Los_Angeles:20290828T090000
DTEND;TZID=America/Los_Angeles:20290828T160000
DTSTAMP:20260421T031102
CREATED:20251215T230629Z
LAST-MODIFIED:20260316T175115Z
UID:10001245-1882602000-1882627200@mc-choice.countyofmonterey.gov
SUMMARY:MC-CHOICE Unit
DESCRIPTION:
URL:https://mc-choice.countyofmonterey.gov/event/mc-choice-unit-every-tuesday/2029-08-28/
LOCATION:MC-CHOICE Unit\, Soledad WIC 355 Gabilan Dr\, Soledad\, CA\, 93960
CATEGORIES:Outreach
END:VEVENT
BEGIN:VEVENT
DTSTART;TZID=America/Los_Angeles:20290829T090000
DTEND;TZID=America/Los_Angeles:20290829T160000
DTSTAMP:20260421T031102
CREATED:20251215T230936Z
LAST-MODIFIED:20260316T175014Z
UID:10000723-1882688400-1882713600@mc-choice.countyofmonterey.gov
SUMMARY:MC-CHOICE Unit
DESCRIPTION:
URL:https://mc-choice.countyofmonterey.gov/event/mc-choice-unit-every-wednesday/2029-08-29/
LOCATION:MC-CHOICE Unit\, WIC Office 632 E. Alisal St\, Salinas\, CA\, 93905
CATEGORIES:Outreach
END:VEVENT
END:VCALENDAR