


BEGIN:VCALENDAR
VERSION:2.0
PRODID:-//MC-CHOICE - ECPv6.15.12.2//NONSGML v1.0//EN
CALSCALE:GREGORIAN
METHOD:PUBLISH
X-WR-CALNAME:MC-CHOICE
X-ORIGINAL-URL:https://mc-choice.countyofmonterey.gov
X-WR-CALDESC:Events for MC-CHOICE
REFRESH-INTERVAL;VALUE=DURATION:PT1H
X-Robots-Tag:noindex
X-PUBLISHED-TTL:PT1H
BEGIN:VTIMEZONE
TZID:America/Los_Angeles
BEGIN:DAYLIGHT
TZOFFSETFROM:-0800
TZOFFSETTO:-0700
TZNAME:PDT
DTSTART:20290311T100000
END:DAYLIGHT
BEGIN:STANDARD
TZOFFSETFROM:-0700
TZOFFSETTO:-0800
TZNAME:PST
DTSTART:20291104T090000
END:STANDARD
BEGIN:DAYLIGHT
TZOFFSETFROM:-0800
TZOFFSETTO:-0700
TZNAME:PDT
DTSTART:20300310T100000
END:DAYLIGHT
BEGIN:STANDARD
TZOFFSETFROM:-0700
TZOFFSETTO:-0800
TZNAME:PST
DTSTART:20301103T090000
END:STANDARD
BEGIN:DAYLIGHT
TZOFFSETFROM:-0800
TZOFFSETTO:-0700
TZNAME:PDT
DTSTART:20310309T100000
END:DAYLIGHT
BEGIN:STANDARD
TZOFFSETFROM:-0700
TZOFFSETTO:-0800
TZNAME:PST
DTSTART:20311102T090000
END:STANDARD
END:VTIMEZONE
BEGIN:VEVENT
DTSTART;TZID=America/Los_Angeles:20300423T090000
DTEND;TZID=America/Los_Angeles:20300423T160000
DTSTAMP:20260421T194132
CREATED:20251215T230629Z
LAST-MODIFIED:20260316T175115Z
UID:10001279-1903165200-1903190400@mc-choice.countyofmonterey.gov
SUMMARY:MC-CHOICE Unit
DESCRIPTION:
URL:https://mc-choice.countyofmonterey.gov/event/mc-choice-unit-every-tuesday/2030-04-23/
LOCATION:MC-CHOICE Unit\, Soledad WIC 355 Gabilan Dr\, Soledad\, CA\, 93960
CATEGORIES:Outreach
END:VEVENT
BEGIN:VEVENT
DTSTART;TZID=America/Los_Angeles:20300424T090000
DTEND;TZID=America/Los_Angeles:20300424T160000
DTSTAMP:20260421T194132
CREATED:20251215T230936Z
LAST-MODIFIED:20260316T175014Z
UID:10000757-1903251600-1903276800@mc-choice.countyofmonterey.gov
SUMMARY:MC-CHOICE Unit
DESCRIPTION:
URL:https://mc-choice.countyofmonterey.gov/event/mc-choice-unit-every-wednesday/2030-04-24/
LOCATION:MC-CHOICE Unit\, WIC Office 632 E. Alisal St\, Salinas\, CA\, 93905
CATEGORIES:Outreach
END:VEVENT
BEGIN:VEVENT
DTSTART;TZID=America/Los_Angeles:20300425T090000
DTEND;TZID=America/Los_Angeles:20300425T160000
DTSTAMP:20260421T194132
CREATED:20260203T194318Z
LAST-MODIFIED:20260316T184846Z
UID:10001018-1903338000-1903363200@mc-choice.countyofmonterey.gov
SUMMARY:MC-CHOICE Unit
DESCRIPTION:
URL:https://mc-choice.countyofmonterey.gov/event/mc-choice-unit/2030-04-25/
LOCATION:La Manzana Community Resource Center\, 521 Main St Suite Y\, Watsonville\, CA\, 95076
END:VEVENT
BEGIN:VEVENT
DTSTART;TZID=America/Los_Angeles:20300430T090000
DTEND;TZID=America/Los_Angeles:20300430T160000
DTSTAMP:20260421T194132
CREATED:20251215T230629Z
LAST-MODIFIED:20260316T175115Z
UID:10001280-1903770000-1903795200@mc-choice.countyofmonterey.gov
SUMMARY:MC-CHOICE Unit
DESCRIPTION:
URL:https://mc-choice.countyofmonterey.gov/event/mc-choice-unit-every-tuesday/2030-04-30/
LOCATION:MC-CHOICE Unit\, Soledad WIC 355 Gabilan Dr\, Soledad\, CA\, 93960
CATEGORIES:Outreach
END:VEVENT
BEGIN:VEVENT
DTSTART;TZID=America/Los_Angeles:20300501T090000
DTEND;TZID=America/Los_Angeles:20300501T160000
DTSTAMP:20260421T194132
CREATED:20251215T230936Z
LAST-MODIFIED:20260316T175014Z
UID:10000758-1903856400-1903881600@mc-choice.countyofmonterey.gov
SUMMARY:MC-CHOICE Unit
DESCRIPTION:
URL:https://mc-choice.countyofmonterey.gov/event/mc-choice-unit-every-wednesday/2030-05-01/
LOCATION:MC-CHOICE Unit\, WIC Office 632 E. Alisal St\, Salinas\, CA\, 93905
CATEGORIES:Outreach
END:VEVENT
BEGIN:VEVENT
DTSTART;TZID=America/Los_Angeles:20300502T090000
DTEND;TZID=America/Los_Angeles:20300502T160000
DTSTAMP:20260421T194132
CREATED:20260203T194318Z
LAST-MODIFIED:20260316T184846Z
UID:10001019-1903942800-1903968000@mc-choice.countyofmonterey.gov
SUMMARY:MC-CHOICE Unit
DESCRIPTION:
URL:https://mc-choice.countyofmonterey.gov/event/mc-choice-unit/2030-05-02/
LOCATION:La Manzana Community Resource Center\, 521 Main St Suite Y\, Watsonville\, CA\, 95076
END:VEVENT
BEGIN:VEVENT
DTSTART;TZID=America/Los_Angeles:20300507T090000
DTEND;TZID=America/Los_Angeles:20300507T160000
DTSTAMP:20260421T194132
CREATED:20251215T230629Z
LAST-MODIFIED:20260316T175115Z
UID:10001281-1904374800-1904400000@mc-choice.countyofmonterey.gov
SUMMARY:MC-CHOICE Unit
DESCRIPTION:
URL:https://mc-choice.countyofmonterey.gov/event/mc-choice-unit-every-tuesday/2030-05-07/
LOCATION:MC-CHOICE Unit\, Soledad WIC 355 Gabilan Dr\, Soledad\, CA\, 93960
CATEGORIES:Outreach
END:VEVENT
BEGIN:VEVENT
DTSTART;TZID=America/Los_Angeles:20300508T090000
DTEND;TZID=America/Los_Angeles:20300508T160000
DTSTAMP:20260421T194132
CREATED:20251215T230936Z
LAST-MODIFIED:20260316T175014Z
UID:10000759-1904461200-1904486400@mc-choice.countyofmonterey.gov
SUMMARY:MC-CHOICE Unit
DESCRIPTION:
URL:https://mc-choice.countyofmonterey.gov/event/mc-choice-unit-every-wednesday/2030-05-08/
LOCATION:MC-CHOICE Unit\, WIC Office 632 E. Alisal St\, Salinas\, CA\, 93905
CATEGORIES:Outreach
END:VEVENT
BEGIN:VEVENT
DTSTART;TZID=America/Los_Angeles:20300509T090000
DTEND;TZID=America/Los_Angeles:20300509T160000
DTSTAMP:20260421T194132
CREATED:20260203T194318Z
LAST-MODIFIED:20260316T184846Z
UID:10001020-1904547600-1904572800@mc-choice.countyofmonterey.gov
SUMMARY:MC-CHOICE Unit
DESCRIPTION:
URL:https://mc-choice.countyofmonterey.gov/event/mc-choice-unit/2030-05-09/
LOCATION:La Manzana Community Resource Center\, 521 Main St Suite Y\, Watsonville\, CA\, 95076
END:VEVENT
BEGIN:VEVENT
DTSTART;TZID=America/Los_Angeles:20300514T090000
DTEND;TZID=America/Los_Angeles:20300514T160000
DTSTAMP:20260421T194132
CREATED:20251215T230629Z
LAST-MODIFIED:20260316T175115Z
UID:10001282-1904979600-1905004800@mc-choice.countyofmonterey.gov
SUMMARY:MC-CHOICE Unit
DESCRIPTION:
URL:https://mc-choice.countyofmonterey.gov/event/mc-choice-unit-every-tuesday/2030-05-14/
LOCATION:MC-CHOICE Unit\, Soledad WIC 355 Gabilan Dr\, Soledad\, CA\, 93960
CATEGORIES:Outreach
END:VEVENT
BEGIN:VEVENT
DTSTART;TZID=America/Los_Angeles:20300515T090000
DTEND;TZID=America/Los_Angeles:20300515T160000
DTSTAMP:20260421T194132
CREATED:20251215T230936Z
LAST-MODIFIED:20260316T175014Z
UID:10000760-1905066000-1905091200@mc-choice.countyofmonterey.gov
SUMMARY:MC-CHOICE Unit
DESCRIPTION:
URL:https://mc-choice.countyofmonterey.gov/event/mc-choice-unit-every-wednesday/2030-05-15/
LOCATION:MC-CHOICE Unit\, WIC Office 632 E. Alisal St\, Salinas\, CA\, 93905
CATEGORIES:Outreach
END:VEVENT
BEGIN:VEVENT
DTSTART;TZID=America/Los_Angeles:20300516T090000
DTEND;TZID=America/Los_Angeles:20300516T160000
DTSTAMP:20260421T194132
CREATED:20260203T194318Z
LAST-MODIFIED:20260316T184846Z
UID:10001021-1905152400-1905177600@mc-choice.countyofmonterey.gov
SUMMARY:MC-CHOICE Unit
DESCRIPTION:
URL:https://mc-choice.countyofmonterey.gov/event/mc-choice-unit/2030-05-16/
LOCATION:La Manzana Community Resource Center\, 521 Main St Suite Y\, Watsonville\, CA\, 95076
END:VEVENT
BEGIN:VEVENT
DTSTART;TZID=America/Los_Angeles:20300521T090000
DTEND;TZID=America/Los_Angeles:20300521T160000
DTSTAMP:20260421T194132
CREATED:20251215T230629Z
LAST-MODIFIED:20260316T175115Z
UID:10001283-1905584400-1905609600@mc-choice.countyofmonterey.gov
SUMMARY:MC-CHOICE Unit
DESCRIPTION:
URL:https://mc-choice.countyofmonterey.gov/event/mc-choice-unit-every-tuesday/2030-05-21/
LOCATION:MC-CHOICE Unit\, Soledad WIC 355 Gabilan Dr\, Soledad\, CA\, 93960
CATEGORIES:Outreach
END:VEVENT
BEGIN:VEVENT
DTSTART;TZID=America/Los_Angeles:20300522T090000
DTEND;TZID=America/Los_Angeles:20300522T160000
DTSTAMP:20260421T194132
CREATED:20251215T230936Z
LAST-MODIFIED:20260316T175014Z
UID:10000761-1905670800-1905696000@mc-choice.countyofmonterey.gov
SUMMARY:MC-CHOICE Unit
DESCRIPTION:
URL:https://mc-choice.countyofmonterey.gov/event/mc-choice-unit-every-wednesday/2030-05-22/
LOCATION:MC-CHOICE Unit\, WIC Office 632 E. Alisal St\, Salinas\, CA\, 93905
CATEGORIES:Outreach
END:VEVENT
BEGIN:VEVENT
DTSTART;TZID=America/Los_Angeles:20300523T090000
DTEND;TZID=America/Los_Angeles:20300523T160000
DTSTAMP:20260421T194132
CREATED:20260203T194318Z
LAST-MODIFIED:20260316T184846Z
UID:10001022-1905757200-1905782400@mc-choice.countyofmonterey.gov
SUMMARY:MC-CHOICE Unit
DESCRIPTION:
URL:https://mc-choice.countyofmonterey.gov/event/mc-choice-unit/2030-05-23/
LOCATION:La Manzana Community Resource Center\, 521 Main St Suite Y\, Watsonville\, CA\, 95076
END:VEVENT
BEGIN:VEVENT
DTSTART;TZID=America/Los_Angeles:20300528T090000
DTEND;TZID=America/Los_Angeles:20300528T160000
DTSTAMP:20260421T194132
CREATED:20251215T230629Z
LAST-MODIFIED:20260316T175115Z
UID:10001284-1906189200-1906214400@mc-choice.countyofmonterey.gov
SUMMARY:MC-CHOICE Unit
DESCRIPTION:
URL:https://mc-choice.countyofmonterey.gov/event/mc-choice-unit-every-tuesday/2030-05-28/
LOCATION:MC-CHOICE Unit\, Soledad WIC 355 Gabilan Dr\, Soledad\, CA\, 93960
CATEGORIES:Outreach
END:VEVENT
BEGIN:VEVENT
DTSTART;TZID=America/Los_Angeles:20300529T090000
DTEND;TZID=America/Los_Angeles:20300529T160000
DTSTAMP:20260421T194132
CREATED:20251215T230936Z
LAST-MODIFIED:20260316T175014Z
UID:10000762-1906275600-1906300800@mc-choice.countyofmonterey.gov
SUMMARY:MC-CHOICE Unit
DESCRIPTION:
URL:https://mc-choice.countyofmonterey.gov/event/mc-choice-unit-every-wednesday/2030-05-29/
LOCATION:MC-CHOICE Unit\, WIC Office 632 E. Alisal St\, Salinas\, CA\, 93905
CATEGORIES:Outreach
END:VEVENT
BEGIN:VEVENT
DTSTART;TZID=America/Los_Angeles:20300530T090000
DTEND;TZID=America/Los_Angeles:20300530T160000
DTSTAMP:20260421T194132
CREATED:20260203T194318Z
LAST-MODIFIED:20260316T184846Z
UID:10001023-1906362000-1906387200@mc-choice.countyofmonterey.gov
SUMMARY:MC-CHOICE Unit
DESCRIPTION:
URL:https://mc-choice.countyofmonterey.gov/event/mc-choice-unit/2030-05-30/
LOCATION:La Manzana Community Resource Center\, 521 Main St Suite Y\, Watsonville\, CA\, 95076
END:VEVENT
BEGIN:VEVENT
DTSTART;TZID=America/Los_Angeles:20300604T090000
DTEND;TZID=America/Los_Angeles:20300604T160000
DTSTAMP:20260421T194132
CREATED:20251215T230629Z
LAST-MODIFIED:20260316T175115Z
UID:10001285-1906794000-1906819200@mc-choice.countyofmonterey.gov
SUMMARY:MC-CHOICE Unit
DESCRIPTION:
URL:https://mc-choice.countyofmonterey.gov/event/mc-choice-unit-every-tuesday/2030-06-04/
LOCATION:MC-CHOICE Unit\, Soledad WIC 355 Gabilan Dr\, Soledad\, CA\, 93960
CATEGORIES:Outreach
END:VEVENT
BEGIN:VEVENT
DTSTART;TZID=America/Los_Angeles:20300605T090000
DTEND;TZID=America/Los_Angeles:20300605T160000
DTSTAMP:20260421T194132
CREATED:20251215T230936Z
LAST-MODIFIED:20260316T175014Z
UID:10000763-1906880400-1906905600@mc-choice.countyofmonterey.gov
SUMMARY:MC-CHOICE Unit
DESCRIPTION:
URL:https://mc-choice.countyofmonterey.gov/event/mc-choice-unit-every-wednesday/2030-06-05/
LOCATION:MC-CHOICE Unit\, WIC Office 632 E. Alisal St\, Salinas\, CA\, 93905
CATEGORIES:Outreach
END:VEVENT
BEGIN:VEVENT
DTSTART;TZID=America/Los_Angeles:20300606T090000
DTEND;TZID=America/Los_Angeles:20300606T160000
DTSTAMP:20260421T194132
CREATED:20260203T194318Z
LAST-MODIFIED:20260316T184846Z
UID:10001024-1906966800-1906992000@mc-choice.countyofmonterey.gov
SUMMARY:MC-CHOICE Unit
DESCRIPTION:
URL:https://mc-choice.countyofmonterey.gov/event/mc-choice-unit/2030-06-06/
LOCATION:La Manzana Community Resource Center\, 521 Main St Suite Y\, Watsonville\, CA\, 95076
END:VEVENT
BEGIN:VEVENT
DTSTART;TZID=America/Los_Angeles:20300611T090000
DTEND;TZID=America/Los_Angeles:20300611T160000
DTSTAMP:20260421T194132
CREATED:20251215T230629Z
LAST-MODIFIED:20260316T175115Z
UID:10001286-1907398800-1907424000@mc-choice.countyofmonterey.gov
SUMMARY:MC-CHOICE Unit
DESCRIPTION:
URL:https://mc-choice.countyofmonterey.gov/event/mc-choice-unit-every-tuesday/2030-06-11/
LOCATION:MC-CHOICE Unit\, Soledad WIC 355 Gabilan Dr\, Soledad\, CA\, 93960
CATEGORIES:Outreach
END:VEVENT
BEGIN:VEVENT
DTSTART;TZID=America/Los_Angeles:20300612T090000
DTEND;TZID=America/Los_Angeles:20300612T160000
DTSTAMP:20260421T194132
CREATED:20251215T230936Z
LAST-MODIFIED:20260316T175014Z
UID:10000764-1907485200-1907510400@mc-choice.countyofmonterey.gov
SUMMARY:MC-CHOICE Unit
DESCRIPTION:
URL:https://mc-choice.countyofmonterey.gov/event/mc-choice-unit-every-wednesday/2030-06-12/
LOCATION:MC-CHOICE Unit\, WIC Office 632 E. Alisal St\, Salinas\, CA\, 93905
CATEGORIES:Outreach
END:VEVENT
BEGIN:VEVENT
DTSTART;TZID=America/Los_Angeles:20300613T090000
DTEND;TZID=America/Los_Angeles:20300613T160000
DTSTAMP:20260421T194132
CREATED:20260203T194318Z
LAST-MODIFIED:20260316T184846Z
UID:10001025-1907571600-1907596800@mc-choice.countyofmonterey.gov
SUMMARY:MC-CHOICE Unit
DESCRIPTION:
URL:https://mc-choice.countyofmonterey.gov/event/mc-choice-unit/2030-06-13/
LOCATION:La Manzana Community Resource Center\, 521 Main St Suite Y\, Watsonville\, CA\, 95076
END:VEVENT
BEGIN:VEVENT
DTSTART;TZID=America/Los_Angeles:20300618T090000
DTEND;TZID=America/Los_Angeles:20300618T160000
DTSTAMP:20260421T194132
CREATED:20251215T230629Z
LAST-MODIFIED:20260316T175115Z
UID:10001287-1908003600-1908028800@mc-choice.countyofmonterey.gov
SUMMARY:MC-CHOICE Unit
DESCRIPTION:
URL:https://mc-choice.countyofmonterey.gov/event/mc-choice-unit-every-tuesday/2030-06-18/
LOCATION:MC-CHOICE Unit\, Soledad WIC 355 Gabilan Dr\, Soledad\, CA\, 93960
CATEGORIES:Outreach
END:VEVENT
BEGIN:VEVENT
DTSTART;TZID=America/Los_Angeles:20300619T090000
DTEND;TZID=America/Los_Angeles:20300619T160000
DTSTAMP:20260421T194132
CREATED:20251215T230936Z
LAST-MODIFIED:20260316T175014Z
UID:10000765-1908090000-1908115200@mc-choice.countyofmonterey.gov
SUMMARY:MC-CHOICE Unit
DESCRIPTION:
URL:https://mc-choice.countyofmonterey.gov/event/mc-choice-unit-every-wednesday/2030-06-19/
LOCATION:MC-CHOICE Unit\, WIC Office 632 E. Alisal St\, Salinas\, CA\, 93905
CATEGORIES:Outreach
END:VEVENT
BEGIN:VEVENT
DTSTART;TZID=America/Los_Angeles:20300620T090000
DTEND;TZID=America/Los_Angeles:20300620T160000
DTSTAMP:20260421T194133
CREATED:20260203T194318Z
LAST-MODIFIED:20260316T184846Z
UID:10001026-1908176400-1908201600@mc-choice.countyofmonterey.gov
SUMMARY:MC-CHOICE Unit
DESCRIPTION:
URL:https://mc-choice.countyofmonterey.gov/event/mc-choice-unit/2030-06-20/
LOCATION:La Manzana Community Resource Center\, 521 Main St Suite Y\, Watsonville\, CA\, 95076
END:VEVENT
BEGIN:VEVENT
DTSTART;TZID=America/Los_Angeles:20300625T090000
DTEND;TZID=America/Los_Angeles:20300625T160000
DTSTAMP:20260421T194133
CREATED:20251215T230629Z
LAST-MODIFIED:20260316T175115Z
UID:10001288-1908608400-1908633600@mc-choice.countyofmonterey.gov
SUMMARY:MC-CHOICE Unit
DESCRIPTION:
URL:https://mc-choice.countyofmonterey.gov/event/mc-choice-unit-every-tuesday/2030-06-25/
LOCATION:MC-CHOICE Unit\, Soledad WIC 355 Gabilan Dr\, Soledad\, CA\, 93960
CATEGORIES:Outreach
END:VEVENT
BEGIN:VEVENT
DTSTART;TZID=America/Los_Angeles:20300626T090000
DTEND;TZID=America/Los_Angeles:20300626T160000
DTSTAMP:20260421T194133
CREATED:20251215T230936Z
LAST-MODIFIED:20260316T175014Z
UID:10000766-1908694800-1908720000@mc-choice.countyofmonterey.gov
SUMMARY:MC-CHOICE Unit
DESCRIPTION:
URL:https://mc-choice.countyofmonterey.gov/event/mc-choice-unit-every-wednesday/2030-06-26/
LOCATION:MC-CHOICE Unit\, WIC Office 632 E. Alisal St\, Salinas\, CA\, 93905
CATEGORIES:Outreach
END:VEVENT
BEGIN:VEVENT
DTSTART;TZID=America/Los_Angeles:20300627T090000
DTEND;TZID=America/Los_Angeles:20300627T160000
DTSTAMP:20260421T194133
CREATED:20260203T194318Z
LAST-MODIFIED:20260316T184846Z
UID:10001027-1908781200-1908806400@mc-choice.countyofmonterey.gov
SUMMARY:MC-CHOICE Unit
DESCRIPTION:
URL:https://mc-choice.countyofmonterey.gov/event/mc-choice-unit/2030-06-27/
LOCATION:La Manzana Community Resource Center\, 521 Main St Suite Y\, Watsonville\, CA\, 95076
END:VEVENT
END:VCALENDAR