


BEGIN:VCALENDAR
VERSION:2.0
PRODID:-//MC-CHOICE - ECPv6.15.12.2//NONSGML v1.0//EN
CALSCALE:GREGORIAN
METHOD:PUBLISH
X-WR-CALNAME:MC-CHOICE
X-ORIGINAL-URL:https://mc-choice.countyofmonterey.gov
X-WR-CALDESC:Events for MC-CHOICE
REFRESH-INTERVAL;VALUE=DURATION:PT1H
X-Robots-Tag:noindex
X-PUBLISHED-TTL:PT1H
BEGIN:VTIMEZONE
TZID:America/Los_Angeles
BEGIN:DAYLIGHT
TZOFFSETFROM:-0800
TZOFFSETTO:-0700
TZNAME:PDT
DTSTART:20260308T100000
END:DAYLIGHT
BEGIN:STANDARD
TZOFFSETFROM:-0700
TZOFFSETTO:-0800
TZNAME:PST
DTSTART:20261101T090000
END:STANDARD
BEGIN:DAYLIGHT
TZOFFSETFROM:-0800
TZOFFSETTO:-0700
TZNAME:PDT
DTSTART:20270314T100000
END:DAYLIGHT
BEGIN:STANDARD
TZOFFSETFROM:-0700
TZOFFSETTO:-0800
TZNAME:PST
DTSTART:20271107T090000
END:STANDARD
BEGIN:DAYLIGHT
TZOFFSETFROM:-0800
TZOFFSETTO:-0700
TZNAME:PDT
DTSTART:20280312T100000
END:DAYLIGHT
BEGIN:STANDARD
TZOFFSETFROM:-0700
TZOFFSETTO:-0800
TZNAME:PST
DTSTART:20281105T090000
END:STANDARD
END:VTIMEZONE
BEGIN:VEVENT
DTSTART;TZID=America/Los_Angeles:20270914T090000
DTEND;TZID=America/Los_Angeles:20270914T160000
DTSTAMP:20260420T124147
CREATED:20251215T230629Z
LAST-MODIFIED:20260316T175115Z
UID:10001143-1820912400-1820937600@mc-choice.countyofmonterey.gov
SUMMARY:MC-CHOICE Unit
DESCRIPTION:
URL:https://mc-choice.countyofmonterey.gov/event/mc-choice-unit-every-tuesday/2027-09-14/
LOCATION:MC-CHOICE Unit\, Soledad WIC 355 Gabilan Dr\, Soledad\, CA\, 93960
CATEGORIES:Outreach
END:VEVENT
BEGIN:VEVENT
DTSTART;TZID=America/Los_Angeles:20270909T090000
DTEND;TZID=America/Los_Angeles:20270909T160000
DTSTAMP:20260420T124147
CREATED:20260203T194318Z
LAST-MODIFIED:20260316T184846Z
UID:10000881-1820480400-1820505600@mc-choice.countyofmonterey.gov
SUMMARY:MC-CHOICE Unit
DESCRIPTION:
URL:https://mc-choice.countyofmonterey.gov/event/mc-choice-unit/2027-09-09/
LOCATION:La Manzana Community Resource Center\, 521 Main St Suite Y\, Watsonville\, CA\, 95076
END:VEVENT
BEGIN:VEVENT
DTSTART;TZID=America/Los_Angeles:20270908T090000
DTEND;TZID=America/Los_Angeles:20270908T160000
DTSTAMP:20260420T124147
CREATED:20251215T230936Z
LAST-MODIFIED:20260316T175014Z
UID:10000620-1820394000-1820419200@mc-choice.countyofmonterey.gov
SUMMARY:MC-CHOICE Unit
DESCRIPTION:
URL:https://mc-choice.countyofmonterey.gov/event/mc-choice-unit-every-wednesday/2027-09-08/
LOCATION:MC-CHOICE Unit\, WIC Office 632 E. Alisal St\, Salinas\, CA\, 93905
CATEGORIES:Outreach
END:VEVENT
BEGIN:VEVENT
DTSTART;TZID=America/Los_Angeles:20270907T090000
DTEND;TZID=America/Los_Angeles:20270907T160000
DTSTAMP:20260420T124147
CREATED:20251215T230629Z
LAST-MODIFIED:20260316T175115Z
UID:10001142-1820307600-1820332800@mc-choice.countyofmonterey.gov
SUMMARY:MC-CHOICE Unit
DESCRIPTION:
URL:https://mc-choice.countyofmonterey.gov/event/mc-choice-unit-every-tuesday/2027-09-07/
LOCATION:MC-CHOICE Unit\, Soledad WIC 355 Gabilan Dr\, Soledad\, CA\, 93960
CATEGORIES:Outreach
END:VEVENT
BEGIN:VEVENT
DTSTART;TZID=America/Los_Angeles:20270902T090000
DTEND;TZID=America/Los_Angeles:20270902T160000
DTSTAMP:20260420T124147
CREATED:20260203T194318Z
LAST-MODIFIED:20260316T184846Z
UID:10000880-1819875600-1819900800@mc-choice.countyofmonterey.gov
SUMMARY:MC-CHOICE Unit
DESCRIPTION:
URL:https://mc-choice.countyofmonterey.gov/event/mc-choice-unit/2027-09-02/
LOCATION:La Manzana Community Resource Center\, 521 Main St Suite Y\, Watsonville\, CA\, 95076
END:VEVENT
BEGIN:VEVENT
DTSTART;TZID=America/Los_Angeles:20270901T090000
DTEND;TZID=America/Los_Angeles:20270901T160000
DTSTAMP:20260420T124147
CREATED:20251215T230936Z
LAST-MODIFIED:20260316T175014Z
UID:10000619-1819789200-1819814400@mc-choice.countyofmonterey.gov
SUMMARY:MC-CHOICE Unit
DESCRIPTION:
URL:https://mc-choice.countyofmonterey.gov/event/mc-choice-unit-every-wednesday/2027-09-01/
LOCATION:MC-CHOICE Unit\, WIC Office 632 E. Alisal St\, Salinas\, CA\, 93905
CATEGORIES:Outreach
END:VEVENT
BEGIN:VEVENT
DTSTART;TZID=America/Los_Angeles:20270831T090000
DTEND;TZID=America/Los_Angeles:20270831T160000
DTSTAMP:20260420T124147
CREATED:20251215T230629Z
LAST-MODIFIED:20260316T175115Z
UID:10001141-1819702800-1819728000@mc-choice.countyofmonterey.gov
SUMMARY:MC-CHOICE Unit
DESCRIPTION:
URL:https://mc-choice.countyofmonterey.gov/event/mc-choice-unit-every-tuesday/2027-08-31/
LOCATION:MC-CHOICE Unit\, Soledad WIC 355 Gabilan Dr\, Soledad\, CA\, 93960
CATEGORIES:Outreach
END:VEVENT
BEGIN:VEVENT
DTSTART;TZID=America/Los_Angeles:20270826T090000
DTEND;TZID=America/Los_Angeles:20270826T160000
DTSTAMP:20260420T124147
CREATED:20260203T194318Z
LAST-MODIFIED:20260316T184846Z
UID:10000879-1819270800-1819296000@mc-choice.countyofmonterey.gov
SUMMARY:MC-CHOICE Unit
DESCRIPTION:
URL:https://mc-choice.countyofmonterey.gov/event/mc-choice-unit/2027-08-26/
LOCATION:La Manzana Community Resource Center\, 521 Main St Suite Y\, Watsonville\, CA\, 95076
END:VEVENT
BEGIN:VEVENT
DTSTART;TZID=America/Los_Angeles:20270825T090000
DTEND;TZID=America/Los_Angeles:20270825T160000
DTSTAMP:20260420T124147
CREATED:20251215T230936Z
LAST-MODIFIED:20260316T175014Z
UID:10000618-1819184400-1819209600@mc-choice.countyofmonterey.gov
SUMMARY:MC-CHOICE Unit
DESCRIPTION:
URL:https://mc-choice.countyofmonterey.gov/event/mc-choice-unit-every-wednesday/2027-08-25/
LOCATION:MC-CHOICE Unit\, WIC Office 632 E. Alisal St\, Salinas\, CA\, 93905
CATEGORIES:Outreach
END:VEVENT
BEGIN:VEVENT
DTSTART;TZID=America/Los_Angeles:20270824T090000
DTEND;TZID=America/Los_Angeles:20270824T160000
DTSTAMP:20260420T124147
CREATED:20251215T230629Z
LAST-MODIFIED:20260316T175115Z
UID:10001140-1819098000-1819123200@mc-choice.countyofmonterey.gov
SUMMARY:MC-CHOICE Unit
DESCRIPTION:
URL:https://mc-choice.countyofmonterey.gov/event/mc-choice-unit-every-tuesday/2027-08-24/
LOCATION:MC-CHOICE Unit\, Soledad WIC 355 Gabilan Dr\, Soledad\, CA\, 93960
CATEGORIES:Outreach
END:VEVENT
BEGIN:VEVENT
DTSTART;TZID=America/Los_Angeles:20270819T090000
DTEND;TZID=America/Los_Angeles:20270819T160000
DTSTAMP:20260420T124147
CREATED:20260203T194318Z
LAST-MODIFIED:20260316T184846Z
UID:10000878-1818666000-1818691200@mc-choice.countyofmonterey.gov
SUMMARY:MC-CHOICE Unit
DESCRIPTION:
URL:https://mc-choice.countyofmonterey.gov/event/mc-choice-unit/2027-08-19/
LOCATION:La Manzana Community Resource Center\, 521 Main St Suite Y\, Watsonville\, CA\, 95076
END:VEVENT
BEGIN:VEVENT
DTSTART;TZID=America/Los_Angeles:20270818T090000
DTEND;TZID=America/Los_Angeles:20270818T160000
DTSTAMP:20260420T124147
CREATED:20251215T230936Z
LAST-MODIFIED:20260316T175014Z
UID:10000617-1818579600-1818604800@mc-choice.countyofmonterey.gov
SUMMARY:MC-CHOICE Unit
DESCRIPTION:
URL:https://mc-choice.countyofmonterey.gov/event/mc-choice-unit-every-wednesday/2027-08-18/
LOCATION:MC-CHOICE Unit\, WIC Office 632 E. Alisal St\, Salinas\, CA\, 93905
CATEGORIES:Outreach
END:VEVENT
BEGIN:VEVENT
DTSTART;TZID=America/Los_Angeles:20270817T090000
DTEND;TZID=America/Los_Angeles:20270817T160000
DTSTAMP:20260420T124147
CREATED:20251215T230629Z
LAST-MODIFIED:20260316T175115Z
UID:10001139-1818493200-1818518400@mc-choice.countyofmonterey.gov
SUMMARY:MC-CHOICE Unit
DESCRIPTION:
URL:https://mc-choice.countyofmonterey.gov/event/mc-choice-unit-every-tuesday/2027-08-17/
LOCATION:MC-CHOICE Unit\, Soledad WIC 355 Gabilan Dr\, Soledad\, CA\, 93960
CATEGORIES:Outreach
END:VEVENT
BEGIN:VEVENT
DTSTART;TZID=America/Los_Angeles:20270812T090000
DTEND;TZID=America/Los_Angeles:20270812T160000
DTSTAMP:20260420T124147
CREATED:20260203T194318Z
LAST-MODIFIED:20260316T184846Z
UID:10000877-1818061200-1818086400@mc-choice.countyofmonterey.gov
SUMMARY:MC-CHOICE Unit
DESCRIPTION:
URL:https://mc-choice.countyofmonterey.gov/event/mc-choice-unit/2027-08-12/
LOCATION:La Manzana Community Resource Center\, 521 Main St Suite Y\, Watsonville\, CA\, 95076
END:VEVENT
BEGIN:VEVENT
DTSTART;TZID=America/Los_Angeles:20270811T090000
DTEND;TZID=America/Los_Angeles:20270811T160000
DTSTAMP:20260420T124147
CREATED:20251215T230936Z
LAST-MODIFIED:20260316T175014Z
UID:10000616-1817974800-1818000000@mc-choice.countyofmonterey.gov
SUMMARY:MC-CHOICE Unit
DESCRIPTION:
URL:https://mc-choice.countyofmonterey.gov/event/mc-choice-unit-every-wednesday/2027-08-11/
LOCATION:MC-CHOICE Unit\, WIC Office 632 E. Alisal St\, Salinas\, CA\, 93905
CATEGORIES:Outreach
END:VEVENT
BEGIN:VEVENT
DTSTART;TZID=America/Los_Angeles:20270810T090000
DTEND;TZID=America/Los_Angeles:20270810T160000
DTSTAMP:20260420T124147
CREATED:20251215T230629Z
LAST-MODIFIED:20260316T175115Z
UID:10001138-1817888400-1817913600@mc-choice.countyofmonterey.gov
SUMMARY:MC-CHOICE Unit
DESCRIPTION:
URL:https://mc-choice.countyofmonterey.gov/event/mc-choice-unit-every-tuesday/2027-08-10/
LOCATION:MC-CHOICE Unit\, Soledad WIC 355 Gabilan Dr\, Soledad\, CA\, 93960
CATEGORIES:Outreach
END:VEVENT
BEGIN:VEVENT
DTSTART;TZID=America/Los_Angeles:20270805T090000
DTEND;TZID=America/Los_Angeles:20270805T160000
DTSTAMP:20260420T124147
CREATED:20260203T194318Z
LAST-MODIFIED:20260316T184846Z
UID:10000876-1817456400-1817481600@mc-choice.countyofmonterey.gov
SUMMARY:MC-CHOICE Unit
DESCRIPTION:
URL:https://mc-choice.countyofmonterey.gov/event/mc-choice-unit/2027-08-05/
LOCATION:La Manzana Community Resource Center\, 521 Main St Suite Y\, Watsonville\, CA\, 95076
END:VEVENT
BEGIN:VEVENT
DTSTART;TZID=America/Los_Angeles:20270804T090000
DTEND;TZID=America/Los_Angeles:20270804T160000
DTSTAMP:20260420T124147
CREATED:20251215T230936Z
LAST-MODIFIED:20260316T175014Z
UID:10000615-1817370000-1817395200@mc-choice.countyofmonterey.gov
SUMMARY:MC-CHOICE Unit
DESCRIPTION:
URL:https://mc-choice.countyofmonterey.gov/event/mc-choice-unit-every-wednesday/2027-08-04/
LOCATION:MC-CHOICE Unit\, WIC Office 632 E. Alisal St\, Salinas\, CA\, 93905
CATEGORIES:Outreach
END:VEVENT
BEGIN:VEVENT
DTSTART;TZID=America/Los_Angeles:20270803T090000
DTEND;TZID=America/Los_Angeles:20270803T160000
DTSTAMP:20260420T124147
CREATED:20251215T230629Z
LAST-MODIFIED:20260316T175115Z
UID:10001137-1817283600-1817308800@mc-choice.countyofmonterey.gov
SUMMARY:MC-CHOICE Unit
DESCRIPTION:
URL:https://mc-choice.countyofmonterey.gov/event/mc-choice-unit-every-tuesday/2027-08-03/
LOCATION:MC-CHOICE Unit\, Soledad WIC 355 Gabilan Dr\, Soledad\, CA\, 93960
CATEGORIES:Outreach
END:VEVENT
BEGIN:VEVENT
DTSTART;TZID=America/Los_Angeles:20270729T090000
DTEND;TZID=America/Los_Angeles:20270729T160000
DTSTAMP:20260420T124147
CREATED:20260203T194318Z
LAST-MODIFIED:20260316T184846Z
UID:10000875-1816851600-1816876800@mc-choice.countyofmonterey.gov
SUMMARY:MC-CHOICE Unit
DESCRIPTION:
URL:https://mc-choice.countyofmonterey.gov/event/mc-choice-unit/2027-07-29/
LOCATION:La Manzana Community Resource Center\, 521 Main St Suite Y\, Watsonville\, CA\, 95076
END:VEVENT
BEGIN:VEVENT
DTSTART;TZID=America/Los_Angeles:20270728T090000
DTEND;TZID=America/Los_Angeles:20270728T160000
DTSTAMP:20260420T124147
CREATED:20251215T230936Z
LAST-MODIFIED:20260316T175014Z
UID:10000614-1816765200-1816790400@mc-choice.countyofmonterey.gov
SUMMARY:MC-CHOICE Unit
DESCRIPTION:
URL:https://mc-choice.countyofmonterey.gov/event/mc-choice-unit-every-wednesday/2027-07-28/
LOCATION:MC-CHOICE Unit\, WIC Office 632 E. Alisal St\, Salinas\, CA\, 93905
CATEGORIES:Outreach
END:VEVENT
BEGIN:VEVENT
DTSTART;TZID=America/Los_Angeles:20270727T090000
DTEND;TZID=America/Los_Angeles:20270727T160000
DTSTAMP:20260420T124147
CREATED:20251215T230629Z
LAST-MODIFIED:20260316T175115Z
UID:10001136-1816678800-1816704000@mc-choice.countyofmonterey.gov
SUMMARY:MC-CHOICE Unit
DESCRIPTION:
URL:https://mc-choice.countyofmonterey.gov/event/mc-choice-unit-every-tuesday/2027-07-27/
LOCATION:MC-CHOICE Unit\, Soledad WIC 355 Gabilan Dr\, Soledad\, CA\, 93960
CATEGORIES:Outreach
END:VEVENT
BEGIN:VEVENT
DTSTART;TZID=America/Los_Angeles:20270722T090000
DTEND;TZID=America/Los_Angeles:20270722T160000
DTSTAMP:20260420T124147
CREATED:20260203T194318Z
LAST-MODIFIED:20260316T184846Z
UID:10000874-1816246800-1816272000@mc-choice.countyofmonterey.gov
SUMMARY:MC-CHOICE Unit
DESCRIPTION:
URL:https://mc-choice.countyofmonterey.gov/event/mc-choice-unit/2027-07-22/
LOCATION:La Manzana Community Resource Center\, 521 Main St Suite Y\, Watsonville\, CA\, 95076
END:VEVENT
BEGIN:VEVENT
DTSTART;TZID=America/Los_Angeles:20270721T090000
DTEND;TZID=America/Los_Angeles:20270721T160000
DTSTAMP:20260420T124147
CREATED:20251215T230936Z
LAST-MODIFIED:20260316T175014Z
UID:10000613-1816160400-1816185600@mc-choice.countyofmonterey.gov
SUMMARY:MC-CHOICE Unit
DESCRIPTION:
URL:https://mc-choice.countyofmonterey.gov/event/mc-choice-unit-every-wednesday/2027-07-21/
LOCATION:MC-CHOICE Unit\, WIC Office 632 E. Alisal St\, Salinas\, CA\, 93905
CATEGORIES:Outreach
END:VEVENT
BEGIN:VEVENT
DTSTART;TZID=America/Los_Angeles:20270720T090000
DTEND;TZID=America/Los_Angeles:20270720T160000
DTSTAMP:20260420T124147
CREATED:20251215T230629Z
LAST-MODIFIED:20260316T175115Z
UID:10001135-1816074000-1816099200@mc-choice.countyofmonterey.gov
SUMMARY:MC-CHOICE Unit
DESCRIPTION:
URL:https://mc-choice.countyofmonterey.gov/event/mc-choice-unit-every-tuesday/2027-07-20/
LOCATION:MC-CHOICE Unit\, Soledad WIC 355 Gabilan Dr\, Soledad\, CA\, 93960
CATEGORIES:Outreach
END:VEVENT
BEGIN:VEVENT
DTSTART;TZID=America/Los_Angeles:20270715T090000
DTEND;TZID=America/Los_Angeles:20270715T160000
DTSTAMP:20260420T124147
CREATED:20260203T194318Z
LAST-MODIFIED:20260316T184846Z
UID:10000873-1815642000-1815667200@mc-choice.countyofmonterey.gov
SUMMARY:MC-CHOICE Unit
DESCRIPTION:
URL:https://mc-choice.countyofmonterey.gov/event/mc-choice-unit/2027-07-15/
LOCATION:La Manzana Community Resource Center\, 521 Main St Suite Y\, Watsonville\, CA\, 95076
END:VEVENT
BEGIN:VEVENT
DTSTART;TZID=America/Los_Angeles:20270714T090000
DTEND;TZID=America/Los_Angeles:20270714T160000
DTSTAMP:20260420T124147
CREATED:20251215T230936Z
LAST-MODIFIED:20260316T175014Z
UID:10000612-1815555600-1815580800@mc-choice.countyofmonterey.gov
SUMMARY:MC-CHOICE Unit
DESCRIPTION:
URL:https://mc-choice.countyofmonterey.gov/event/mc-choice-unit-every-wednesday/2027-07-14/
LOCATION:MC-CHOICE Unit\, WIC Office 632 E. Alisal St\, Salinas\, CA\, 93905
CATEGORIES:Outreach
END:VEVENT
BEGIN:VEVENT
DTSTART;TZID=America/Los_Angeles:20270713T090000
DTEND;TZID=America/Los_Angeles:20270713T160000
DTSTAMP:20260420T124147
CREATED:20251215T230629Z
LAST-MODIFIED:20260316T175115Z
UID:10001134-1815469200-1815494400@mc-choice.countyofmonterey.gov
SUMMARY:MC-CHOICE Unit
DESCRIPTION:
URL:https://mc-choice.countyofmonterey.gov/event/mc-choice-unit-every-tuesday/2027-07-13/
LOCATION:MC-CHOICE Unit\, Soledad WIC 355 Gabilan Dr\, Soledad\, CA\, 93960
CATEGORIES:Outreach
END:VEVENT
BEGIN:VEVENT
DTSTART;TZID=America/Los_Angeles:20270708T090000
DTEND;TZID=America/Los_Angeles:20270708T160000
DTSTAMP:20260420T124147
CREATED:20260203T194318Z
LAST-MODIFIED:20260316T184846Z
UID:10000872-1815037200-1815062400@mc-choice.countyofmonterey.gov
SUMMARY:MC-CHOICE Unit
DESCRIPTION:
URL:https://mc-choice.countyofmonterey.gov/event/mc-choice-unit/2027-07-08/
LOCATION:La Manzana Community Resource Center\, 521 Main St Suite Y\, Watsonville\, CA\, 95076
END:VEVENT
BEGIN:VEVENT
DTSTART;TZID=America/Los_Angeles:20270707T090000
DTEND;TZID=America/Los_Angeles:20270707T160000
DTSTAMP:20260420T124147
CREATED:20251215T230936Z
LAST-MODIFIED:20260316T175014Z
UID:10000611-1814950800-1814976000@mc-choice.countyofmonterey.gov
SUMMARY:MC-CHOICE Unit
DESCRIPTION:
URL:https://mc-choice.countyofmonterey.gov/event/mc-choice-unit-every-wednesday/2027-07-07/
LOCATION:MC-CHOICE Unit\, WIC Office 632 E. Alisal St\, Salinas\, CA\, 93905
CATEGORIES:Outreach
END:VEVENT
END:VCALENDAR