


BEGIN:VCALENDAR
VERSION:2.0
PRODID:-//MC-CHOICE - ECPv6.15.12.2//NONSGML v1.0//EN
CALSCALE:GREGORIAN
METHOD:PUBLISH
X-WR-CALNAME:MC-CHOICE
X-ORIGINAL-URL:https://mc-choice.countyofmonterey.gov
X-WR-CALDESC:Events for MC-CHOICE
REFRESH-INTERVAL;VALUE=DURATION:PT1H
X-Robots-Tag:noindex
X-PUBLISHED-TTL:PT1H
BEGIN:VTIMEZONE
TZID:America/Los_Angeles
BEGIN:DAYLIGHT
TZOFFSETFROM:-0800
TZOFFSETTO:-0700
TZNAME:PDT
DTSTART:20290311T100000
END:DAYLIGHT
BEGIN:STANDARD
TZOFFSETFROM:-0700
TZOFFSETTO:-0800
TZNAME:PST
DTSTART:20291104T090000
END:STANDARD
BEGIN:DAYLIGHT
TZOFFSETFROM:-0800
TZOFFSETTO:-0700
TZNAME:PDT
DTSTART:20300310T100000
END:DAYLIGHT
BEGIN:STANDARD
TZOFFSETFROM:-0700
TZOFFSETTO:-0800
TZNAME:PST
DTSTART:20301103T090000
END:STANDARD
BEGIN:DAYLIGHT
TZOFFSETFROM:-0800
TZOFFSETTO:-0700
TZNAME:PDT
DTSTART:20310309T100000
END:DAYLIGHT
BEGIN:STANDARD
TZOFFSETFROM:-0700
TZOFFSETTO:-0800
TZNAME:PST
DTSTART:20311102T090000
END:STANDARD
END:VTIMEZONE
BEGIN:VEVENT
DTSTART;TZID=America/Los_Angeles:20300115T090000
DTEND;TZID=America/Los_Angeles:20300115T160000
DTSTAMP:20260421T145338
CREATED:20251215T230629Z
LAST-MODIFIED:20260316T175115Z
UID:10001265-1894698000-1894723200@mc-choice.countyofmonterey.gov
SUMMARY:MC-CHOICE Unit
DESCRIPTION:
URL:https://mc-choice.countyofmonterey.gov/event/mc-choice-unit-every-tuesday/2030-01-15/
LOCATION:MC-CHOICE Unit\, Soledad WIC 355 Gabilan Dr\, Soledad\, CA\, 93960
CATEGORIES:Outreach
END:VEVENT
BEGIN:VEVENT
DTSTART;TZID=America/Los_Angeles:20300116T090000
DTEND;TZID=America/Los_Angeles:20300116T160000
DTSTAMP:20260421T145338
CREATED:20251215T230936Z
LAST-MODIFIED:20260316T175014Z
UID:10000743-1894784400-1894809600@mc-choice.countyofmonterey.gov
SUMMARY:MC-CHOICE Unit
DESCRIPTION:
URL:https://mc-choice.countyofmonterey.gov/event/mc-choice-unit-every-wednesday/2030-01-16/
LOCATION:MC-CHOICE Unit\, WIC Office 632 E. Alisal St\, Salinas\, CA\, 93905
CATEGORIES:Outreach
END:VEVENT
BEGIN:VEVENT
DTSTART;TZID=America/Los_Angeles:20300117T090000
DTEND;TZID=America/Los_Angeles:20300117T160000
DTSTAMP:20260421T145338
CREATED:20260203T194318Z
LAST-MODIFIED:20260316T184846Z
UID:10001004-1894870800-1894896000@mc-choice.countyofmonterey.gov
SUMMARY:MC-CHOICE Unit
DESCRIPTION:
URL:https://mc-choice.countyofmonterey.gov/event/mc-choice-unit/2030-01-17/
LOCATION:La Manzana Community Resource Center\, 521 Main St Suite Y\, Watsonville\, CA\, 95076
END:VEVENT
BEGIN:VEVENT
DTSTART;TZID=America/Los_Angeles:20300122T090000
DTEND;TZID=America/Los_Angeles:20300122T160000
DTSTAMP:20260421T145338
CREATED:20251215T230629Z
LAST-MODIFIED:20260316T175115Z
UID:10001266-1895302800-1895328000@mc-choice.countyofmonterey.gov
SUMMARY:MC-CHOICE Unit
DESCRIPTION:
URL:https://mc-choice.countyofmonterey.gov/event/mc-choice-unit-every-tuesday/2030-01-22/
LOCATION:MC-CHOICE Unit\, Soledad WIC 355 Gabilan Dr\, Soledad\, CA\, 93960
CATEGORIES:Outreach
END:VEVENT
BEGIN:VEVENT
DTSTART;TZID=America/Los_Angeles:20300123T090000
DTEND;TZID=America/Los_Angeles:20300123T160000
DTSTAMP:20260421T145338
CREATED:20251215T230936Z
LAST-MODIFIED:20260316T175014Z
UID:10000744-1895389200-1895414400@mc-choice.countyofmonterey.gov
SUMMARY:MC-CHOICE Unit
DESCRIPTION:
URL:https://mc-choice.countyofmonterey.gov/event/mc-choice-unit-every-wednesday/2030-01-23/
LOCATION:MC-CHOICE Unit\, WIC Office 632 E. Alisal St\, Salinas\, CA\, 93905
CATEGORIES:Outreach
END:VEVENT
BEGIN:VEVENT
DTSTART;TZID=America/Los_Angeles:20300124T090000
DTEND;TZID=America/Los_Angeles:20300124T160000
DTSTAMP:20260421T145338
CREATED:20260203T194318Z
LAST-MODIFIED:20260316T184846Z
UID:10001005-1895475600-1895500800@mc-choice.countyofmonterey.gov
SUMMARY:MC-CHOICE Unit
DESCRIPTION:
URL:https://mc-choice.countyofmonterey.gov/event/mc-choice-unit/2030-01-24/
LOCATION:La Manzana Community Resource Center\, 521 Main St Suite Y\, Watsonville\, CA\, 95076
END:VEVENT
BEGIN:VEVENT
DTSTART;TZID=America/Los_Angeles:20300129T090000
DTEND;TZID=America/Los_Angeles:20300129T160000
DTSTAMP:20260421T145338
CREATED:20251215T230629Z
LAST-MODIFIED:20260316T175115Z
UID:10001267-1895907600-1895932800@mc-choice.countyofmonterey.gov
SUMMARY:MC-CHOICE Unit
DESCRIPTION:
URL:https://mc-choice.countyofmonterey.gov/event/mc-choice-unit-every-tuesday/2030-01-29/
LOCATION:MC-CHOICE Unit\, Soledad WIC 355 Gabilan Dr\, Soledad\, CA\, 93960
CATEGORIES:Outreach
END:VEVENT
BEGIN:VEVENT
DTSTART;TZID=America/Los_Angeles:20300130T090000
DTEND;TZID=America/Los_Angeles:20300130T160000
DTSTAMP:20260421T145338
CREATED:20251215T230936Z
LAST-MODIFIED:20260316T175014Z
UID:10000745-1895994000-1896019200@mc-choice.countyofmonterey.gov
SUMMARY:MC-CHOICE Unit
DESCRIPTION:
URL:https://mc-choice.countyofmonterey.gov/event/mc-choice-unit-every-wednesday/2030-01-30/
LOCATION:MC-CHOICE Unit\, WIC Office 632 E. Alisal St\, Salinas\, CA\, 93905
CATEGORIES:Outreach
END:VEVENT
BEGIN:VEVENT
DTSTART;TZID=America/Los_Angeles:20300131T090000
DTEND;TZID=America/Los_Angeles:20300131T160000
DTSTAMP:20260421T145338
CREATED:20260203T194318Z
LAST-MODIFIED:20260316T184846Z
UID:10001006-1896080400-1896105600@mc-choice.countyofmonterey.gov
SUMMARY:MC-CHOICE Unit
DESCRIPTION:
URL:https://mc-choice.countyofmonterey.gov/event/mc-choice-unit/2030-01-31/
LOCATION:La Manzana Community Resource Center\, 521 Main St Suite Y\, Watsonville\, CA\, 95076
END:VEVENT
BEGIN:VEVENT
DTSTART;TZID=America/Los_Angeles:20300205T090000
DTEND;TZID=America/Los_Angeles:20300205T160000
DTSTAMP:20260421T145338
CREATED:20251215T230629Z
LAST-MODIFIED:20260316T175115Z
UID:10001268-1896512400-1896537600@mc-choice.countyofmonterey.gov
SUMMARY:MC-CHOICE Unit
DESCRIPTION:
URL:https://mc-choice.countyofmonterey.gov/event/mc-choice-unit-every-tuesday/2030-02-05/
LOCATION:MC-CHOICE Unit\, Soledad WIC 355 Gabilan Dr\, Soledad\, CA\, 93960
CATEGORIES:Outreach
END:VEVENT
BEGIN:VEVENT
DTSTART;TZID=America/Los_Angeles:20300206T090000
DTEND;TZID=America/Los_Angeles:20300206T160000
DTSTAMP:20260421T145338
CREATED:20251215T230936Z
LAST-MODIFIED:20260316T175014Z
UID:10000746-1896598800-1896624000@mc-choice.countyofmonterey.gov
SUMMARY:MC-CHOICE Unit
DESCRIPTION:
URL:https://mc-choice.countyofmonterey.gov/event/mc-choice-unit-every-wednesday/2030-02-06/
LOCATION:MC-CHOICE Unit\, WIC Office 632 E. Alisal St\, Salinas\, CA\, 93905
CATEGORIES:Outreach
END:VEVENT
BEGIN:VEVENT
DTSTART;TZID=America/Los_Angeles:20300207T090000
DTEND;TZID=America/Los_Angeles:20300207T160000
DTSTAMP:20260421T145338
CREATED:20260203T194318Z
LAST-MODIFIED:20260316T184846Z
UID:10001007-1896685200-1896710400@mc-choice.countyofmonterey.gov
SUMMARY:MC-CHOICE Unit
DESCRIPTION:
URL:https://mc-choice.countyofmonterey.gov/event/mc-choice-unit/2030-02-07/
LOCATION:La Manzana Community Resource Center\, 521 Main St Suite Y\, Watsonville\, CA\, 95076
END:VEVENT
BEGIN:VEVENT
DTSTART;TZID=America/Los_Angeles:20300212T090000
DTEND;TZID=America/Los_Angeles:20300212T160000
DTSTAMP:20260421T145338
CREATED:20251215T230629Z
LAST-MODIFIED:20260316T175115Z
UID:10001269-1897117200-1897142400@mc-choice.countyofmonterey.gov
SUMMARY:MC-CHOICE Unit
DESCRIPTION:
URL:https://mc-choice.countyofmonterey.gov/event/mc-choice-unit-every-tuesday/2030-02-12/
LOCATION:MC-CHOICE Unit\, Soledad WIC 355 Gabilan Dr\, Soledad\, CA\, 93960
CATEGORIES:Outreach
END:VEVENT
BEGIN:VEVENT
DTSTART;TZID=America/Los_Angeles:20300213T090000
DTEND;TZID=America/Los_Angeles:20300213T160000
DTSTAMP:20260421T145338
CREATED:20251215T230936Z
LAST-MODIFIED:20260316T175014Z
UID:10000747-1897203600-1897228800@mc-choice.countyofmonterey.gov
SUMMARY:MC-CHOICE Unit
DESCRIPTION:
URL:https://mc-choice.countyofmonterey.gov/event/mc-choice-unit-every-wednesday/2030-02-13/
LOCATION:MC-CHOICE Unit\, WIC Office 632 E. Alisal St\, Salinas\, CA\, 93905
CATEGORIES:Outreach
END:VEVENT
BEGIN:VEVENT
DTSTART;TZID=America/Los_Angeles:20300214T090000
DTEND;TZID=America/Los_Angeles:20300214T160000
DTSTAMP:20260421T145338
CREATED:20260203T194318Z
LAST-MODIFIED:20260316T184846Z
UID:10001008-1897290000-1897315200@mc-choice.countyofmonterey.gov
SUMMARY:MC-CHOICE Unit
DESCRIPTION:
URL:https://mc-choice.countyofmonterey.gov/event/mc-choice-unit/2030-02-14/
LOCATION:La Manzana Community Resource Center\, 521 Main St Suite Y\, Watsonville\, CA\, 95076
END:VEVENT
BEGIN:VEVENT
DTSTART;TZID=America/Los_Angeles:20300219T090000
DTEND;TZID=America/Los_Angeles:20300219T160000
DTSTAMP:20260421T145338
CREATED:20251215T230629Z
LAST-MODIFIED:20260316T175115Z
UID:10001270-1897722000-1897747200@mc-choice.countyofmonterey.gov
SUMMARY:MC-CHOICE Unit
DESCRIPTION:
URL:https://mc-choice.countyofmonterey.gov/event/mc-choice-unit-every-tuesday/2030-02-19/
LOCATION:MC-CHOICE Unit\, Soledad WIC 355 Gabilan Dr\, Soledad\, CA\, 93960
CATEGORIES:Outreach
END:VEVENT
BEGIN:VEVENT
DTSTART;TZID=America/Los_Angeles:20300220T090000
DTEND;TZID=America/Los_Angeles:20300220T160000
DTSTAMP:20260421T145338
CREATED:20251215T230936Z
LAST-MODIFIED:20260316T175014Z
UID:10000748-1897808400-1897833600@mc-choice.countyofmonterey.gov
SUMMARY:MC-CHOICE Unit
DESCRIPTION:
URL:https://mc-choice.countyofmonterey.gov/event/mc-choice-unit-every-wednesday/2030-02-20/
LOCATION:MC-CHOICE Unit\, WIC Office 632 E. Alisal St\, Salinas\, CA\, 93905
CATEGORIES:Outreach
END:VEVENT
BEGIN:VEVENT
DTSTART;TZID=America/Los_Angeles:20300221T090000
DTEND;TZID=America/Los_Angeles:20300221T160000
DTSTAMP:20260421T145338
CREATED:20260203T194318Z
LAST-MODIFIED:20260316T184846Z
UID:10001009-1897894800-1897920000@mc-choice.countyofmonterey.gov
SUMMARY:MC-CHOICE Unit
DESCRIPTION:
URL:https://mc-choice.countyofmonterey.gov/event/mc-choice-unit/2030-02-21/
LOCATION:La Manzana Community Resource Center\, 521 Main St Suite Y\, Watsonville\, CA\, 95076
END:VEVENT
BEGIN:VEVENT
DTSTART;TZID=America/Los_Angeles:20300226T090000
DTEND;TZID=America/Los_Angeles:20300226T160000
DTSTAMP:20260421T145338
CREATED:20251215T230629Z
LAST-MODIFIED:20260316T175115Z
UID:10001271-1898326800-1898352000@mc-choice.countyofmonterey.gov
SUMMARY:MC-CHOICE Unit
DESCRIPTION:
URL:https://mc-choice.countyofmonterey.gov/event/mc-choice-unit-every-tuesday/2030-02-26/
LOCATION:MC-CHOICE Unit\, Soledad WIC 355 Gabilan Dr\, Soledad\, CA\, 93960
CATEGORIES:Outreach
END:VEVENT
BEGIN:VEVENT
DTSTART;TZID=America/Los_Angeles:20300227T090000
DTEND;TZID=America/Los_Angeles:20300227T160000
DTSTAMP:20260421T145338
CREATED:20251215T230936Z
LAST-MODIFIED:20260316T175014Z
UID:10000749-1898413200-1898438400@mc-choice.countyofmonterey.gov
SUMMARY:MC-CHOICE Unit
DESCRIPTION:
URL:https://mc-choice.countyofmonterey.gov/event/mc-choice-unit-every-wednesday/2030-02-27/
LOCATION:MC-CHOICE Unit\, WIC Office 632 E. Alisal St\, Salinas\, CA\, 93905
CATEGORIES:Outreach
END:VEVENT
BEGIN:VEVENT
DTSTART;TZID=America/Los_Angeles:20300228T090000
DTEND;TZID=America/Los_Angeles:20300228T160000
DTSTAMP:20260421T145338
CREATED:20260203T194318Z
LAST-MODIFIED:20260316T184846Z
UID:10001010-1898499600-1898524800@mc-choice.countyofmonterey.gov
SUMMARY:MC-CHOICE Unit
DESCRIPTION:
URL:https://mc-choice.countyofmonterey.gov/event/mc-choice-unit/2030-02-28/
LOCATION:La Manzana Community Resource Center\, 521 Main St Suite Y\, Watsonville\, CA\, 95076
END:VEVENT
BEGIN:VEVENT
DTSTART;TZID=America/Los_Angeles:20300305T090000
DTEND;TZID=America/Los_Angeles:20300305T160000
DTSTAMP:20260421T145338
CREATED:20251215T230629Z
LAST-MODIFIED:20260316T175115Z
UID:10001272-1898931600-1898956800@mc-choice.countyofmonterey.gov
SUMMARY:MC-CHOICE Unit
DESCRIPTION:
URL:https://mc-choice.countyofmonterey.gov/event/mc-choice-unit-every-tuesday/2030-03-05/
LOCATION:MC-CHOICE Unit\, Soledad WIC 355 Gabilan Dr\, Soledad\, CA\, 93960
CATEGORIES:Outreach
END:VEVENT
BEGIN:VEVENT
DTSTART;TZID=America/Los_Angeles:20300306T090000
DTEND;TZID=America/Los_Angeles:20300306T160000
DTSTAMP:20260421T145338
CREATED:20251215T230936Z
LAST-MODIFIED:20260316T175014Z
UID:10000750-1899018000-1899043200@mc-choice.countyofmonterey.gov
SUMMARY:MC-CHOICE Unit
DESCRIPTION:
URL:https://mc-choice.countyofmonterey.gov/event/mc-choice-unit-every-wednesday/2030-03-06/
LOCATION:MC-CHOICE Unit\, WIC Office 632 E. Alisal St\, Salinas\, CA\, 93905
CATEGORIES:Outreach
END:VEVENT
BEGIN:VEVENT
DTSTART;TZID=America/Los_Angeles:20300307T090000
DTEND;TZID=America/Los_Angeles:20300307T160000
DTSTAMP:20260421T145338
CREATED:20260203T194318Z
LAST-MODIFIED:20260316T184846Z
UID:10001011-1899104400-1899129600@mc-choice.countyofmonterey.gov
SUMMARY:MC-CHOICE Unit
DESCRIPTION:
URL:https://mc-choice.countyofmonterey.gov/event/mc-choice-unit/2030-03-07/
LOCATION:La Manzana Community Resource Center\, 521 Main St Suite Y\, Watsonville\, CA\, 95076
END:VEVENT
BEGIN:VEVENT
DTSTART;TZID=America/Los_Angeles:20300312T090000
DTEND;TZID=America/Los_Angeles:20300312T160000
DTSTAMP:20260421T145338
CREATED:20251215T230629Z
LAST-MODIFIED:20260316T175115Z
UID:10001273-1899536400-1899561600@mc-choice.countyofmonterey.gov
SUMMARY:MC-CHOICE Unit
DESCRIPTION:
URL:https://mc-choice.countyofmonterey.gov/event/mc-choice-unit-every-tuesday/2030-03-12/
LOCATION:MC-CHOICE Unit\, Soledad WIC 355 Gabilan Dr\, Soledad\, CA\, 93960
CATEGORIES:Outreach
END:VEVENT
BEGIN:VEVENT
DTSTART;TZID=America/Los_Angeles:20300313T090000
DTEND;TZID=America/Los_Angeles:20300313T160000
DTSTAMP:20260421T145338
CREATED:20251215T230936Z
LAST-MODIFIED:20260316T175014Z
UID:10000751-1899622800-1899648000@mc-choice.countyofmonterey.gov
SUMMARY:MC-CHOICE Unit
DESCRIPTION:
URL:https://mc-choice.countyofmonterey.gov/event/mc-choice-unit-every-wednesday/2030-03-13/
LOCATION:MC-CHOICE Unit\, WIC Office 632 E. Alisal St\, Salinas\, CA\, 93905
CATEGORIES:Outreach
END:VEVENT
BEGIN:VEVENT
DTSTART;TZID=America/Los_Angeles:20300314T090000
DTEND;TZID=America/Los_Angeles:20300314T160000
DTSTAMP:20260421T145338
CREATED:20260203T194318Z
LAST-MODIFIED:20260316T184846Z
UID:10001012-1899709200-1899734400@mc-choice.countyofmonterey.gov
SUMMARY:MC-CHOICE Unit
DESCRIPTION:
URL:https://mc-choice.countyofmonterey.gov/event/mc-choice-unit/2030-03-14/
LOCATION:La Manzana Community Resource Center\, 521 Main St Suite Y\, Watsonville\, CA\, 95076
END:VEVENT
BEGIN:VEVENT
DTSTART;TZID=America/Los_Angeles:20300319T090000
DTEND;TZID=America/Los_Angeles:20300319T160000
DTSTAMP:20260421T145338
CREATED:20251215T230629Z
LAST-MODIFIED:20260316T175115Z
UID:10001274-1900141200-1900166400@mc-choice.countyofmonterey.gov
SUMMARY:MC-CHOICE Unit
DESCRIPTION:
URL:https://mc-choice.countyofmonterey.gov/event/mc-choice-unit-every-tuesday/2030-03-19/
LOCATION:MC-CHOICE Unit\, Soledad WIC 355 Gabilan Dr\, Soledad\, CA\, 93960
CATEGORIES:Outreach
END:VEVENT
BEGIN:VEVENT
DTSTART;TZID=America/Los_Angeles:20300320T090000
DTEND;TZID=America/Los_Angeles:20300320T160000
DTSTAMP:20260421T145338
CREATED:20251215T230936Z
LAST-MODIFIED:20260316T175014Z
UID:10000752-1900227600-1900252800@mc-choice.countyofmonterey.gov
SUMMARY:MC-CHOICE Unit
DESCRIPTION:
URL:https://mc-choice.countyofmonterey.gov/event/mc-choice-unit-every-wednesday/2030-03-20/
LOCATION:MC-CHOICE Unit\, WIC Office 632 E. Alisal St\, Salinas\, CA\, 93905
CATEGORIES:Outreach
END:VEVENT
BEGIN:VEVENT
DTSTART;TZID=America/Los_Angeles:20300321T090000
DTEND;TZID=America/Los_Angeles:20300321T160000
DTSTAMP:20260421T145338
CREATED:20260203T194318Z
LAST-MODIFIED:20260316T184846Z
UID:10001013-1900314000-1900339200@mc-choice.countyofmonterey.gov
SUMMARY:MC-CHOICE Unit
DESCRIPTION:
URL:https://mc-choice.countyofmonterey.gov/event/mc-choice-unit/2030-03-21/
LOCATION:La Manzana Community Resource Center\, 521 Main St Suite Y\, Watsonville\, CA\, 95076
END:VEVENT
END:VCALENDAR