


BEGIN:VCALENDAR
VERSION:2.0
PRODID:-//MC-CHOICE - ECPv6.15.12.2//NONSGML v1.0//EN
CALSCALE:GREGORIAN
METHOD:PUBLISH
X-WR-CALNAME:MC-CHOICE
X-ORIGINAL-URL:https://mc-choice.countyofmonterey.gov
X-WR-CALDESC:Events for MC-CHOICE
REFRESH-INTERVAL;VALUE=DURATION:PT1H
X-Robots-Tag:noindex
X-PUBLISHED-TTL:PT1H
BEGIN:VTIMEZONE
TZID:America/Los_Angeles
BEGIN:DAYLIGHT
TZOFFSETFROM:-0800
TZOFFSETTO:-0700
TZNAME:PDT
DTSTART:20270314T100000
END:DAYLIGHT
BEGIN:STANDARD
TZOFFSETFROM:-0700
TZOFFSETTO:-0800
TZNAME:PST
DTSTART:20271107T090000
END:STANDARD
BEGIN:DAYLIGHT
TZOFFSETFROM:-0800
TZOFFSETTO:-0700
TZNAME:PDT
DTSTART:20280312T100000
END:DAYLIGHT
BEGIN:STANDARD
TZOFFSETFROM:-0700
TZOFFSETTO:-0800
TZNAME:PST
DTSTART:20281105T090000
END:STANDARD
BEGIN:DAYLIGHT
TZOFFSETFROM:-0800
TZOFFSETTO:-0700
TZNAME:PDT
DTSTART:20290311T100000
END:DAYLIGHT
BEGIN:STANDARD
TZOFFSETFROM:-0700
TZOFFSETTO:-0800
TZNAME:PST
DTSTART:20291104T090000
END:STANDARD
END:VTIMEZONE
BEGIN:VEVENT
DTSTART;TZID=America/Los_Angeles:20280404T090000
DTEND;TZID=America/Los_Angeles:20280404T160000
DTSTAMP:20260420T013602
CREATED:20251215T230629Z
LAST-MODIFIED:20260316T175115Z
UID:10001172-1838451600-1838476800@mc-choice.countyofmonterey.gov
SUMMARY:MC-CHOICE Unit
DESCRIPTION:
URL:https://mc-choice.countyofmonterey.gov/event/mc-choice-unit-every-tuesday/2028-04-04/
LOCATION:MC-CHOICE Unit\, Soledad WIC 355 Gabilan Dr\, Soledad\, CA\, 93960
CATEGORIES:Outreach
END:VEVENT
BEGIN:VEVENT
DTSTART;TZID=America/Los_Angeles:20280405T090000
DTEND;TZID=America/Los_Angeles:20280405T160000
DTSTAMP:20260420T013602
CREATED:20251215T230936Z
LAST-MODIFIED:20260316T175014Z
UID:10000650-1838538000-1838563200@mc-choice.countyofmonterey.gov
SUMMARY:MC-CHOICE Unit
DESCRIPTION:
URL:https://mc-choice.countyofmonterey.gov/event/mc-choice-unit-every-wednesday/2028-04-05/
LOCATION:MC-CHOICE Unit\, WIC Office 632 E. Alisal St\, Salinas\, CA\, 93905
CATEGORIES:Outreach
END:VEVENT
BEGIN:VEVENT
DTSTART;TZID=America/Los_Angeles:20280406T090000
DTEND;TZID=America/Los_Angeles:20280406T160000
DTSTAMP:20260420T013602
CREATED:20260203T194318Z
LAST-MODIFIED:20260316T184846Z
UID:10000911-1838624400-1838649600@mc-choice.countyofmonterey.gov
SUMMARY:MC-CHOICE Unit
DESCRIPTION:
URL:https://mc-choice.countyofmonterey.gov/event/mc-choice-unit/2028-04-06/
LOCATION:La Manzana Community Resource Center\, 521 Main St Suite Y\, Watsonville\, CA\, 95076
END:VEVENT
BEGIN:VEVENT
DTSTART;TZID=America/Los_Angeles:20280411T090000
DTEND;TZID=America/Los_Angeles:20280411T160000
DTSTAMP:20260420T013602
CREATED:20251215T230629Z
LAST-MODIFIED:20260316T175115Z
UID:10001173-1839056400-1839081600@mc-choice.countyofmonterey.gov
SUMMARY:MC-CHOICE Unit
DESCRIPTION:
URL:https://mc-choice.countyofmonterey.gov/event/mc-choice-unit-every-tuesday/2028-04-11/
LOCATION:MC-CHOICE Unit\, Soledad WIC 355 Gabilan Dr\, Soledad\, CA\, 93960
CATEGORIES:Outreach
END:VEVENT
BEGIN:VEVENT
DTSTART;TZID=America/Los_Angeles:20280412T090000
DTEND;TZID=America/Los_Angeles:20280412T160000
DTSTAMP:20260420T013602
CREATED:20251215T230936Z
LAST-MODIFIED:20260316T175014Z
UID:10000651-1839142800-1839168000@mc-choice.countyofmonterey.gov
SUMMARY:MC-CHOICE Unit
DESCRIPTION:
URL:https://mc-choice.countyofmonterey.gov/event/mc-choice-unit-every-wednesday/2028-04-12/
LOCATION:MC-CHOICE Unit\, WIC Office 632 E. Alisal St\, Salinas\, CA\, 93905
CATEGORIES:Outreach
END:VEVENT
BEGIN:VEVENT
DTSTART;TZID=America/Los_Angeles:20280413T090000
DTEND;TZID=America/Los_Angeles:20280413T160000
DTSTAMP:20260420T013602
CREATED:20260203T194318Z
LAST-MODIFIED:20260316T184846Z
UID:10000912-1839229200-1839254400@mc-choice.countyofmonterey.gov
SUMMARY:MC-CHOICE Unit
DESCRIPTION:
URL:https://mc-choice.countyofmonterey.gov/event/mc-choice-unit/2028-04-13/
LOCATION:La Manzana Community Resource Center\, 521 Main St Suite Y\, Watsonville\, CA\, 95076
END:VEVENT
BEGIN:VEVENT
DTSTART;TZID=America/Los_Angeles:20280418T090000
DTEND;TZID=America/Los_Angeles:20280418T160000
DTSTAMP:20260420T013602
CREATED:20251215T230629Z
LAST-MODIFIED:20260316T175115Z
UID:10001174-1839661200-1839686400@mc-choice.countyofmonterey.gov
SUMMARY:MC-CHOICE Unit
DESCRIPTION:
URL:https://mc-choice.countyofmonterey.gov/event/mc-choice-unit-every-tuesday/2028-04-18/
LOCATION:MC-CHOICE Unit\, Soledad WIC 355 Gabilan Dr\, Soledad\, CA\, 93960
CATEGORIES:Outreach
END:VEVENT
BEGIN:VEVENT
DTSTART;TZID=America/Los_Angeles:20280419T090000
DTEND;TZID=America/Los_Angeles:20280419T160000
DTSTAMP:20260420T013602
CREATED:20251215T230936Z
LAST-MODIFIED:20260316T175014Z
UID:10000652-1839747600-1839772800@mc-choice.countyofmonterey.gov
SUMMARY:MC-CHOICE Unit
DESCRIPTION:
URL:https://mc-choice.countyofmonterey.gov/event/mc-choice-unit-every-wednesday/2028-04-19/
LOCATION:MC-CHOICE Unit\, WIC Office 632 E. Alisal St\, Salinas\, CA\, 93905
CATEGORIES:Outreach
END:VEVENT
BEGIN:VEVENT
DTSTART;TZID=America/Los_Angeles:20280420T090000
DTEND;TZID=America/Los_Angeles:20280420T160000
DTSTAMP:20260420T013602
CREATED:20260203T194318Z
LAST-MODIFIED:20260316T184846Z
UID:10000913-1839834000-1839859200@mc-choice.countyofmonterey.gov
SUMMARY:MC-CHOICE Unit
DESCRIPTION:
URL:https://mc-choice.countyofmonterey.gov/event/mc-choice-unit/2028-04-20/
LOCATION:La Manzana Community Resource Center\, 521 Main St Suite Y\, Watsonville\, CA\, 95076
END:VEVENT
BEGIN:VEVENT
DTSTART;TZID=America/Los_Angeles:20280425T090000
DTEND;TZID=America/Los_Angeles:20280425T160000
DTSTAMP:20260420T013602
CREATED:20251215T230629Z
LAST-MODIFIED:20260316T175115Z
UID:10001175-1840266000-1840291200@mc-choice.countyofmonterey.gov
SUMMARY:MC-CHOICE Unit
DESCRIPTION:
URL:https://mc-choice.countyofmonterey.gov/event/mc-choice-unit-every-tuesday/2028-04-25/
LOCATION:MC-CHOICE Unit\, Soledad WIC 355 Gabilan Dr\, Soledad\, CA\, 93960
CATEGORIES:Outreach
END:VEVENT
BEGIN:VEVENT
DTSTART;TZID=America/Los_Angeles:20280426T090000
DTEND;TZID=America/Los_Angeles:20280426T160000
DTSTAMP:20260420T013602
CREATED:20251215T230936Z
LAST-MODIFIED:20260316T175014Z
UID:10000653-1840352400-1840377600@mc-choice.countyofmonterey.gov
SUMMARY:MC-CHOICE Unit
DESCRIPTION:
URL:https://mc-choice.countyofmonterey.gov/event/mc-choice-unit-every-wednesday/2028-04-26/
LOCATION:MC-CHOICE Unit\, WIC Office 632 E. Alisal St\, Salinas\, CA\, 93905
CATEGORIES:Outreach
END:VEVENT
BEGIN:VEVENT
DTSTART;TZID=America/Los_Angeles:20280427T090000
DTEND;TZID=America/Los_Angeles:20280427T160000
DTSTAMP:20260420T013602
CREATED:20260203T194318Z
LAST-MODIFIED:20260316T184846Z
UID:10000914-1840438800-1840464000@mc-choice.countyofmonterey.gov
SUMMARY:MC-CHOICE Unit
DESCRIPTION:
URL:https://mc-choice.countyofmonterey.gov/event/mc-choice-unit/2028-04-27/
LOCATION:La Manzana Community Resource Center\, 521 Main St Suite Y\, Watsonville\, CA\, 95076
END:VEVENT
END:VCALENDAR