


BEGIN:VCALENDAR
VERSION:2.0
PRODID:-//MC-CHOICE - ECPv6.15.12.2//NONSGML v1.0//EN
CALSCALE:GREGORIAN
METHOD:PUBLISH
X-ORIGINAL-URL:https://mc-choice.countyofmonterey.gov
X-WR-CALDESC:Events for MC-CHOICE
REFRESH-INTERVAL;VALUE=DURATION:PT1H
X-Robots-Tag:noindex
X-PUBLISHED-TTL:PT1H
BEGIN:VTIMEZONE
TZID:America/Los_Angeles
BEGIN:DAYLIGHT
TZOFFSETFROM:-0800
TZOFFSETTO:-0700
TZNAME:PDT
DTSTART:20250309T100000
END:DAYLIGHT
BEGIN:STANDARD
TZOFFSETFROM:-0700
TZOFFSETTO:-0800
TZNAME:PST
DTSTART:20251102T090000
END:STANDARD
BEGIN:DAYLIGHT
TZOFFSETFROM:-0800
TZOFFSETTO:-0700
TZNAME:PDT
DTSTART:20260308T100000
END:DAYLIGHT
BEGIN:STANDARD
TZOFFSETFROM:-0700
TZOFFSETTO:-0800
TZNAME:PST
DTSTART:20261101T090000
END:STANDARD
BEGIN:DAYLIGHT
TZOFFSETFROM:-0800
TZOFFSETTO:-0700
TZNAME:PDT
DTSTART:20270314T100000
END:DAYLIGHT
BEGIN:STANDARD
TZOFFSETFROM:-0700
TZOFFSETTO:-0800
TZNAME:PST
DTSTART:20271107T090000
END:STANDARD
END:VTIMEZONE
BEGIN:VEVENT
DTSTART;TZID=America/Los_Angeles:20260422T090000
DTEND;TZID=America/Los_Angeles:20260422T160000
DTSTAMP:20260420T050155
CREATED:20251215T230936Z
LAST-MODIFIED:20260316T175014Z
UID:10000548-1776848400-1776873600@mc-choice.countyofmonterey.gov
SUMMARY:MC-CHOICE Unit
DESCRIPTION:
URL:https://mc-choice.countyofmonterey.gov/event/mc-choice-unit-every-wednesday/2026-04-22/
LOCATION:MC-CHOICE Unit\, WIC Office 632 E. Alisal St\, Salinas\, CA\, 93905
CATEGORIES:Outreach
END:VEVENT
BEGIN:VEVENT
DTSTART;TZID=America/Los_Angeles:20260429T090000
DTEND;TZID=America/Los_Angeles:20260429T160000
DTSTAMP:20260420T050155
CREATED:20251215T230936Z
LAST-MODIFIED:20260316T175014Z
UID:10000549-1777453200-1777478400@mc-choice.countyofmonterey.gov
SUMMARY:MC-CHOICE Unit
DESCRIPTION:
URL:https://mc-choice.countyofmonterey.gov/event/mc-choice-unit-every-wednesday/2026-04-29/
LOCATION:MC-CHOICE Unit\, WIC Office 632 E. Alisal St\, Salinas\, CA\, 93905
CATEGORIES:Outreach
END:VEVENT
BEGIN:VEVENT
DTSTART;TZID=America/Los_Angeles:20260506T090000
DTEND;TZID=America/Los_Angeles:20260506T160000
DTSTAMP:20260420T050155
CREATED:20251215T230936Z
LAST-MODIFIED:20260316T175014Z
UID:10000550-1778058000-1778083200@mc-choice.countyofmonterey.gov
SUMMARY:MC-CHOICE Unit
DESCRIPTION:
URL:https://mc-choice.countyofmonterey.gov/event/mc-choice-unit-every-wednesday/2026-05-06/
LOCATION:MC-CHOICE Unit\, WIC Office 632 E. Alisal St\, Salinas\, CA\, 93905
CATEGORIES:Outreach
END:VEVENT
BEGIN:VEVENT
DTSTART;TZID=America/Los_Angeles:20260513T090000
DTEND;TZID=America/Los_Angeles:20260513T160000
DTSTAMP:20260420T050155
CREATED:20251215T230936Z
LAST-MODIFIED:20260316T175014Z
UID:10000551-1778662800-1778688000@mc-choice.countyofmonterey.gov
SUMMARY:MC-CHOICE Unit
DESCRIPTION:
URL:https://mc-choice.countyofmonterey.gov/event/mc-choice-unit-every-wednesday/2026-05-13/
LOCATION:MC-CHOICE Unit\, WIC Office 632 E. Alisal St\, Salinas\, CA\, 93905
CATEGORIES:Outreach
END:VEVENT
BEGIN:VEVENT
DTSTART;TZID=America/Los_Angeles:20260520T090000
DTEND;TZID=America/Los_Angeles:20260520T160000
DTSTAMP:20260420T050155
CREATED:20251215T230936Z
LAST-MODIFIED:20260316T175014Z
UID:10000552-1779267600-1779292800@mc-choice.countyofmonterey.gov
SUMMARY:MC-CHOICE Unit
DESCRIPTION:
URL:https://mc-choice.countyofmonterey.gov/event/mc-choice-unit-every-wednesday/2026-05-20/
LOCATION:MC-CHOICE Unit\, WIC Office 632 E. Alisal St\, Salinas\, CA\, 93905
CATEGORIES:Outreach
END:VEVENT
BEGIN:VEVENT
DTSTART;TZID=America/Los_Angeles:20260527T090000
DTEND;TZID=America/Los_Angeles:20260527T160000
DTSTAMP:20260420T050155
CREATED:20251215T230936Z
LAST-MODIFIED:20260316T175014Z
UID:10000553-1779872400-1779897600@mc-choice.countyofmonterey.gov
SUMMARY:MC-CHOICE Unit
DESCRIPTION:
URL:https://mc-choice.countyofmonterey.gov/event/mc-choice-unit-every-wednesday/2026-05-27/
LOCATION:MC-CHOICE Unit\, WIC Office 632 E. Alisal St\, Salinas\, CA\, 93905
CATEGORIES:Outreach
END:VEVENT
BEGIN:VEVENT
DTSTART;TZID=America/Los_Angeles:20260603T090000
DTEND;TZID=America/Los_Angeles:20260603T160000
DTSTAMP:20260420T050155
CREATED:20251215T230936Z
LAST-MODIFIED:20260316T175014Z
UID:10000554-1780477200-1780502400@mc-choice.countyofmonterey.gov
SUMMARY:MC-CHOICE Unit
DESCRIPTION:
URL:https://mc-choice.countyofmonterey.gov/event/mc-choice-unit-every-wednesday/2026-06-03/
LOCATION:MC-CHOICE Unit\, WIC Office 632 E. Alisal St\, Salinas\, CA\, 93905
CATEGORIES:Outreach
END:VEVENT
BEGIN:VEVENT
DTSTART;TZID=America/Los_Angeles:20260610T090000
DTEND;TZID=America/Los_Angeles:20260610T160000
DTSTAMP:20260420T050155
CREATED:20251215T230936Z
LAST-MODIFIED:20260316T175014Z
UID:10000555-1781082000-1781107200@mc-choice.countyofmonterey.gov
SUMMARY:MC-CHOICE Unit
DESCRIPTION:
URL:https://mc-choice.countyofmonterey.gov/event/mc-choice-unit-every-wednesday/2026-06-10/
LOCATION:MC-CHOICE Unit\, WIC Office 632 E. Alisal St\, Salinas\, CA\, 93905
CATEGORIES:Outreach
END:VEVENT
BEGIN:VEVENT
DTSTART;TZID=America/Los_Angeles:20260617T090000
DTEND;TZID=America/Los_Angeles:20260617T160000
DTSTAMP:20260420T050155
CREATED:20251215T230936Z
LAST-MODIFIED:20260316T175014Z
UID:10000556-1781686800-1781712000@mc-choice.countyofmonterey.gov
SUMMARY:MC-CHOICE Unit
DESCRIPTION:
URL:https://mc-choice.countyofmonterey.gov/event/mc-choice-unit-every-wednesday/2026-06-17/
LOCATION:MC-CHOICE Unit\, WIC Office 632 E. Alisal St\, Salinas\, CA\, 93905
CATEGORIES:Outreach
END:VEVENT
BEGIN:VEVENT
DTSTART;TZID=America/Los_Angeles:20260624T090000
DTEND;TZID=America/Los_Angeles:20260624T160000
DTSTAMP:20260420T050155
CREATED:20251215T230936Z
LAST-MODIFIED:20260316T175014Z
UID:10000557-1782291600-1782316800@mc-choice.countyofmonterey.gov
SUMMARY:MC-CHOICE Unit
DESCRIPTION:
URL:https://mc-choice.countyofmonterey.gov/event/mc-choice-unit-every-wednesday/2026-06-24/
LOCATION:MC-CHOICE Unit\, WIC Office 632 E. Alisal St\, Salinas\, CA\, 93905
CATEGORIES:Outreach
END:VEVENT
BEGIN:VEVENT
DTSTART;TZID=America/Los_Angeles:20260701T090000
DTEND;TZID=America/Los_Angeles:20260701T160000
DTSTAMP:20260420T050155
CREATED:20251215T230936Z
LAST-MODIFIED:20260316T175014Z
UID:10000558-1782896400-1782921600@mc-choice.countyofmonterey.gov
SUMMARY:MC-CHOICE Unit
DESCRIPTION:
URL:https://mc-choice.countyofmonterey.gov/event/mc-choice-unit-every-wednesday/2026-07-01/
LOCATION:MC-CHOICE Unit\, WIC Office 632 E. Alisal St\, Salinas\, CA\, 93905
CATEGORIES:Outreach
END:VEVENT
BEGIN:VEVENT
DTSTART;TZID=America/Los_Angeles:20260708T090000
DTEND;TZID=America/Los_Angeles:20260708T160000
DTSTAMP:20260420T050155
CREATED:20251215T230936Z
LAST-MODIFIED:20260316T175014Z
UID:10000559-1783501200-1783526400@mc-choice.countyofmonterey.gov
SUMMARY:MC-CHOICE Unit
DESCRIPTION:
URL:https://mc-choice.countyofmonterey.gov/event/mc-choice-unit-every-wednesday/2026-07-08/
LOCATION:MC-CHOICE Unit\, WIC Office 632 E. Alisal St\, Salinas\, CA\, 93905
CATEGORIES:Outreach
END:VEVENT
BEGIN:VEVENT
DTSTART;TZID=America/Los_Angeles:20260715T090000
DTEND;TZID=America/Los_Angeles:20260715T160000
DTSTAMP:20260420T050155
CREATED:20251215T230936Z
LAST-MODIFIED:20260316T175014Z
UID:10000560-1784106000-1784131200@mc-choice.countyofmonterey.gov
SUMMARY:MC-CHOICE Unit
DESCRIPTION:
URL:https://mc-choice.countyofmonterey.gov/event/mc-choice-unit-every-wednesday/2026-07-15/
LOCATION:MC-CHOICE Unit\, WIC Office 632 E. Alisal St\, Salinas\, CA\, 93905
CATEGORIES:Outreach
END:VEVENT
BEGIN:VEVENT
DTSTART;TZID=America/Los_Angeles:20260722T090000
DTEND;TZID=America/Los_Angeles:20260722T160000
DTSTAMP:20260420T050155
CREATED:20251215T230936Z
LAST-MODIFIED:20260316T175014Z
UID:10000561-1784710800-1784736000@mc-choice.countyofmonterey.gov
SUMMARY:MC-CHOICE Unit
DESCRIPTION:
URL:https://mc-choice.countyofmonterey.gov/event/mc-choice-unit-every-wednesday/2026-07-22/
LOCATION:MC-CHOICE Unit\, WIC Office 632 E. Alisal St\, Salinas\, CA\, 93905
CATEGORIES:Outreach
END:VEVENT
BEGIN:VEVENT
DTSTART;TZID=America/Los_Angeles:20260729T090000
DTEND;TZID=America/Los_Angeles:20260729T160000
DTSTAMP:20260420T050155
CREATED:20251215T230936Z
LAST-MODIFIED:20260316T175014Z
UID:10000562-1785315600-1785340800@mc-choice.countyofmonterey.gov
SUMMARY:MC-CHOICE Unit
DESCRIPTION:
URL:https://mc-choice.countyofmonterey.gov/event/mc-choice-unit-every-wednesday/2026-07-29/
LOCATION:MC-CHOICE Unit\, WIC Office 632 E. Alisal St\, Salinas\, CA\, 93905
CATEGORIES:Outreach
END:VEVENT
BEGIN:VEVENT
DTSTART;TZID=America/Los_Angeles:20260805T090000
DTEND;TZID=America/Los_Angeles:20260805T160000
DTSTAMP:20260420T050155
CREATED:20251215T230936Z
LAST-MODIFIED:20260316T175014Z
UID:10000563-1785920400-1785945600@mc-choice.countyofmonterey.gov
SUMMARY:MC-CHOICE Unit
DESCRIPTION:
URL:https://mc-choice.countyofmonterey.gov/event/mc-choice-unit-every-wednesday/2026-08-05/
LOCATION:MC-CHOICE Unit\, WIC Office 632 E. Alisal St\, Salinas\, CA\, 93905
CATEGORIES:Outreach
END:VEVENT
BEGIN:VEVENT
DTSTART;TZID=America/Los_Angeles:20260812T090000
DTEND;TZID=America/Los_Angeles:20260812T160000
DTSTAMP:20260420T050155
CREATED:20251215T230936Z
LAST-MODIFIED:20260316T175014Z
UID:10000564-1786525200-1786550400@mc-choice.countyofmonterey.gov
SUMMARY:MC-CHOICE Unit
DESCRIPTION:
URL:https://mc-choice.countyofmonterey.gov/event/mc-choice-unit-every-wednesday/2026-08-12/
LOCATION:MC-CHOICE Unit\, WIC Office 632 E. Alisal St\, Salinas\, CA\, 93905
CATEGORIES:Outreach
END:VEVENT
BEGIN:VEVENT
DTSTART;TZID=America/Los_Angeles:20260819T090000
DTEND;TZID=America/Los_Angeles:20260819T160000
DTSTAMP:20260420T050155
CREATED:20251215T230936Z
LAST-MODIFIED:20260316T175014Z
UID:10000565-1787130000-1787155200@mc-choice.countyofmonterey.gov
SUMMARY:MC-CHOICE Unit
DESCRIPTION:
URL:https://mc-choice.countyofmonterey.gov/event/mc-choice-unit-every-wednesday/2026-08-19/
LOCATION:MC-CHOICE Unit\, WIC Office 632 E. Alisal St\, Salinas\, CA\, 93905
CATEGORIES:Outreach
END:VEVENT
BEGIN:VEVENT
DTSTART;TZID=America/Los_Angeles:20260826T090000
DTEND;TZID=America/Los_Angeles:20260826T160000
DTSTAMP:20260420T050155
CREATED:20251215T230936Z
LAST-MODIFIED:20260316T175014Z
UID:10000566-1787734800-1787760000@mc-choice.countyofmonterey.gov
SUMMARY:MC-CHOICE Unit
DESCRIPTION:
URL:https://mc-choice.countyofmonterey.gov/event/mc-choice-unit-every-wednesday/2026-08-26/
LOCATION:MC-CHOICE Unit\, WIC Office 632 E. Alisal St\, Salinas\, CA\, 93905
CATEGORIES:Outreach
END:VEVENT
BEGIN:VEVENT
DTSTART;TZID=America/Los_Angeles:20260902T090000
DTEND;TZID=America/Los_Angeles:20260902T160000
DTSTAMP:20260420T050155
CREATED:20251215T230936Z
LAST-MODIFIED:20260316T175014Z
UID:10000567-1788339600-1788364800@mc-choice.countyofmonterey.gov
SUMMARY:MC-CHOICE Unit
DESCRIPTION:
URL:https://mc-choice.countyofmonterey.gov/event/mc-choice-unit-every-wednesday/2026-09-02/
LOCATION:MC-CHOICE Unit\, WIC Office 632 E. Alisal St\, Salinas\, CA\, 93905
CATEGORIES:Outreach
END:VEVENT
BEGIN:VEVENT
DTSTART;TZID=America/Los_Angeles:20260909T090000
DTEND;TZID=America/Los_Angeles:20260909T160000
DTSTAMP:20260420T050155
CREATED:20251215T230936Z
LAST-MODIFIED:20260316T175014Z
UID:10000568-1788944400-1788969600@mc-choice.countyofmonterey.gov
SUMMARY:MC-CHOICE Unit
DESCRIPTION:
URL:https://mc-choice.countyofmonterey.gov/event/mc-choice-unit-every-wednesday/2026-09-09/
LOCATION:MC-CHOICE Unit\, WIC Office 632 E. Alisal St\, Salinas\, CA\, 93905
CATEGORIES:Outreach
END:VEVENT
BEGIN:VEVENT
DTSTART;TZID=America/Los_Angeles:20260916T090000
DTEND;TZID=America/Los_Angeles:20260916T160000
DTSTAMP:20260420T050155
CREATED:20251215T230936Z
LAST-MODIFIED:20260316T175014Z
UID:10000569-1789549200-1789574400@mc-choice.countyofmonterey.gov
SUMMARY:MC-CHOICE Unit
DESCRIPTION:
URL:https://mc-choice.countyofmonterey.gov/event/mc-choice-unit-every-wednesday/2026-09-16/
LOCATION:MC-CHOICE Unit\, WIC Office 632 E. Alisal St\, Salinas\, CA\, 93905
CATEGORIES:Outreach
END:VEVENT
BEGIN:VEVENT
DTSTART;TZID=America/Los_Angeles:20260923T090000
DTEND;TZID=America/Los_Angeles:20260923T160000
DTSTAMP:20260420T050155
CREATED:20251215T230936Z
LAST-MODIFIED:20260316T175014Z
UID:10000570-1790154000-1790179200@mc-choice.countyofmonterey.gov
SUMMARY:MC-CHOICE Unit
DESCRIPTION:
URL:https://mc-choice.countyofmonterey.gov/event/mc-choice-unit-every-wednesday/2026-09-23/
LOCATION:MC-CHOICE Unit\, WIC Office 632 E. Alisal St\, Salinas\, CA\, 93905
CATEGORIES:Outreach
END:VEVENT
BEGIN:VEVENT
DTSTART;TZID=America/Los_Angeles:20260930T090000
DTEND;TZID=America/Los_Angeles:20260930T160000
DTSTAMP:20260420T050155
CREATED:20251215T230936Z
LAST-MODIFIED:20260316T175014Z
UID:10000571-1790758800-1790784000@mc-choice.countyofmonterey.gov
SUMMARY:MC-CHOICE Unit
DESCRIPTION:
URL:https://mc-choice.countyofmonterey.gov/event/mc-choice-unit-every-wednesday/2026-09-30/
LOCATION:MC-CHOICE Unit\, WIC Office 632 E. Alisal St\, Salinas\, CA\, 93905
CATEGORIES:Outreach
END:VEVENT
BEGIN:VEVENT
DTSTART;TZID=America/Los_Angeles:20261007T090000
DTEND;TZID=America/Los_Angeles:20261007T160000
DTSTAMP:20260420T050155
CREATED:20251215T230936Z
LAST-MODIFIED:20260316T175014Z
UID:10000572-1791363600-1791388800@mc-choice.countyofmonterey.gov
SUMMARY:MC-CHOICE Unit
DESCRIPTION:
URL:https://mc-choice.countyofmonterey.gov/event/mc-choice-unit-every-wednesday/2026-10-07/
LOCATION:MC-CHOICE Unit\, WIC Office 632 E. Alisal St\, Salinas\, CA\, 93905
CATEGORIES:Outreach
END:VEVENT
BEGIN:VEVENT
DTSTART;TZID=America/Los_Angeles:20261014T090000
DTEND;TZID=America/Los_Angeles:20261014T160000
DTSTAMP:20260420T050155
CREATED:20251215T230936Z
LAST-MODIFIED:20260316T175014Z
UID:10000573-1791968400-1791993600@mc-choice.countyofmonterey.gov
SUMMARY:MC-CHOICE Unit
DESCRIPTION:
URL:https://mc-choice.countyofmonterey.gov/event/mc-choice-unit-every-wednesday/2026-10-14/
LOCATION:MC-CHOICE Unit\, WIC Office 632 E. Alisal St\, Salinas\, CA\, 93905
CATEGORIES:Outreach
END:VEVENT
BEGIN:VEVENT
DTSTART;TZID=America/Los_Angeles:20261021T090000
DTEND;TZID=America/Los_Angeles:20261021T160000
DTSTAMP:20260420T050155
CREATED:20251215T230936Z
LAST-MODIFIED:20260316T175014Z
UID:10000574-1792573200-1792598400@mc-choice.countyofmonterey.gov
SUMMARY:MC-CHOICE Unit
DESCRIPTION:
URL:https://mc-choice.countyofmonterey.gov/event/mc-choice-unit-every-wednesday/2026-10-21/
LOCATION:MC-CHOICE Unit\, WIC Office 632 E. Alisal St\, Salinas\, CA\, 93905
CATEGORIES:Outreach
END:VEVENT
BEGIN:VEVENT
DTSTART;TZID=America/Los_Angeles:20261028T090000
DTEND;TZID=America/Los_Angeles:20261028T160000
DTSTAMP:20260420T050155
CREATED:20251215T230936Z
LAST-MODIFIED:20260316T175014Z
UID:10000575-1793178000-1793203200@mc-choice.countyofmonterey.gov
SUMMARY:MC-CHOICE Unit
DESCRIPTION:
URL:https://mc-choice.countyofmonterey.gov/event/mc-choice-unit-every-wednesday/2026-10-28/
LOCATION:MC-CHOICE Unit\, WIC Office 632 E. Alisal St\, Salinas\, CA\, 93905
CATEGORIES:Outreach
END:VEVENT
BEGIN:VEVENT
DTSTART;TZID=America/Los_Angeles:20261104T090000
DTEND;TZID=America/Los_Angeles:20261104T160000
DTSTAMP:20260420T050155
CREATED:20251215T230936Z
LAST-MODIFIED:20260316T175014Z
UID:10000576-1793782800-1793808000@mc-choice.countyofmonterey.gov
SUMMARY:MC-CHOICE Unit
DESCRIPTION:
URL:https://mc-choice.countyofmonterey.gov/event/mc-choice-unit-every-wednesday/2026-11-04/
LOCATION:MC-CHOICE Unit\, WIC Office 632 E. Alisal St\, Salinas\, CA\, 93905
CATEGORIES:Outreach
END:VEVENT
BEGIN:VEVENT
DTSTART;TZID=America/Los_Angeles:20261111T090000
DTEND;TZID=America/Los_Angeles:20261111T160000
DTSTAMP:20260420T050155
CREATED:20251215T230936Z
LAST-MODIFIED:20260316T175014Z
UID:10000577-1794387600-1794412800@mc-choice.countyofmonterey.gov
SUMMARY:MC-CHOICE Unit
DESCRIPTION:
URL:https://mc-choice.countyofmonterey.gov/event/mc-choice-unit-every-wednesday/2026-11-11/
LOCATION:MC-CHOICE Unit\, WIC Office 632 E. Alisal St\, Salinas\, CA\, 93905
CATEGORIES:Outreach
END:VEVENT
END:VCALENDAR